BEGIN:VCALENDAR
VERSION:2.0
PRODID:-//Cascina Falchera - ECPv6.15.12.2//NONSGML v1.0//EN
CALSCALE:GREGORIAN
METHOD:PUBLISH
X-WR-CALNAME:Cascina Falchera
X-ORIGINAL-URL:https://cascinafalchera.it
X-WR-CALDESC:Eventi per Cascina Falchera
REFRESH-INTERVAL;VALUE=DURATION:PT1H
X-Robots-Tag:noindex
X-PUBLISHED-TTL:PT1H
BEGIN:VTIMEZONE
TZID:Europe/Rome
BEGIN:DAYLIGHT
TZOFFSETFROM:+0100
TZOFFSETTO:+0200
TZNAME:CEST
DTSTART:20220327T010000
END:DAYLIGHT
BEGIN:STANDARD
TZOFFSETFROM:+0200
TZOFFSETTO:+0100
TZNAME:CET
DTSTART:20221030T010000
END:STANDARD
BEGIN:DAYLIGHT
TZOFFSETFROM:+0100
TZOFFSETTO:+0200
TZNAME:CEST
DTSTART:20230326T010000
END:DAYLIGHT
BEGIN:STANDARD
TZOFFSETFROM:+0200
TZOFFSETTO:+0100
TZNAME:CET
DTSTART:20231029T010000
END:STANDARD
BEGIN:DAYLIGHT
TZOFFSETFROM:+0100
TZOFFSETTO:+0200
TZNAME:CEST
DTSTART:20240331T010000
END:DAYLIGHT
BEGIN:STANDARD
TZOFFSETFROM:+0200
TZOFFSETTO:+0100
TZNAME:CET
DTSTART:20241027T010000
END:STANDARD
END:VTIMEZONE
BEGIN:VEVENT
DTSTART;TZID=Europe/Rome:20230707T203000
DTEND;TZID=Europe/Rome:20230707T220000
DTSTAMP:20260423T091304
CREATED:20230529T093449Z
LAST-MODIFIED:20230703T183850Z
UID:371-1688761800-1688767200@cascinafalchera.it
SUMMARY:The Alpalachians\, progetto musicale di Alex Gariazzo\, Carlot-ta e Cecilia
DESCRIPTION:La ruvidezza delle Alpi Occidentali incontra l’immaginario degli Appalachi in questo progetto musicale nato dalla comune fascinazione di tre musicisti per il folk dell’America del Nord e per i suoi luoghi pieni di simboli. Le radici blues di Alex Gariazzo accolgono le atmosfere oscure di Carlot-ta e le melodie terse di Cecilia in un repertorio di riscoperta che intende attraversare l’infinito canzoniere americano\, raccoglierne alcune tracce e consegnarle ai linguaggi dell’alt-pop europeo e della musica d’autore. I suoni delle corde e del legno di chitarre e arpe\, ammorbiditi o inaspriti da organi\, fisarmoniche e pianoforti\, sorreggono le armonie delle voci in un divertissement che non ha certo la pretesa dell’appropriazione\, bensì lo spirito leggero e puro dell’esplorazione: un approccio diretto e ludico alla musica\, per ricordarci quanto possa essere divertente e profondo suonarla e ascoltarla\, evocando spazi lontani\, muovendo a sé anche le montagne. \nAlex Gariazzo: voce\, chitarra\, mandolino \nCarlot-ta: voce\, el. piano\, tastiere\, chitarra \nCecilia: voce\, arpa  \nAlex Gariazzo\, biellese\, dal 1995 è cantante e chitarrista della Treves Blues Band\, storico gruppo italiano con il quale ha all’attivo 8 album e centinaia di concerti in Italia e all’estero\, oltre a svariate partecipazioni radiofoniche e televisive e l’apertura dei concerti di  Bruce Springsteen\, Counting Crows\, Deep Purple\, ZZ Top\, John Mayall\, Charlie Musselwhite\, John Hammond e molti altri. Tiene seminari sul Blues e sul rapporto tra blues e popular music da solo o in compagnia di Fabio Treves. È coautore del libro “I 100 dischi ideali per capire il blues” (Ed. Riuniti\, 2001). Il Dizionario del Pop Rock di Zanichelli lo cita tra i migliori chitarristi blues italiani. \n  \nCarlot-ta (Vercelli\, 1990) è cantautrice e pianista. Ha all’attivo tre album di canzoni e più di 400 concerti in Italia e all’estero (MiTo Settembre Musica\, Premio Tenco\, Premio Ciampi\, JazzMi\, Auditorium Parco della Musica\, Liverpool Sound City\, Veneto Jazz\,\, Festival dei Due Mondi etc.) Le sue canzoni sono state utilizzate per campagne pubblicitarie e colonne sonore. Il suo secondo album\, Songs of Mountain Stream (2014)\, prodotto da Rob Ellis (Marianne Faithfull\, Pj Harvey etc.) è un disco dedicato alle Alpi. Murmure (2018)\, il suo ultimo lavoro discografico è un album di canzoni originali per organo a canne\, percussioni ed elettronica\, registrato tra Italia\, Svezia e Danimarca.  \n  \nCecilia è un’arpista e cantautrice torinese. L’Diplomata al Conservatorio di Torino\, ha conseguito il Master in Nuovi Linguaggi per l’arpa al Conservatorio di Milano. Ha pubblicato due album di canzoni – Guest (2015)\, Cupid’s Catalogue (2019) – e collezionato centinaia di concerti in Italia ed Europa\, suonando al fianco di Niccolò Fabi – come opening del tour estivo 2015 – e di Max Gazzè – come musicista al Festival di Sanremo 2018. Ha fatto parte del cast dello spettacolo teatrale Cantabile2 per un tour in Danimarca ed è autrice della colonna sonora della prima serie teatrale italiana 6Bianca\, prodotta dal Teatro Stabile di Torino in collaborazione con Scuola Holden. \n  \nCosto del concerto 5€ \nIl pagamento potrà essere effettuato direttamente prima dell’evento presso “Il Chioschetto”. \nPagamenti accettati: Contanti | Satispay | Carte \n  \n>>>>>PRENOTA<<<<<
URL:https://cascinafalchera.it/evento/the-alpaliachians/
LOCATION:Chioschetto – Cascina Falchera\, Strada Cuorgnè 109\, Torino
CATEGORIES:Chioschetto,Concerto,Tutti gli eventi
ATTACH;FMTTYPE=image/jpeg:https://cascinafalchera.it/wp-content/uploads/2023/05/001007768-5832d4f6-7990-4e3c-802b-616a22eac726.jpg
END:VEVENT
END:VCALENDAR