BEGIN:VCALENDAR
VERSION:2.0
PRODID:-//Cascina Falchera - ECPv6.15.12.2//NONSGML v1.0//EN
CALSCALE:GREGORIAN
METHOD:PUBLISH
X-ORIGINAL-URL:https://cascinafalchera.it
X-WR-CALDESC:Eventi per Cascina Falchera
REFRESH-INTERVAL;VALUE=DURATION:PT1H
X-Robots-Tag:noindex
X-PUBLISHED-TTL:PT1H
BEGIN:VTIMEZONE
TZID:Europe/Rome
BEGIN:DAYLIGHT
TZOFFSETFROM:+0100
TZOFFSETTO:+0200
TZNAME:CEST
DTSTART:20220327T010000
END:DAYLIGHT
BEGIN:STANDARD
TZOFFSETFROM:+0200
TZOFFSETTO:+0100
TZNAME:CET
DTSTART:20221030T010000
END:STANDARD
BEGIN:DAYLIGHT
TZOFFSETFROM:+0100
TZOFFSETTO:+0200
TZNAME:CEST
DTSTART:20230326T010000
END:DAYLIGHT
BEGIN:STANDARD
TZOFFSETFROM:+0200
TZOFFSETTO:+0100
TZNAME:CET
DTSTART:20231029T010000
END:STANDARD
BEGIN:DAYLIGHT
TZOFFSETFROM:+0100
TZOFFSETTO:+0200
TZNAME:CEST
DTSTART:20240331T010000
END:DAYLIGHT
BEGIN:STANDARD
TZOFFSETFROM:+0200
TZOFFSETTO:+0100
TZNAME:CET
DTSTART:20241027T010000
END:STANDARD
END:VTIMEZONE
BEGIN:VEVENT
DTSTART;TZID=Europe/Rome:20230729T100000
DTEND;TZID=Europe/Rome:20230729T120000
DTSTAMP:20260421T011911
CREATED:20230529T095049Z
LAST-MODIFIED:20230629T131727Z
UID:401-1690624800-1690632000@cascinafalchera.it
SUMMARY:Piccole grandi esplorazioni
DESCRIPTION:Piccoli scienziati nell’orto\nEsperienza che coinvolge bambine\, bambini e genitori in un’ esplorazione nei panni di scienziati e scienziate con le mani in pasta. Attraverso lenti d’ingrandimento\, micriscopi tradizionali e digitali si potrà osservare e analizzare la vegetazione presente nell’orto didattico. La missione sarà scoprire cosa c’è dentro le foglie\, di cosa sono fatti i sassi\, se i fili d’erba sono tutti uguali e soprattutto cosa si nasconde tra i fiori e la terra. Partendo da una visita libera si raccoglieranno materiali naturali per confrontarsi su ipotesi e domande aperte rispetto a quanto scoperto\, per poi passare all’utilizzo dei microscopi per andare a vedere da molto vicino cosa si nasconde in natura. \nLaboratorio didattico per famiglie fascia di età 3-8  \nPer la partecipazione ai laboratori per famiglie è sempre necessaria la presenza  di un adulto che accompagni i bambini. \n(l’attivazione del laboratorio avverrà al raggiungimento minimo dei partecipanti) \nPrenotazione obbligatoria \n>>> PRENOTA <<<\n(le prenotazioni dovranno avvenire entro giovedì 27 luglio) \nCosti  \nAdulto 10€\nBambina/Bambino 5 € \nIl pagamento potrà essere effettuato direttamente prima dell’evento presso “Il Chioschetto”. \nPagamenti accettati: Contanti | Satispay | Carte \n  \nN.B. Il laboratorio si svolgerà con un’adesione minima di 8 famiglie\, nel caso non si raggiungesse tale adesione verrà erogato uno solo dei laboratori previsti\, unendo i due gruppi ed erogando il laboratorio con la maggiore adesione ricevuta. \n 
URL:https://cascinafalchera.it/evento/piccole-grandi-esplorazioni-3/
LOCATION:Cascina Falchera\, Strada Cuorgnè 109\, Torino
CATEGORIES:Education - Famiglie,Tutti gli eventi
ATTACH;FMTTYPE=image/jpeg:https://cascinafalchera.it/wp-content/uploads/2023/05/PICCOLE-GRANDI-ESPLORAZIONI-e1685465087471.jpg
END:VEVENT
BEGIN:VEVENT
DTSTART;TZID=Europe/Rome:20230617T100000
DTEND;TZID=Europe/Rome:20230617T120000
DTSTAMP:20260421T011911
CREATED:20230529T092314Z
LAST-MODIFIED:20230606T061924Z
UID:347-1686996000-1687003200@cascinafalchera.it
SUMMARY:Piccole grandi esplorazioni
DESCRIPTION:Piccoli scienziati nell’orto\nEsperienza che coinvolge bambine\, bambini e genitori in un’ esplorazione nei panni di scienziati e scienziate con le mani in pasta. Attraverso lenti d’ingrandimento\, micriscopi tradizionali e digitali si potrà osservare e analizzare la vegetazione presente nell’orto didattico. La missione sarà scoprire cosa c’è dentro le foglie\, di cosa sono fatti i sassi\, se i fili d’erba sono tutti uguali e soprattutto cosa si nasconde tra i fiori e la terra. Partendo da una visita libera si raccoglieranno materiali naturali per confrontarsi su ipotesi e domande aperte rispetto a quanto scoperto\, per poi passare all’utilizzo dei microscopi per andare a vedere da molto vicino cosa si nasconde in natura. \nLaboratorio didattico per famiglie fascia di età 3-8  \nPer la partecipazione ai laboratori per famiglie è sempre necessaria la presenza  di un adulto che accompagni i bambini. \n(l’attivazione del laboratorio avverrà al raggiungimento minimo dei partecipanti) \nPrenotazione obbligatoria \n>>> PRENOTA <<<\n(le prenotazioni dovranno avvenire entro giovedì 15 giugno) \nCosti  \nAdulto 10€\nBambina/Bambino 5 € \nIl pagamento potrà essere effettuato direttamente prima dell’evento presso “Il Chioschetto”. \nPagamenti accettati:  Contanti | Satispay | Carte
URL:https://cascinafalchera.it/evento/piccole-grandi-esplorazioni/
LOCATION:Cascina Falchera\, Strada Cuorgnè 109\, Torino
CATEGORIES:Education - Famiglie,Tutti gli eventi
ATTACH;FMTTYPE=image/jpeg:https://cascinafalchera.it/wp-content/uploads/2023/05/PICCOLE-GRANDI-ESPLORAZIONI-e1685465087471.jpg
END:VEVENT
END:VCALENDAR