BEGIN:VCALENDAR
VERSION:2.0
PRODID:-//Cascina Falchera - ECPv6.15.12.2//NONSGML v1.0//EN
CALSCALE:GREGORIAN
METHOD:PUBLISH
X-ORIGINAL-URL:https://cascinafalchera.it
X-WR-CALDESC:Eventi per Cascina Falchera
REFRESH-INTERVAL;VALUE=DURATION:PT1H
X-Robots-Tag:noindex
X-PUBLISHED-TTL:PT1H
BEGIN:VTIMEZONE
TZID:Europe/Rome
BEGIN:DAYLIGHT
TZOFFSETFROM:+0100
TZOFFSETTO:+0200
TZNAME:CEST
DTSTART:20220327T010000
END:DAYLIGHT
BEGIN:STANDARD
TZOFFSETFROM:+0200
TZOFFSETTO:+0100
TZNAME:CET
DTSTART:20221030T010000
END:STANDARD
BEGIN:DAYLIGHT
TZOFFSETFROM:+0100
TZOFFSETTO:+0200
TZNAME:CEST
DTSTART:20230326T010000
END:DAYLIGHT
BEGIN:STANDARD
TZOFFSETFROM:+0200
TZOFFSETTO:+0100
TZNAME:CET
DTSTART:20231029T010000
END:STANDARD
BEGIN:DAYLIGHT
TZOFFSETFROM:+0100
TZOFFSETTO:+0200
TZNAME:CEST
DTSTART:20240331T010000
END:DAYLIGHT
BEGIN:STANDARD
TZOFFSETFROM:+0200
TZOFFSETTO:+0100
TZNAME:CET
DTSTART:20241027T010000
END:STANDARD
END:VTIMEZONE
BEGIN:VEVENT
DTSTART;TZID=Europe/Rome:20230708T170000
DTEND;TZID=Europe/Rome:20230708T180000
DTSTAMP:20260420T235938
CREATED:20230529T094014Z
LAST-MODIFIED:20230705T072255Z
UID:379-1688835600-1688839200@cascinafalchera.it
SUMMARY:Libri nel bosco
DESCRIPTION:Presentazione doppia degli autori Paolo Toso e Massimo Miro della casa editrice scritturapura \nPaolo Toso A mano aperta\nUn’educatrice viene aggredita all’interno della comunità di ex detenuti in cui lavora\, nella cascina alla periferia di Torino\, in piena zona Falchera.. Mentre lotta tra la vita e la morte\, il Pubblico Ministero cerca di far luce sulla vicenda: ha 48 ore di tempo per chiedere al giudice la convalida del fermo del ragazzo sospettato del delitto. Ma una serie di ostinati silenzi di fronte alle domande del magistrato sembra ostacolare il corso della giustizia.\nE se legalità e giustizia non fossero la stessa cosa?\nIl terzo avvincente giallo giudiziario del magistrato torinese. \nMassimo Miro La faglia\nTorino\, maggio 1978\, periferia nord di Torino\, sulle rive dello Stura. Cinque ragazzi\, cresciuti tra piccoli furti e scontri tra bande sulle strade che dividono i casermoni di cemento del loro quartiere\, decidono di passare alla Storia: porteranno via Aldo Moro dal covo in cui le Brigate Rosse lo tengono prigioniero.\nTorino\, luglio 2006. Gomez ne ha fatta di strada: è ingegnere\, ha una moglie\, una figlia e una villetta in Brianza. Eppure la sera della finale dei Mondiali\, quando l’Italia sta per scendere in campo contro la Francia\, anziché seduto sul divano davanti alla tv con una birra in mano\, è di nuovo in Borgo Stura.\nUna storia dal ritmo serratissimo\, una parabola vorticosa di giovani vite incompiute\, in lotta disperata per la salvezza. \n>>>Prenota<<<
URL:https://cascinafalchera.it/evento/presentazione-doppia/
LOCATION:Cascina Falchera\, Strada Cuorgnè 109\, Torino
CATEGORIES:Tutti gli eventi
ATTACH;FMTTYPE=image/jpeg:https://cascinafalchera.it/wp-content/uploads/2023/05/8-lug-libri-nel-bosco-2.jpg
END:VEVENT
END:VCALENDAR