BEGIN:VCALENDAR
VERSION:2.0
PRODID:-//Cascina Falchera - ECPv6.15.12.2//NONSGML v1.0//EN
CALSCALE:GREGORIAN
METHOD:PUBLISH
X-ORIGINAL-URL:https://cascinafalchera.it
X-WR-CALDESC:Eventi per Cascina Falchera
REFRESH-INTERVAL;VALUE=DURATION:PT1H
X-Robots-Tag:noindex
X-PUBLISHED-TTL:PT1H
BEGIN:VTIMEZONE
TZID:Europe/Rome
BEGIN:DAYLIGHT
TZOFFSETFROM:+0100
TZOFFSETTO:+0200
TZNAME:CEST
DTSTART:20220327T010000
END:DAYLIGHT
BEGIN:STANDARD
TZOFFSETFROM:+0200
TZOFFSETTO:+0100
TZNAME:CET
DTSTART:20221030T010000
END:STANDARD
BEGIN:DAYLIGHT
TZOFFSETFROM:+0100
TZOFFSETTO:+0200
TZNAME:CEST
DTSTART:20230326T010000
END:DAYLIGHT
BEGIN:STANDARD
TZOFFSETFROM:+0200
TZOFFSETTO:+0100
TZNAME:CET
DTSTART:20231029T010000
END:STANDARD
BEGIN:DAYLIGHT
TZOFFSETFROM:+0100
TZOFFSETTO:+0200
TZNAME:CEST
DTSTART:20240331T010000
END:DAYLIGHT
BEGIN:STANDARD
TZOFFSETFROM:+0200
TZOFFSETTO:+0100
TZNAME:CET
DTSTART:20241027T010000
END:STANDARD
END:VTIMEZONE
BEGIN:VEVENT
DTSTART;TZID=Europe/Rome:20230930T100000
DTEND;TZID=Europe/Rome:20230930T170000
DTSTAMP:20260420T234435
CREATED:20230830T091445Z
LAST-MODIFIED:20230830T091445Z
UID:891-1696068000-1696093200@cascinafalchera.it
SUMMARY:WATER SAVING CAMP | Diventa anche tu una gocciolina di Cascina Falchera
DESCRIPTION:Quale può essere il contributo di ciascunə di noi per salvaguardare le riserve idriche? Siamo davvero una goccia nel mare? E se più gocce si mettessero insieme\, quale potrebbe essere il loro potere di cambiare lo scenario attuale? \nSe hai tra i 15 e i 29 anni\, ti invitiamo a essere una di quelle gocce per il quartiere Falchera. \nSarai coinvoltə in azioni sul campo\, passeggiate di esplorazione urbana\, produzione di paesaggi sonori e progetti narrativi per creare una piccola comunità di attivatori di energie trasformative sul territorio. \nL’acqua è la prima risorsa naturale intorno a cui si sono sviluppate le città\, dal punto di vista geografico ed economico. Nonostante i continui cambiamenti del reticolato urbano\, resta il primo bene comune per le comunità. \nNelle sue prossimità si conserva una gran parte del patrimonio di biodiversità urbana\, che oggi è vitale salvaguardare e rinforzare. \nUna serie di workshop indaga attraverso quali azioni l’acqua può diventare uno strumento contro il cambiamento climatico\, un’infrastruttura sociale e una storia da raccontare. \nL’iscrizione* è gratuita tramite questo link \n>>>ISCRIVITI<<<\n30 Settembre | h 10 – 17 \n\nRaccontare le città e gli spazi: storie bellissime raccontate bene.\nLa Natura come protagonista: casi di trasformazioni urbane bellissime.\nL’acqua di Falchera_suono\, corpo\, paesaggio. Laboratorio di ideazione\, editing e montaggio di una traccia sonora con suoni ambientali\, a cura di Tecnologia Filosofica (Francesca Cinalli\, Paolo De Santis)\n\n*È gradita la partecipazione a tutto il ciclo di workshop (17 giugno\, 1 luglio\, 6\, 9 e 30 settembre)\, ma è possibile prendere parte anche ai singoli appuntamenti. \n  \nWATER SAVING CAMP\nDiventa anche tu una gocciolina di Cascina Falchera\na cura di NÈE storytelling 100% naturale (Elisa Campra\, Nicoletta Daldanise\, Elena Miglietti)\nall’interno di DESIRE The Irresistible Circular Society progetto faro del New European Bauhaus\, finanziato dall’Unione Europea nell’ambito del programma Horizon
URL:https://cascinafalchera.it/evento/water-saving-camp-diventa-anche-tu-una-gocciolina-di-cascina-falchera-3/
LOCATION:Cascina Falchera\, Strada Cuorgnè 109\, Torino
CATEGORIES:Education - Adulti
ATTACH;FMTTYPE=image/png:https://cascinafalchera.it/wp-content/uploads/2023/06/IMG_0012-2.png
END:VEVENT
BEGIN:VEVENT
DTSTART;TZID=Europe/Rome:20230909T100000
DTEND;TZID=Europe/Rome:20230909T133000
DTSTAMP:20260420T234435
CREATED:20230830T090002Z
LAST-MODIFIED:20230830T092824Z
UID:888-1694253600-1694266200@cascinafalchera.it
SUMMARY:WATER SAVING CAMP | Diventa anche tu una gocciolina di Cascina Falchera
DESCRIPTION:Quale può essere il contributo di ciascunə di noi per salvaguardare le riserve idriche? Siamo davvero una goccia nel mare? E se più gocce si mettessero insieme\, quale potrebbe essere il loro potere di cambiare lo scenario attuale? \nSe hai tra i 15 e i 29 anni\, ti invitiamo a essere una di quelle gocce per il quartiere Falchera. \nSarai coinvoltə in azioni sul campo\, passeggiate di esplorazione urbana\, produzione di paesaggi sonori e progetti narrativi per creare una piccola comunità di attivatori di energie trasformative sul territorio. \nL’acqua è la prima risorsa naturale intorno a cui si sono sviluppate le città\, dal punto di vista geografico ed economico. Nonostante i continui cambiamenti del reticolato urbano\, resta il primo bene comune per le comunità. \nNelle sue prossimità si conserva una gran parte del patrimonio di biodiversità urbana\, che oggi è vitale salvaguardare e rinforzare. \nUna serie di workshop indaga attraverso quali azioni l’acqua può diventare uno strumento contro il cambiamento climatico\, un’infrastruttura sociale e una storia da raccontare. \nL’iscrizione* è gratuita tramite questo link \n>>>ISCRIVITI<<<\n9 Settembre | h 10 – 13\,30 \n\nEsplorazione urbana sulle tracce dell’acqua attraverso Falchera\, tra orti urbani\, laghetti\, biblioteche e torèt. Durante la passeggiata\, un laboratorio di psicogeografia urbana ci aiuterà ad ascoltare il paesaggio e a immaginare come vorremmo vivere il quartiere.\n\nDiario di bordo in collaborazione con VOLCANO.nu \nSi consigliano scarpe comode\, cappellino e cellulare con auricolari. \n*È gradita la partecipazione a tutto il ciclo di workshop (17 giugno\, 1 luglio\, 6\, 9 e 30 settembre)\, ma è possibile prendere parte anche ai singoli appuntamenti. \n  \nWATER SAVING CAMP\nDiventa anche tu una gocciolina di Cascina Falchera\na cura di NÈE storytelling 100% naturale (Elisa Campra\, Nicoletta Daldanise\, Elena Miglietti)\nall’interno di DESIRE The Irresistible Circular Society progetto faro del New European Bauhaus\, finanziato dall’Unione Europea nell’ambito del programma Horizon
URL:https://cascinafalchera.it/evento/water-saving-camp-diventa-anche-tu-una-gocciolina-di-cascina-falchera-2/
LOCATION:Cascina Falchera\, Strada Cuorgnè 109\, Torino
CATEGORIES:Education - Adulti
ATTACH;FMTTYPE=image/png:https://cascinafalchera.it/wp-content/uploads/2023/06/IMG_0012-2.png
END:VEVENT
BEGIN:VEVENT
DTSTART;TZID=Europe/Rome:20230906T180000
DTEND;TZID=Europe/Rome:20230906T210000
DTSTAMP:20260420T234435
CREATED:20230828T110418Z
LAST-MODIFIED:20230830T090133Z
UID:884-1694023200-1694034000@cascinafalchera.it
SUMMARY:WATER SAVING CAMP | Diventa anche tu una gocciolina di Cascina Falchera
DESCRIPTION:Quale può essere il contributo di ciascunə di noi per salvaguardare le riserve idriche? Siamo davvero una goccia nel mare? E se più gocce si mettessero insieme\, quale potrebbe essere il loro potere di cambiare lo scenario attuale? \nSe hai tra i 15 e i 29 anni\, ti invitiamo a essere una di quelle gocce per il quartiere Falchera. \nSarai coinvoltə in azioni sul campo\, passeggiate di esplorazione urbana\, produzione di paesaggi sonori e progetti narrativi per creare una piccola comunità di attivatori di energie trasformative sul territorio. \nL’acqua è la prima risorsa naturale intorno a cui si sono sviluppate le città\, dal punto di vista geografico ed economico. Nonostante i continui cambiamenti del reticolato urbano\, resta il primo bene comune per le comunità. \nNelle sue prossimità si conserva una gran parte del patrimonio di biodiversità urbana\, che oggi è vitale salvaguardare e rinforzare. \nUna serie di workshop indaga attraverso quali azioni l’acqua può diventare uno strumento contro il cambiamento climatico\, un’infrastruttura sociale e una storia da raccontare. \nL’iscrizione* è gratuita tramite questo link \n>>>ISCRIVITI<<<\n6 settembre | h 18\,00 – 21\,00 \nCome si costruisce e come si racconta una storia? Laboratorio di storytelling sul campo \nA seguire cena con le verdure della serra acquaponica in collaborazione con Kallipolis APS e Comitato per lo Sviluppo della Falchera nell’ambito di DROP CITY\n*È gradita la partecipazione a tutto il ciclo di workshop (17 giugno\, 1 luglio\, 6\, 9 e 30 settembre)\, ma è possibile prendere parte anche ai singoli appuntamenti. \n  \nWATER SAVING CAMP\nDiventa anche tu una gocciolina di Cascina Falchera\na cura di NÈE storytelling 100% naturale (Elisa Campra\, Nicoletta Daldanise\, Elena Miglietti)\nall’interno di DESIRE The Irresistible Circular Society progetto faro del New European Bauhaus\, finanziato dall’Unione Europea nell’ambito del programma Horizon
URL:https://cascinafalchera.it/evento/water-saving-camp-diventa-anche-tu-una-gocciolina-di-cascina-falchera/
LOCATION:Cascina Falchera\, Strada Cuorgnè 109\, Torino
CATEGORIES:Education - Adulti
ATTACH;FMTTYPE=image/png:https://cascinafalchera.it/wp-content/uploads/2023/06/IMG_0012-2.png
END:VEVENT
BEGIN:VEVENT
DTSTART;TZID=Europe/Rome:20230701T100000
DTEND;TZID=Europe/Rome:20230701T150000
DTSTAMP:20260420T234435
CREATED:20230529T093022Z
LAST-MODIFIED:20230623T085905Z
UID:361-1688205600-1688223600@cascinafalchera.it
SUMMARY:WATER SAVING CAMP | Diventa anche tu una gocciolina di Cascina Falchera
DESCRIPTION:Quale può essere il contributo di ciascunə di noi per salvaguardare le riserve idriche? Siamo davvero una goccia nel mare? E se più gocce si mettessero insieme\, quale potrebbe essere il loro potere di cambiare lo scenario attuale? \nSe hai tra i 15 e i 29 anni\, ti invitiamo a essere una di quelle gocce per il quartiere Falchera. \nSarai coinvoltə in azioni sul campo\, passeggiate di esplorazione urbana\, produzione di paesaggi sonori e progetti narrativi per creare una piccola comunità di attivatori di energie trasformative sul territorio. \nL’acqua è la prima risorsa naturale intorno a cui si sono sviluppate le città\, dal punto di vista geografico ed economico. Nonostante i continui cambiamenti del reticolato urbano\, resta il primo bene comune per le comunità.  \nNelle sue prossimità si conserva una gran parte del patrimonio di biodiversità urbana\, che oggi è vitale salvaguardare e rinforzare.  \nUna serie di workshop indaga attraverso quali azioni l’acqua può diventare uno strumento contro il cambiamento climatico\, un’infrastruttura sociale e una storia da raccontare. \nL’iscrizione* è gratuita tramite questo link  \n>>>ISCRIVITI<<<\n1 Luglio | h 10 – 15 \n\nApplichiamo le NBS! Un nuovo spazio verde nel cortile di Cascina Falchera: workshop praticissimo di de-pavimentazione e messa a dimora di nuove piante (vestiti adatti al lavoro in giardino\, scarpe chiuse e cappellino!)\nCome fa l’acqua a creare relazioni sul territorio? Osservazione sul campo\n\n*È gradita la partecipazione a tutto il ciclo di workshop (17 giugno\, 1 luglio\, 9 e 30 settembre)\, ma è possibile prendere parte anche ai singoli appuntamenti. \n  \nWATER SAVING CAMP\nDiventa anche tu una gocciolina di Cascina Falchera\na cura di NÈE storytelling 100% naturale (Elisa Campra\, Nicoletta Daldanise\, Elena Miglietti)\nall’interno di DESIRE The Irresistible Circular Society progetto faro del New European Bauhaus\, finanziato dall’Unione Europea nell’ambito del programma Horizon
URL:https://cascinafalchera.it/evento/water-saving-camp-2/
LOCATION:Cascina Falchera\, Strada Cuorgnè 109\, Torino
CATEGORIES:Education - Adulti,Tutti gli eventi
ATTACH;FMTTYPE=image/png:https://cascinafalchera.it/wp-content/uploads/2023/06/IMG_0012-2.png
END:VEVENT
BEGIN:VEVENT
DTSTART;TZID=Europe/Rome:20230617T100000
DTEND;TZID=Europe/Rome:20230617T170000
DTSTAMP:20260420T234435
CREATED:20230529T092134Z
LAST-MODIFIED:20230614T151705Z
UID:343-1686996000-1687021200@cascinafalchera.it
SUMMARY:WATER SAVING CAMP | Diventa anche tu una gocciolina di Cascina Falchera
DESCRIPTION:Quale può essere il contributo di ciascunə di noi per salvaguardare le riserve idriche? Siamo davvero una goccia nel mare? E se più gocce si mettessero insieme\, quale potrebbe essere il loro potere di cambiare lo scenario attuale? \nSe hai tra i 15 e i 29 anni\, ti invitiamo a essere una di quelle gocce per il quartiere Falchera. \nSarai coinvoltə in azioni sul campo\, passeggiate di esplorazione urbana\, produzione di paesaggi sonori e progetti narrativi per creare una piccola comunità di attivatori di energie trasformative sul territorio. \nL’acqua è la prima risorsa naturale intorno a cui si sono sviluppate le città\, dal punto di vista geografico ed economico. Nonostante i continui cambiamenti del reticolato urbano\, resta il primo bene comune per le comunità.  \nNelle sue prossimità si conserva una gran parte del patrimonio di biodiversità urbana\, che oggi è vitale salvaguardare e rinforzare.  \nUna serie di workshop indaga attraverso quali azioni l’acqua può diventare uno strumento contro il cambiamento climatico\, un’infrastruttura sociale e una storia da raccontare. \nL’iscrizione* è gratuita tramite questo link >>>ISCRIVITI<<<\n17 Giugno | h 10 – 17 \n\nPresentazione del programma di workshop\nLa storia di questo Water Saving Camp la dobbiamo proprio raccontare\, ma come si costruisce e come si racconta una storia? Un workshop leggero che\, in chiave pop\, pone le basi del narrare che sia scrivere su un foglio bianco\, pubblicare un post sui social o mandare un audio\, le regole sono le stesse. Se poi c’è la musica è anche meglio.\nLa Natura che trasforma la città. Le NBS (Nature Based Solutions): piante ed altri amici che ci aiutano a vivere meglio.\n\n*È gradita la partecipazione a tutto il ciclo di workshop (17 giugno\, 1 luglio\, 9 e 30 settembre)\, ma è possibile prendere parte anche ai singoli appuntamenti. \n  \nWATER SAVING CAMP\nDiventa anche tu una gocciolina di Cascina Falchera\na cura di NÈE storytelling 100% naturale (Elisa Campra\, Nicoletta Daldanise\, Elena Miglietti)\nall’interno di DESIRE The Irresistible Circular Society progetto faro del New European Bauhaus\, finanziato dall’Unione Europea nell’ambito del programma Horizon \n  \n 
URL:https://cascinafalchera.it/evento/water-saving-camp/
CATEGORIES:Education - Adulti,Tutti gli eventi
ATTACH;FMTTYPE=image/jpeg:https://cascinafalchera.it/wp-content/uploads/2023/05/WhatsApp-Image-2023-06-14-at-15.40.09.jpeg
END:VEVENT
BEGIN:VEVENT
DTSTART;TZID=Europe/Rome:20230609T173000
DTEND;TZID=Europe/Rome:20230609T190000
DTSTAMP:20260420T234435
CREATED:20230529T090515Z
LAST-MODIFIED:20230602T114904Z
UID:329-1686331800-1686337200@cascinafalchera.it
SUMMARY:Giocare in serra: Scopriamo insieme l'idroponica
DESCRIPTION:Scopriamo insieme l’idroponica\nLe serre non sono tutte uguali e questa in particolare ospita al suo interno diversi abitanti. Piante e pesci sono buoni coinquilini e si aiutano a vicenda. Si tratta di una serra acquaponica\, un tipo di agricoltura mista ad allevamento sostenibile basata su una combinazione di acquacoltura e coltivazione idroponica\, che ha come obiettivo quello di ottenere un ambiente simbiotico. E’ più facile a vederlo e toccare con mano che a raccontarlo. L’esperienza prevede la visita alla serra e un laboratorio per conoscerne il funzionamento con un linguaggio accessibile a tutte e tutti che mette al centro manualità e scoperta attraverso il fare. \nLaboratorio didattico per famiglie fascia di età 3-10 in collaborazione con Drop City \nPer la partecipazione ai laboratori per famiglie è sempre necessaria la presenza  di un adulto che accompagni i bambini. \n(l’attivazione del laboratorio avverrà al raggiungimento minimo dei partecipanti) \nPrenotazione obbligatoria \n>>> PRENOTA <<<\n(le prenotazioni dovranno avvenire entro giovedì 8 giugno) \nCosti  \nGratuito
URL:https://cascinafalchera.it/evento/giocare-in-serra-scopriamo-insieme-lidroponica/
LOCATION:Cascina Falchera\, Strada Cuorgnè 109\, Torino
CATEGORIES:Education - Famiglie,Tutti gli eventi
ATTACH;FMTTYPE=image/jpeg:https://cascinafalchera.it/wp-content/uploads/2023/05/ACQUAPONICA-TEMPORANEA-1-scaled-e1685464219104.jpg
END:VEVENT
END:VCALENDAR