BEGIN:VCALENDAR
VERSION:2.0
PRODID:-//Cascina Falchera - ECPv6.15.12.2//NONSGML v1.0//EN
CALSCALE:GREGORIAN
METHOD:PUBLISH
X-ORIGINAL-URL:https://cascinafalchera.it
X-WR-CALDESC:Eventi per Cascina Falchera
REFRESH-INTERVAL;VALUE=DURATION:PT1H
X-Robots-Tag:noindex
X-PUBLISHED-TTL:PT1H
BEGIN:VTIMEZONE
TZID:Europe/Rome
BEGIN:DAYLIGHT
TZOFFSETFROM:+0100
TZOFFSETTO:+0200
TZNAME:CEST
DTSTART:20230326T010000
END:DAYLIGHT
BEGIN:STANDARD
TZOFFSETFROM:+0200
TZOFFSETTO:+0100
TZNAME:CET
DTSTART:20231029T010000
END:STANDARD
BEGIN:DAYLIGHT
TZOFFSETFROM:+0100
TZOFFSETTO:+0200
TZNAME:CEST
DTSTART:20240331T010000
END:DAYLIGHT
BEGIN:STANDARD
TZOFFSETFROM:+0200
TZOFFSETTO:+0100
TZNAME:CET
DTSTART:20241027T010000
END:STANDARD
BEGIN:DAYLIGHT
TZOFFSETFROM:+0100
TZOFFSETTO:+0200
TZNAME:CEST
DTSTART:20250330T010000
END:DAYLIGHT
BEGIN:STANDARD
TZOFFSETFROM:+0200
TZOFFSETTO:+0100
TZNAME:CET
DTSTART:20251026T010000
END:STANDARD
END:VTIMEZONE
BEGIN:VEVENT
DTSTART;TZID=Europe/Rome:20240622T103000
DTEND;TZID=Europe/Rome:20240622T123000
DTSTAMP:20260423T044505
CREATED:20240530T140747Z
LAST-MODIFIED:20240530T140747Z
UID:2409-1719052200-1719059400@cascinafalchera.it
SUMMARY:Equilibri in Natura
DESCRIPTION:Trovare un equilibrio in natura è l’obiettivo di questa proposta che mette al centro la relazione di bambine e bambini con alberi\, piante e spazio verde attraverso giochi di cooperazione con corde\, incastri\, bilance sospese agli alberi e giochi in legno artigianali. Trovare nuovi equilibri insieme per stare bene nel verde! \nLaboratorio didattico per famiglie \n(l’attivazione del laboratorio avverrà al raggiungimento minimo dei partecipanti) \nPer la partecipazione ai laboratori per famiglie è sempre necessaria la presenza  di un adulto che accompagni i bambini. \nPrenotazione obbligatoria \n>> PRENOTA <<\n(le prenotazioni dovranno avvenire entro giovedì 20 giugno) \nCosti \nAdulto 10€\nBambina/Bambino 5 € \nIl pagamento potrà essere effettuato direttamente prima dell’evento presso “Il Chioschetto”. \nPagamenti accettati: Contanti | Satispay | Carte
URL:https://cascinafalchera.it/evento/equilibri-in-natura/
LOCATION:Cascina Falchera\, Strada Cuorgnè 109\, Torino
CATEGORIES:Education - Famiglie,Tutti gli eventi
ATTACH;FMTTYPE=image/jpeg:https://cascinafalchera.it/wp-content/uploads/2023/05/Caccia-al-fagiolo-nellorto-2-scaled-e1685463895668.jpg
END:VEVENT
END:VCALENDAR