BEGIN:VCALENDAR
VERSION:2.0
PRODID:-//Cascina Falchera - ECPv6.15.12.2//NONSGML v1.0//EN
CALSCALE:GREGORIAN
METHOD:PUBLISH
X-WR-CALNAME:Cascina Falchera
X-ORIGINAL-URL:https://cascinafalchera.it
X-WR-CALDESC:Eventi per Cascina Falchera
REFRESH-INTERVAL;VALUE=DURATION:PT1H
X-Robots-Tag:noindex
X-PUBLISHED-TTL:PT1H
BEGIN:VTIMEZONE
TZID:Europe/Rome
BEGIN:DAYLIGHT
TZOFFSETFROM:+0100
TZOFFSETTO:+0200
TZNAME:CEST
DTSTART:20230326T010000
END:DAYLIGHT
BEGIN:STANDARD
TZOFFSETFROM:+0200
TZOFFSETTO:+0100
TZNAME:CET
DTSTART:20231029T010000
END:STANDARD
BEGIN:DAYLIGHT
TZOFFSETFROM:+0100
TZOFFSETTO:+0200
TZNAME:CEST
DTSTART:20240331T010000
END:DAYLIGHT
BEGIN:STANDARD
TZOFFSETFROM:+0200
TZOFFSETTO:+0100
TZNAME:CET
DTSTART:20241027T010000
END:STANDARD
BEGIN:DAYLIGHT
TZOFFSETFROM:+0100
TZOFFSETTO:+0200
TZNAME:CEST
DTSTART:20250330T010000
END:DAYLIGHT
BEGIN:STANDARD
TZOFFSETFROM:+0200
TZOFFSETTO:+0100
TZNAME:CET
DTSTART:20251026T010000
END:STANDARD
END:VTIMEZONE
BEGIN:VEVENT
DTSTART;TZID=Europe/Rome:20240613T180000
DTEND;TZID=Europe/Rome:20240613T190000
DTSTAMP:20260422T164706
CREATED:20240529T094451Z
LAST-MODIFIED:20240612T131207Z
UID:2376-1718301600-1718305200@cascinafalchera.it
SUMMARY:Concerto per cornamusa e giramondo con Maurizio Serafini
DESCRIPTION:Presentazione del libro Concerto per cornamusa e giramondo di Maurizio Serafini pubblicato per Terre di mezzo editore. \n” \nCi chiamano boomers\, i ragazzi della generazione internet e cellulari. Ci etichettano in modo dispregiativo\, legandoci al periodo spensierato del boom economico italiano. Pensano che non comprendiamo la modernità\, siamo tecnologicamente arretrati\, con riferimenti culturali obsoleti e una comicità superata. Nostalgici dei sapori campagnoli e egocentrici\, sembriamo incapaci di conformarci. Tuttavia\, siamo più concreti\, basando la nostra conoscenza sull’esperienza diretta. Siamo cresciuti giocando all’aperto\, comunicando di persona\, leggendo libri e camminando fino alla biblioteca. Amavamo essere unici\, esaltati dai pensieri divergenti e dalle vite irregolari. \nQuesto libro è una memoria di quel periodo che lasciava spazio alla fantasia e all’immaginazione. Da giovani ribelli\, esploravamo il mondo con fiducia e sfrontatezza\, ogni incontro e scelta erano cruciali. Il mio più grande amore fu la musica. Ascoltare vinili per ore è stato il mio viaggio senza ritorno. Investivamo in impianti hi-fi e dischi\, preferendo l’ascolto comunitario nelle soffitte con gli amici\, ascoltando rock e folk. Il libro racconta la mia folgorazione per il folk nordico e il percorso musicale che mi ha portato a fondare il Montelago Celtic Festival\, creando una comunità internazionale di artisti. \nL’obiettivo del libro è far percepire la musica che ha influenzato questa vicenda\, con una colonna sonora di parole e un QR Code per scaricare otto brani originali. Durante la pandemia\, abbiamo continuato a condividere musica da casa\, mantenendo viva la connessione. Ma il digitale non può sostituire il calore degli abbracci e l’energia dei concerti dal vivo\, raccontati in queste pagine. \nBuona lettura e buon ascolto.”
URL:https://cascinafalchera.it/evento/concerto-per-cornamusa-e-giramondo-con-maurizio-serafini/
LOCATION:Cascina Falchera\, Strada Cuorgnè 109\, Torino
CATEGORIES:Estate in cascina,Presentazione,Tutti gli eventi
ATTACH;FMTTYPE=image/jpeg:https://cascinafalchera.it/wp-content/uploads/2024/05/WhatsApp-Image-2024-05-28-at-13.30.53.jpeg
END:VEVENT
END:VCALENDAR