BEGIN:VCALENDAR
VERSION:2.0
PRODID:-//Cascina Falchera - ECPv6.15.12.2//NONSGML v1.0//EN
CALSCALE:GREGORIAN
METHOD:PUBLISH
X-ORIGINAL-URL:https://cascinafalchera.it
X-WR-CALDESC:Eventi per Cascina Falchera
REFRESH-INTERVAL;VALUE=DURATION:PT1H
X-Robots-Tag:noindex
X-PUBLISHED-TTL:PT1H
BEGIN:VTIMEZONE
TZID:Europe/Rome
BEGIN:DAYLIGHT
TZOFFSETFROM:+0100
TZOFFSETTO:+0200
TZNAME:CEST
DTSTART:20230326T010000
END:DAYLIGHT
BEGIN:STANDARD
TZOFFSETFROM:+0200
TZOFFSETTO:+0100
TZNAME:CET
DTSTART:20231029T010000
END:STANDARD
BEGIN:DAYLIGHT
TZOFFSETFROM:+0100
TZOFFSETTO:+0200
TZNAME:CEST
DTSTART:20240331T010000
END:DAYLIGHT
BEGIN:STANDARD
TZOFFSETFROM:+0200
TZOFFSETTO:+0100
TZNAME:CET
DTSTART:20241027T010000
END:STANDARD
BEGIN:DAYLIGHT
TZOFFSETFROM:+0100
TZOFFSETTO:+0200
TZNAME:CEST
DTSTART:20250330T010000
END:DAYLIGHT
BEGIN:STANDARD
TZOFFSETFROM:+0200
TZOFFSETTO:+0100
TZNAME:CET
DTSTART:20251026T010000
END:STANDARD
END:VTIMEZONE
BEGIN:VEVENT
DTSTART;TZID=Europe/Rome:20240611T153000
DTEND;TZID=Europe/Rome:20240611T173000
DTSTAMP:20260420T123642
CREATED:20240305T142930Z
LAST-MODIFIED:20240305T142930Z
UID:1711-1718119800-1718127000@cascinafalchera.it
SUMMARY:Laboratorio di Teatro Sociale Progetto GuidAbilità
DESCRIPTION:Laboratorio di teatro sociale a Cascina Falchera per ragazzi dai 16 ai 28 anni! \ndal 5 Marzo all’11 Giugno tutti i Martedì pomeriggio | ore 15.30 – 17.30 \nl laboratorio è completamente gratuito e nasce nell’ambito del progetto GuidAbilità promosso da ACSI con l’obiettivo di incentivare l’integrazione e l’inclusione a livello sociale e di valorizzare e far conoscere i beni artistici e culturali del nostro territorio. \n>>Scopri come partecipare<<
URL:https://cascinafalchera.it/evento/laboratorio-di-teatro-sociale-progetto-guidabilita-15/
LOCATION:Cascina Falchera\, Strada Cuorgnè 109\, Torino
CATEGORIES:Education - Famiglie,Tutti gli eventi
ATTACH;FMTTYPE=image/jpeg:https://cascinafalchera.it/wp-content/uploads/2024/03/TeatroSociale.jpg
END:VEVENT
BEGIN:VEVENT
DTSTART;TZID=Europe/Rome:20240604T153000
DTEND;TZID=Europe/Rome:20240604T173000
DTSTAMP:20260420T123642
CREATED:20240305T142817Z
LAST-MODIFIED:20240305T142817Z
UID:1709-1717515000-1717522200@cascinafalchera.it
SUMMARY:Laboratorio di Teatro Sociale Progetto GuidAbilità
DESCRIPTION:Laboratorio di teatro sociale a Cascina Falchera per ragazzi dai 16 ai 28 anni! \n tutti i Martedì pomeriggio | ore 15.30 – 17.30 \nl laboratorio è completamente gratuito e nasce nell’ambito del progetto GuidAbilità promosso da ACSI con l’obiettivo di incentivare l’integrazione e l’inclusione a livello sociale e di valorizzare e far conoscere i beni artistici e culturali del nostro territorio. \n>>Scopri come partecipare<<
URL:https://cascinafalchera.it/evento/laboratorio-di-teatro-sociale-progetto-guidabilita-14/
LOCATION:Cascina Falchera\, Strada Cuorgnè 109\, Torino
CATEGORIES:Education - Famiglie
ATTACH;FMTTYPE=image/jpeg:https://cascinafalchera.it/wp-content/uploads/2024/03/TeatroSociale.jpg
END:VEVENT
BEGIN:VEVENT
DTSTART;TZID=Europe/Rome:20240529T153000
DTEND;TZID=Europe/Rome:20240529T173000
DTSTAMP:20260420T123642
CREATED:20240305T142628Z
LAST-MODIFIED:20240305T142637Z
UID:1707-1716996600-1717003800@cascinafalchera.it
SUMMARY:Laboratorio di Teatro Sociale Progetto GuidAbilità
DESCRIPTION:Laboratorio di teatro sociale a Cascina Falchera per ragazzi dai 16 ai 28 anni! \ndal 5 Marzo all’11 Giugno tutti i Martedì pomeriggio | ore 15.30 – 17.30 \nl laboratorio è completamente gratuito e nasce nell’ambito del progetto GuidAbilità promosso da ACSI con l’obiettivo di incentivare l’integrazione e l’inclusione a livello sociale e di valorizzare e far conoscere i beni artistici e culturali del nostro territorio. \n>>Scopri come partecipare<<
URL:https://cascinafalchera.it/evento/laboratorio-di-teatro-sociale-progetto-guidabilita-13/
LOCATION:Cascina Falchera\, Strada Cuorgnè 109\, Torino
CATEGORIES:Education - Famiglie
ATTACH;FMTTYPE=image/jpeg:https://cascinafalchera.it/wp-content/uploads/2024/03/TeatroSociale.jpg
END:VEVENT
BEGIN:VEVENT
DTSTART;TZID=Europe/Rome:20240522T153000
DTEND;TZID=Europe/Rome:20240522T173000
DTSTAMP:20260420T123642
CREATED:20240305T142523Z
LAST-MODIFIED:20240305T142523Z
UID:1705-1716391800-1716399000@cascinafalchera.it
SUMMARY:Laboratorio di Teatro Sociale Progetto GuidAbilità
DESCRIPTION:Laboratorio di teatro sociale a Cascina Falchera per ragazzi dai 16 ai 28 anni! \ndal 5 Marzo all’11 Giugno tutti i Martedì pomeriggio | ore 15.30 – 17.30 \nl laboratorio è completamente gratuito e nasce nell’ambito del progetto GuidAbilità promosso da ACSI con l’obiettivo di incentivare l’integrazione e l’inclusione a livello sociale e di valorizzare e far conoscere i beni artistici e culturali del nostro territorio. \n>>Scopri come partecipare<<
URL:https://cascinafalchera.it/evento/laboratorio-di-teatro-sociale-progetto-guidabilita-12/
LOCATION:Cascina Falchera\, Strada Cuorgnè 109\, Torino
CATEGORIES:Education - Famiglie
ATTACH;FMTTYPE=image/jpeg:https://cascinafalchera.it/wp-content/uploads/2024/03/TeatroSociale.jpg
END:VEVENT
BEGIN:VEVENT
DTSTART;TZID=Europe/Rome:20240515T153000
DTEND;TZID=Europe/Rome:20240515T173000
DTSTAMP:20260420T123642
CREATED:20240305T142402Z
LAST-MODIFIED:20240305T142402Z
UID:1703-1715787000-1715794200@cascinafalchera.it
SUMMARY:Laboratorio di Teatro Sociale Progetto GuidAbilità
DESCRIPTION:Laboratorio di teatro sociale a Cascina Falchera per ragazzi dai 16 ai 28 anni! \ndal 5 Marzo all’11 Giugno tutti i Martedì pomeriggio | ore 15.30 – 17.30 \nl laboratorio è completamente gratuito e nasce nell’ambito del progetto GuidAbilità promosso da ACSI con l’obiettivo di incentivare l’integrazione e l’inclusione a livello sociale e di valorizzare e far conoscere i beni artistici e culturali del nostro territorio. \n>>Scopri come partecipare<<
URL:https://cascinafalchera.it/evento/laboratorio-di-teatro-sociale-progetto-guidabilita-11/
LOCATION:Cascina Falchera\, Strada Cuorgnè 109\, Torino
CATEGORIES:Education - Famiglie
ATTACH;FMTTYPE=image/jpeg:https://cascinafalchera.it/wp-content/uploads/2024/03/TeatroSociale.jpg
END:VEVENT
BEGIN:VEVENT
DTSTART;TZID=Europe/Rome:20240508T153000
DTEND;TZID=Europe/Rome:20240508T173000
DTSTAMP:20260420T123642
CREATED:20240305T142133Z
LAST-MODIFIED:20240305T142207Z
UID:1701-1715182200-1715189400@cascinafalchera.it
SUMMARY:Laboratorio di Teatro Sociale Progetto GuidAbilità
DESCRIPTION:Laboratorio di teatro sociale a Cascina Falchera per ragazzi dai 16 ai 28 anni! \ndal 5 Marzo all’11 Giugno tutti i Martedì pomeriggio | ore 15.30 – 17.30 \nl laboratorio è completamente gratuito e nasce nell’ambito del progetto GuidAbilità promosso da ACSI con l’obiettivo di incentivare l’integrazione e l’inclusione a livello sociale e di valorizzare e far conoscere i beni artistici e culturali del nostro territorio. \n>>Scopri come partecipare<<
URL:https://cascinafalchera.it/evento/laboratorio-di-teatro-sociale-progetto-guidabilita-10/
CATEGORIES:Education - Famiglie
ATTACH;FMTTYPE=image/jpeg:https://cascinafalchera.it/wp-content/uploads/2024/03/TeatroSociale.jpg
END:VEVENT
BEGIN:VEVENT
DTSTART;TZID=Europe/Rome:20240430T153000
DTEND;TZID=Europe/Rome:20240430T173000
DTSTAMP:20260420T123642
CREATED:20240305T142039Z
LAST-MODIFIED:20240305T142039Z
UID:1699-1714491000-1714498200@cascinafalchera.it
SUMMARY:Laboratorio di Teatro Sociale Progetto GuidAbilità
DESCRIPTION:Laboratorio di teatro sociale a Cascina Falchera per ragazzi dai 16 ai 28 anni! \ndal 5 Marzo all’11 Giugno tutti i Martedì pomeriggio | ore 15.30 – 17.30 \nl laboratorio è completamente gratuito e nasce nell’ambito del progetto GuidAbilità promosso da ACSI con l’obiettivo di incentivare l’integrazione e l’inclusione a livello sociale e di valorizzare e far conoscere i beni artistici e culturali del nostro territorio. \n>>Scopri come partecipare<<
URL:https://cascinafalchera.it/evento/laboratorio-di-teatro-sociale-progetto-guidabilita-9/
LOCATION:Cascina Falchera\, Strada Cuorgnè 109\, Torino
CATEGORIES:Education - Famiglie
ATTACH;FMTTYPE=image/jpeg:https://cascinafalchera.it/wp-content/uploads/2024/03/TeatroSociale.jpg
END:VEVENT
BEGIN:VEVENT
DTSTART;TZID=Europe/Rome:20240423T153000
DTEND;TZID=Europe/Rome:20240423T173000
DTSTAMP:20260420T123642
CREATED:20240305T141922Z
LAST-MODIFIED:20240305T141922Z
UID:1697-1713886200-1713893400@cascinafalchera.it
SUMMARY:Laboratorio di Teatro Sociale Progetto GuidAbilità
DESCRIPTION:Laboratorio di teatro sociale a Cascina Falchera per ragazzi dai 16 ai 28 anni! \ndal 5 Marzo all’11 Giugno tutti i Martedì pomeriggio | ore 15.30 – 17.30 \nl laboratorio è completamente gratuito e nasce nell’ambito del progetto GuidAbilità promosso da ACSI con l’obiettivo di incentivare l’integrazione e l’inclusione a livello sociale e di valorizzare e far conoscere i beni artistici e culturali del nostro territorio. \n>>Scopri come partecipare<<
URL:https://cascinafalchera.it/evento/laboratorio-di-teatro-sociale-progetto-guidabilita-8/
LOCATION:Cascina Falchera\, Strada Cuorgnè 109\, Torino
CATEGORIES:Education - Famiglie
ATTACH;FMTTYPE=image/jpeg:https://cascinafalchera.it/wp-content/uploads/2024/03/TeatroSociale.jpg
END:VEVENT
BEGIN:VEVENT
DTSTART;TZID=Europe/Rome:20240416T153000
DTEND;TZID=Europe/Rome:20240416T173000
DTSTAMP:20260420T123642
CREATED:20240305T141745Z
LAST-MODIFIED:20240305T141745Z
UID:1695-1713281400-1713288600@cascinafalchera.it
SUMMARY:Laboratorio di Teatro Sociale Progetto GuidAbilità
DESCRIPTION:Laboratorio di teatro sociale a Cascina Falchera per ragazzi dai 16 ai 28 anni! \ndal 5 Marzo all’11 Giugno tutti i Martedì pomeriggio | ore 15.30 – 17.30 \nl laboratorio è completamente gratuito e nasce nell’ambito del progetto GuidAbilità promosso da ACSI con l’obiettivo di incentivare l’integrazione e l’inclusione a livello sociale e di valorizzare e far conoscere i beni artistici e culturali del nostro territorio. \n>>Scopri come partecipare<<
URL:https://cascinafalchera.it/evento/laboratorio-di-teatro-sociale-progetto-guidabilita-7/
LOCATION:Cascina Falchera\, Strada Cuorgnè 109\, Torino
CATEGORIES:Education - Famiglie
ATTACH;FMTTYPE=image/jpeg:https://cascinafalchera.it/wp-content/uploads/2024/03/TeatroSociale.jpg
END:VEVENT
BEGIN:VEVENT
DTSTART;TZID=Europe/Rome:20240409T080000
DTEND;TZID=Europe/Rome:20240409T170000
DTSTAMP:20260420T123642
CREATED:20240305T141609Z
LAST-MODIFIED:20240305T141609Z
UID:1693-1712649600-1712682000@cascinafalchera.it
SUMMARY:Laboratorio di Teatro Sociale Progetto GuidAbilità
DESCRIPTION:Laboratorio di teatro sociale a Cascina Falchera per ragazzi dai 16 ai 28 anni! \ntutti i Martedì pomeriggio | ore 15.30 – 17.30 \nl laboratorio è completamente gratuito e nasce nell’ambito del progetto GuidAbilità promosso da ACSI con l’obiettivo di incentivare l’integrazione e l’inclusione a livello sociale e di valorizzare e far conoscere i beni artistici e culturali del nostro territorio. \n>>Scopri come partecipare<<
URL:https://cascinafalchera.it/evento/laboratorio-di-teatro-sociale-progetto-guidabilita-6/
LOCATION:Cascina Falchera\, Strada Cuorgnè 109\, Torino
CATEGORIES:Education - Famiglie
ATTACH;FMTTYPE=image/jpeg:https://cascinafalchera.it/wp-content/uploads/2024/03/TeatroSociale.jpg
END:VEVENT
BEGIN:VEVENT
DTSTART;TZID=Europe/Rome:20240402T153000
DTEND;TZID=Europe/Rome:20240402T173000
DTSTAMP:20260420T123642
CREATED:20240305T141441Z
LAST-MODIFIED:20240305T141441Z
UID:1691-1712071800-1712079000@cascinafalchera.it
SUMMARY:Laboratorio di Teatro Sociale Progetto GuidAbilità
DESCRIPTION:Laboratorio di teatro sociale a Cascina Falchera per ragazzi dai 16 ai 28 anni! \ndal 5 Marzo all’11 Giugno tutti i Martedì pomeriggio | ore 15.30 – 17.30 \nl laboratorio è completamente gratuito e nasce nell’ambito del progetto GuidAbilità promosso da ACSI con l’obiettivo di incentivare l’integrazione e l’inclusione a livello sociale e di valorizzare e far conoscere i beni artistici e culturali del nostro territorio. \n>>Scopri come partecipare<<
URL:https://cascinafalchera.it/evento/laboratorio-di-teatro-sociale-progetto-guidabilita-5/
LOCATION:Cascina Falchera\, Strada Cuorgnè 109\, Torino
CATEGORIES:Education - Famiglie
ATTACH;FMTTYPE=image/jpeg:https://cascinafalchera.it/wp-content/uploads/2024/03/TeatroSociale.jpg
END:VEVENT
BEGIN:VEVENT
DTSTART;TZID=Europe/Rome:20240326T153000
DTEND;TZID=Europe/Rome:20240326T173000
DTSTAMP:20260420T123642
CREATED:20240305T141138Z
LAST-MODIFIED:20240305T141319Z
UID:1689-1711467000-1711474200@cascinafalchera.it
SUMMARY:Laboratorio di Teatro Sociale Progetto GuidAbilità
DESCRIPTION:Laboratorio di teatro sociale a Cascina Falchera per ragazzi dai 16 ai 28 anni! \ndal 5 Marzo all’11 Giugno tutti i Martedì pomeriggio | ore 15.30 – 17.30 \nl laboratorio è completamente gratuito e nasce nell’ambito del progetto GuidAbilità promosso da ACSI con l’obiettivo di incentivare l’integrazione e l’inclusione a livello sociale e di valorizzare e far conoscere i beni artistici e culturali del nostro territorio. \n>>Scopri come partecipare<<
URL:https://cascinafalchera.it/evento/laboratorio-di-teatro-sociale-progetto-guidabilita-4/
CATEGORIES:Education - Famiglie
ATTACH;FMTTYPE=image/jpeg:https://cascinafalchera.it/wp-content/uploads/2024/03/TeatroSociale.jpg
END:VEVENT
BEGIN:VEVENT
DTSTART;TZID=Europe/Rome:20240319T153000
DTEND;TZID=Europe/Rome:20240319T173000
DTSTAMP:20260420T123642
CREATED:20240305T141030Z
LAST-MODIFIED:20240305T141030Z
UID:1686-1710862200-1710869400@cascinafalchera.it
SUMMARY:Laboratorio di Teatro Sociale Progetto GuidAbilità
DESCRIPTION:Laboratorio di teatro sociale a Cascina Falchera per ragazzi dai 16 ai 28 anni! \ndal 5 Marzo all’11 Giugno tutti i Martedì pomeriggio | ore 15.30 – 17.30 \nl laboratorio è completamente gratuito e nasce nell’ambito del progetto GuidAbilità promosso da ACSI con l’obiettivo di incentivare l’integrazione e l’inclusione a livello sociale e di valorizzare e far conoscere i beni artistici e culturali del nostro territorio. \n>>Scopri come partecipare<<
URL:https://cascinafalchera.it/evento/laboratorio-di-teatro-sociale-progetto-guidabilita-3/
LOCATION:Cascina Falchera\, Strada Cuorgnè 109\, Torino
CATEGORIES:Education - Famiglie
ATTACH;FMTTYPE=image/jpeg:https://cascinafalchera.it/wp-content/uploads/2024/03/TeatroSociale.jpg
END:VEVENT
BEGIN:VEVENT
DTSTART;TZID=Europe/Rome:20240312T153000
DTEND;TZID=Europe/Rome:20240312T173000
DTSTAMP:20260420T123642
CREATED:20240305T140542Z
LAST-MODIFIED:20240305T140542Z
UID:1683-1710257400-1710264600@cascinafalchera.it
SUMMARY:Laboratorio di Teatro Sociale Progetto GuidAbilità
DESCRIPTION:Laboratorio di teatro sociale a Cascina Falchera per ragazzi dai 16 ai 28 anni! \ndal 5 Marzo all’11 Giugno tutti i Martedì pomeriggio | ore 15.30 – 17.30 \nl laboratorio è completamente gratuito e nasce nell’ambito del progetto GuidAbilità promosso da ACSI con l’obiettivo di incentivare l’integrazione e l’inclusione a livello sociale e di valorizzare e far conoscere i beni artistici e culturali del nostro territorio. \n>>Scopri come partecipare<<
URL:https://cascinafalchera.it/evento/laboratorio-di-teatro-sociale-progetto-guidabilita-2/
LOCATION:Cascina Falchera\, Strada Cuorgnè 109\, Torino
CATEGORIES:Education - Famiglie,Tutti gli eventi
ATTACH;FMTTYPE=image/jpeg:https://cascinafalchera.it/wp-content/uploads/2024/03/TeatroSociale.jpg
END:VEVENT
BEGIN:VEVENT
DTSTART;TZID=Europe/Rome:20240305T153000
DTEND;TZID=Europe/Rome:20240305T173000
DTSTAMP:20260420T123642
CREATED:20240305T140030Z
LAST-MODIFIED:20240305T143024Z
UID:1677-1709652600-1709659800@cascinafalchera.it
SUMMARY:Laboratorio di Teatro Sociale Progetto GuidAbilità
DESCRIPTION:Laboratorio di teatro sociale a Cascina Falchera per ragazzi dai 16 ai 28 anni! \ndal 5 Marzo all’11 Giugno tutti i Martedì pomeriggio | ore 15.30 – 17.30 \nl laboratorio è completamente gratuito e nasce nell’ambito del progetto GuidAbilità promosso da ACSI con l’obiettivo di incentivare l’integrazione e l’inclusione a livello sociale e di valorizzare e far conoscere i beni artistici e culturali del nostro territorio. \n>>Scopri come partecipare<<
URL:https://cascinafalchera.it/evento/laboratorio-di-teatro-sociale-progetto-guidabilita/
LOCATION:Cascina Falchera\, Strada Cuorgnè 109\, Torino
CATEGORIES:Education - Famiglie,Tutti gli eventi
ATTACH;FMTTYPE=image/jpeg:https://cascinafalchera.it/wp-content/uploads/2024/03/TeatroSociale.jpg
END:VEVENT
END:VCALENDAR