BEGIN:VCALENDAR
VERSION:2.0
PRODID:-//Cascina Falchera - ECPv6.15.12.2//NONSGML v1.0//EN
CALSCALE:GREGORIAN
METHOD:PUBLISH
X-WR-CALNAME:Cascina Falchera
X-ORIGINAL-URL:https://cascinafalchera.it
X-WR-CALDESC:Eventi per Cascina Falchera
REFRESH-INTERVAL;VALUE=DURATION:PT1H
X-Robots-Tag:noindex
X-PUBLISHED-TTL:PT1H
BEGIN:VTIMEZONE
TZID:Europe/Rome
BEGIN:DAYLIGHT
TZOFFSETFROM:+0100
TZOFFSETTO:+0200
TZNAME:CEST
DTSTART:20230326T010000
END:DAYLIGHT
BEGIN:STANDARD
TZOFFSETFROM:+0200
TZOFFSETTO:+0100
TZNAME:CET
DTSTART:20231029T010000
END:STANDARD
BEGIN:DAYLIGHT
TZOFFSETFROM:+0100
TZOFFSETTO:+0200
TZNAME:CEST
DTSTART:20240331T010000
END:DAYLIGHT
BEGIN:STANDARD
TZOFFSETFROM:+0200
TZOFFSETTO:+0100
TZNAME:CET
DTSTART:20241027T010000
END:STANDARD
BEGIN:DAYLIGHT
TZOFFSETFROM:+0100
TZOFFSETTO:+0200
TZNAME:CEST
DTSTART:20250330T010000
END:DAYLIGHT
BEGIN:STANDARD
TZOFFSETFROM:+0200
TZOFFSETTO:+0100
TZNAME:CET
DTSTART:20251026T010000
END:STANDARD
END:VTIMEZONE
BEGIN:VEVENT
DTSTART;TZID=Europe/Rome:20240713T103000
DTEND;TZID=Europe/Rome:20240713T123000
DTSTAMP:20260421T120307
CREATED:20240530T142523Z
LAST-MODIFIED:20240530T142523Z
UID:2416-1720866600-1720873800@cascinafalchera.it
SUMMARY:APINA CONTADINA
DESCRIPTION:Api e biodiversità da conoscere e salvaguardare\nLe api sono preziose su tantissimi aspetti e non solo per il miele. Insetti impollinatori che ci permettono di avere sulle nostre tavole tanta frutta e verdura grazie al loro instancabile lavoro.  Il laboratorio permetterà di scoprire come avviene l’impollinazione\, visitare le arnie\, l’hotel degli insetti e conoscere attraverso il gioco perchè possiamo definirle delle piccole contadine. \nLaboratorio didattico per famiglie fascia di età 3-10  \nPer la partecipazione ai laboratori per famiglie è sempre necessaria la presenza  di un adulto che accompagni i bambini. \n(l’attivazione del laboratorio avverrà al raggiungimento minimo dei partecipanti) \nPrenotazione obbligatoria \n>>> PRENOTA <<<\n(le prenotazioni dovranno avvenire entro giovedì 11 luglio) \nCosti  \nAdulto 10€\nBambina/Bambino 5 € \nIl pagamento potrà essere effettuato direttamente prima dell’evento presso “Il Chioschetto”. \nPagamenti accettati: Contanti | Satispay |Carte
URL:https://cascinafalchera.it/evento/apina-contadina-2/
LOCATION:Cascina Falchera\, Strada Cuorgnè 109\, Torino
CATEGORIES:Education - Famiglie,Tutti gli eventi
ATTACH;FMTTYPE=image/jpeg:https://cascinafalchera.it/wp-content/uploads/2023/05/cascina-falchera-apre-alla-citta-foto-marzia-allietta-48-copia.jpg
END:VEVENT
BEGIN:VEVENT
DTSTART;TZID=Europe/Rome:20240720T103000
DTEND;TZID=Europe/Rome:20240720T123000
DTSTAMP:20260421T120307
CREATED:20240530T143527Z
LAST-MODIFIED:20240530T143527Z
UID:2418-1721471400-1721478600@cascinafalchera.it
SUMMARY:Animali in Cascina
DESCRIPTION:In ascolto degli animali della fattoria\nAvvicinarsi agli animali è sempre una grande emozione per bambin* e famiglie e richiede pazienza e rispetto per i veri padroni di casa di Cascina Falchera: gli animali che da sempre abitano gli spazi verdi\, le stalle e recinti. Questa proposta permetterà di conoscere meglio asini\, mucche\, capre\, pecore e galline a partire da quello che mangiano\, il loro aspetto\, dove vivono e di cosa hanno bisogno per stare bene. Un’esperienza a contatto con gli animali tra paglia\, carriole e mangimi per sperimentarsi con la vita in cascina. \nLaboratorio didattico per famiglie fascia di età 3-10  \nPer la partecipazione ai laboratori per famiglie è sempre necessaria la presenza  di un adulto che accompagni i bambini. \n(l’attivazione del laboratorio avverrà al raggiungimento minimo dei partecipanti) \nPrenotazione obbligatoria \n>>> PRENOTA <<<\n(le prenotazioni dovranno avvenire entro giovedì 18 luglio) \nCosti  \nAdulto 10€\nBambina/Bambino 5 € \nIl pagamento potrà essere effettuato direttamente prima dell’evento presso “Il Chioschetto”. \nPagamenti accettati: Contanti | Satispay |Carte
URL:https://cascinafalchera.it/evento/animali-in-cascina-6/
LOCATION:Cascina Falchera\, Strada Cuorgnè 109\, Torino
CATEGORIES:Education - Famiglie,Tutti gli eventi
ATTACH;FMTTYPE=image/jpeg:https://cascinafalchera.it/wp-content/uploads/2023/05/education-cascina-falchera-animali-marzia-allietta-4169-scaled-e1685438033142.jpg
END:VEVENT
BEGIN:VEVENT
DTSTART;TZID=Europe/Rome:20240727T103000
DTEND;TZID=Europe/Rome:20240727T123000
DTSTAMP:20260421T120307
CREATED:20240530T143906Z
LAST-MODIFIED:20240530T143906Z
UID:2420-1722076200-1722083400@cascinafalchera.it
SUMMARY:Terra fonte di vita
DESCRIPTION:Laboratorio nell’orto di Cascina Falchera per scoprire insieme quanto il ruolo del terreno sia fondamentale. Terra per giocare\, abitata da lombrichi e formiche\, casa di tanti animali importantissimi per avere un terreno ricco che permetta la vita di piante\, ortaggi e alberi da frutta. \nLaboratorio didattico per famiglie \n(l’attivazione del laboratorio avverrà al raggiungimento minimo dei partecipanti) \nPer la partecipazione ai laboratori per famiglie è sempre necessaria la presenza  di un adulto che accompagni i bambini. \nPrenotazione obbligatoria \n>> PRENOTA <<\n(le prenotazioni dovranno avvenire entro giovedì 25 luglio) \nCosti \nAdulto 10€\nBambina/Bambino 5 € \nIl pagamento potrà essere effettuato direttamente prima dell’evento presso “Il Chioschetto”. \nPagamenti accettati: Contanti | Satispay | Carte
URL:https://cascinafalchera.it/evento/terra-fonte-di-vita-6/
LOCATION:Cascina Falchera\, Strada Cuorgnè 109\, Torino
CATEGORIES:Education - Famiglie,Tutti gli eventi
ATTACH;FMTTYPE=image/jpeg:https://cascinafalchera.it/wp-content/uploads/2023/05/TERRA-FONTE-DI-VITA.jpg
END:VEVENT
END:VCALENDAR