BEGIN:VCALENDAR
VERSION:2.0
PRODID:-//Cascina Falchera - ECPv6.15.12.2//NONSGML v1.0//EN
CALSCALE:GREGORIAN
METHOD:PUBLISH
X-ORIGINAL-URL:https://cascinafalchera.it
X-WR-CALDESC:Eventi per Cascina Falchera
REFRESH-INTERVAL;VALUE=DURATION:PT1H
X-Robots-Tag:noindex
X-PUBLISHED-TTL:PT1H
BEGIN:VTIMEZONE
TZID:Europe/Rome
BEGIN:DAYLIGHT
TZOFFSETFROM:+0100
TZOFFSETTO:+0200
TZNAME:CEST
DTSTART:20230326T010000
END:DAYLIGHT
BEGIN:STANDARD
TZOFFSETFROM:+0200
TZOFFSETTO:+0100
TZNAME:CET
DTSTART:20231029T010000
END:STANDARD
BEGIN:DAYLIGHT
TZOFFSETFROM:+0100
TZOFFSETTO:+0200
TZNAME:CEST
DTSTART:20240331T010000
END:DAYLIGHT
BEGIN:STANDARD
TZOFFSETFROM:+0200
TZOFFSETTO:+0100
TZNAME:CET
DTSTART:20241027T010000
END:STANDARD
BEGIN:DAYLIGHT
TZOFFSETFROM:+0100
TZOFFSETTO:+0200
TZNAME:CEST
DTSTART:20250330T010000
END:DAYLIGHT
BEGIN:STANDARD
TZOFFSETFROM:+0200
TZOFFSETTO:+0100
TZNAME:CET
DTSTART:20251026T010000
END:STANDARD
END:VTIMEZONE
BEGIN:VEVENT
DTSTART;TZID=Europe/Rome:20241122T200000
DTEND;TZID=Europe/Rome:20241122T230000
DTSTAMP:20260423T055531
CREATED:20241001T172044Z
LAST-MODIFIED:20241118T140521Z
UID:2635-1732305600-1732316400@cascinafalchera.it
SUMMARY:CENA A BUFFET PROGETTO GERMONTE
DESCRIPTION:L’evento è organizzato nell’ambito del progetto Germonte 6 “VALORIZZAZIONE DELLA BIODIVERSITÀ ZOOTECNICA DEL PIEMONTE ATTRAVERSO LA DIVULGAZIONE”.\n\nIl progetto ha l’obiettivo di  valorizzare le razze avicunicole ed ovi-caprine locali  e il territorio in cui sono conservate attraverso la divulgazione dei valori legati all’agrobiodiversità; in particolare il progetto si ripropone di portare il consumatore alla riscoperta delle tradizioni\, della cultura e dei sapori tipici delle aree di allevamento delle risorse locali;\n\nIl Giorno 22 Novembre 2024 dalle ore 20:00 a Cascina Falchera sarà organizzato un momento di divulgazione caratterizzato da una gustosa cena con prodotti di razza alla scoperta della biodiversità zootecnica del Piemonte.\n\n\n\n\nPrenotazione obbligatoria \n>>> PRENOTA <<<\n(le prenotazioni dovranno avvenire entro 18 Novembre 2024) \nCosti  \n20€ a persona \nIl pagamento potrà essere effettuato direttamente prima dell’evento presso “Il Chioschetto”. \nPagamenti accettati: Contanti | Satispay |Carte \nMenù\nInsalata di Verdure marinate e frutta secca;\nPasta fresca al ragù di coniglio;\nSalame cotto con purè di patate e ciapinabò;\nGallina o coniglio in umido con funghi;\nTiramisù allo zabaione;\nAcqua\, Caffè e 1 Bottiglia di vino ogni 4 persone.
URL:https://cascinafalchera.it/evento/cena-a-buffet-progetto-germonte/
LOCATION:Cascina Falchera\, Strada Cuorgnè 109\, Torino
CATEGORIES:Education - Adulti,Tutti gli eventi
ATTACH;FMTTYPE=application/pdf:https://cascinafalchera.it/wp-content/uploads/2024/10/02_Locandina-A3_Germonte-6_22-novembre.pdf
END:VEVENT
END:VCALENDAR