BEGIN:VCALENDAR
VERSION:2.0
PRODID:-//Cascina Falchera - ECPv6.15.12.2//NONSGML v1.0//EN
CALSCALE:GREGORIAN
METHOD:PUBLISH
X-ORIGINAL-URL:https://cascinafalchera.it
X-WR-CALDESC:Eventi per Cascina Falchera
REFRESH-INTERVAL;VALUE=DURATION:PT1H
X-Robots-Tag:noindex
X-PUBLISHED-TTL:PT1H
BEGIN:VTIMEZONE
TZID:Europe/Rome
BEGIN:DAYLIGHT
TZOFFSETFROM:+0100
TZOFFSETTO:+0200
TZNAME:CEST
DTSTART:20220327T010000
END:DAYLIGHT
BEGIN:STANDARD
TZOFFSETFROM:+0200
TZOFFSETTO:+0100
TZNAME:CET
DTSTART:20221030T010000
END:STANDARD
BEGIN:DAYLIGHT
TZOFFSETFROM:+0100
TZOFFSETTO:+0200
TZNAME:CEST
DTSTART:20230326T010000
END:DAYLIGHT
BEGIN:STANDARD
TZOFFSETFROM:+0200
TZOFFSETTO:+0100
TZNAME:CET
DTSTART:20231029T010000
END:STANDARD
BEGIN:DAYLIGHT
TZOFFSETFROM:+0100
TZOFFSETTO:+0200
TZNAME:CEST
DTSTART:20240331T010000
END:DAYLIGHT
BEGIN:STANDARD
TZOFFSETFROM:+0200
TZOFFSETTO:+0100
TZNAME:CET
DTSTART:20241027T010000
END:STANDARD
END:VTIMEZONE
BEGIN:VEVENT
DTSTART;TZID=Europe/Rome:20231021T103000
DTEND;TZID=Europe/Rome:20231021T123000
DTSTAMP:20260421T003250
CREATED:20230925T092642Z
LAST-MODIFIED:20230925T092642Z
UID:944-1697884200-1697891400@cascinafalchera.it
SUMMARY:Costruiamo una capanna nel bosco
DESCRIPTION:Tana libera tutti \nEsperienza per riconnettersi con alberi\, terra e cielo alla ricerca di un’avventura in natura: la costruzione di un luogo speciale\, un rifugio\, un posto sicuro dove poter giocare e ricreare un posto speciale in cui inventare mille avventure. A seguito di un momento di condivisione iniziale bambini e bambine verranno coinvolti con i loro genitori\, nella sfida della costruzione della capanna partendo alla volta della raccolta del necessario: rami\, foglie\, pigne\, pietre\, terra\, tutto quello che sarà importante selezionare per la costruzione di una tana davvero speciale. \nLaboratorio didattico per famiglie \n(l’attivazione del laboratorio avverrà al raggiungimento minimo dei partecipanti) \nPer la partecipazione ai laboratori per famiglie è sempre necessaria la presenza  di un adulto che accompagni i bambini. \nPrenotazione obbligatoria \n>> PRENOTA <<\n(le prenotazioni dovranno avvenire entro giovedì 19 ottobre) \nCosti \nAdulto 10€\nBambina/Bambino 5 € \nIl pagamento potrà essere effettuato direttamente prima dell’evento presso “Il Chioschetto”. \nPagamenti accettati: Contanti | Satispay | Carte \n  \nN.B. Il laboratorio si svolgerà con un’adesione minima di 8 famiglie\, nel caso non si raggiungesse tale adesione verrà erogato uno solo dei laboratori previsti\, unendo i due gruppi ed erogando il laboratorio con la maggiore adesione ricevuta.
URL:https://cascinafalchera.it/evento/costruiamo-una-capanna-nel-bosco-5/
LOCATION:Cascina Falchera\, Strada Cuorgnè 109\, Torino
CATEGORIES:Education - Famiglie,Tutti gli eventi
ATTACH;FMTTYPE=image/jpeg:https://cascinafalchera.it/wp-content/uploads/2023/05/COSTRUIAMO-UNA-CAPANNA-NEL-BOSCO-scaled-e1685464550403.jpg
END:VEVENT
BEGIN:VEVENT
DTSTART;TZID=Europe/Rome:20230902T100000
DTEND;TZID=Europe/Rome:20230902T120000
DTSTAMP:20260421T003250
CREATED:20230809T134933Z
LAST-MODIFIED:20230809T152831Z
UID:848-1693648800-1693656000@cascinafalchera.it
SUMMARY:Costruiamo una capanna nel bosco
DESCRIPTION:Tana libera tutti \nEsperienza per riconnettersi con alberi\, terra e cielo alla ricerca di un’avventura in natura: la costruzione di un luogo speciale\, un rifugio\, un posto sicuro dove poter giocare e ricreare un posto speciale in cui inventare mille avventure. A seguito di un momento di condivisione iniziale bambini e bambine verranno coinvolti con i loro genitori\, nella sfida della costruzione della capanna partendo alla volta della raccolta del necessario: rami\, foglie\, pigne\, pietre\, terra\, tutto quello che sarà importante selezionare per la costruzione di una tana davvero speciale. \nLaboratorio didattico per famiglie \n(l’attivazione del laboratorio avverrà al raggiungimento minimo dei partecipanti) \nPer la partecipazione ai laboratori per famiglie è sempre necessaria la presenza  di un adulto che accompagni i bambini. \nPrenotazione obbligatoria \n>> PRENOTA <<\n(le prenotazioni dovranno avvenire entro giovedì 31 agosto) \nCosti \nAdulto 10€\nBambina/Bambino 5 € \nIl pagamento potrà essere effettuato direttamente prima dell’evento presso “Il Chioschetto”. \nPagamenti accettati: Contanti | Satispay | Carte \n  \nN.B. Il laboratorio si svolgerà con un’adesione minima di 8 famiglie\, nel caso non si raggiungesse tale adesione verrà erogato uno solo dei laboratori previsti\, unendo i due gruppi ed erogando il laboratorio con la maggiore adesione ricevuta.
URL:https://cascinafalchera.it/evento/costruiamo-una-capanna-nel-bosco-4/
LOCATION:Cascina Falchera\, Strada Cuorgnè 109\, Torino
CATEGORIES:Education - Famiglie,Tutti gli eventi
ATTACH;FMTTYPE=image/jpeg:https://cascinafalchera.it/wp-content/uploads/2023/05/COSTRUIAMO-UNA-CAPANNA-NEL-BOSCO-scaled-e1685464550403.jpg
END:VEVENT
BEGIN:VEVENT
DTSTART;TZID=Europe/Rome:20230722T100000
DTEND;TZID=Europe/Rome:20230722T120000
DTSTAMP:20260421T003250
CREATED:20230529T094718Z
LAST-MODIFIED:20230629T131803Z
UID:393-1690020000-1690027200@cascinafalchera.it
SUMMARY:Costruiamo una capanna nel bosco
DESCRIPTION:Tana libera tutti \nEsperienza per riconnettersi con alberi\, terra e cielo alla ricerca di un’avventura in natura: la costruzione di un luogo speciale\, un rifugio\, un posto sicuro dove poter giocare e ricreare un posto speciale in cui inventare mille avventure. A seguito di un momento di condivisione iniziale bambini e bambine verranno coinvolti con i loro genitori\, nella sfida della costruzione della capanna partendo alla volta della raccolta del necessario: rami\, foglie\, pigne\, pietre\, terra\, tutto quello che sarà importante selezionare per la costruzione di una tana davvero speciale. \nLaboratorio didattico per famiglie \n(l’attivazione del laboratorio avverrà al raggiungimento minimo dei partecipanti) \nPer la partecipazione ai laboratori per famiglie è sempre necessaria la presenza  di un adulto che accompagni i bambini. \nPrenotazione obbligatoria \n\n>>> PRENOTA <<<< \n\n(le prenotazioni dovranno avvenire entro giovedì 20 luglio) \nCosti  \nAdulto 10€\nBambina/Bambino 5 € \nIl pagamento potrà essere effettuato direttamente prima dell’evento presso “Il Chioschetto”. \nPagamenti accettati: Contanti | Satispay | Carte \n  \nN.B. Il laboratorio si svolgerà con un’adesione minima di 8 famiglie\, nel caso non si raggiungesse tale adesione verrà erogato uno solo dei laboratori previsti\, unendo i due gruppi ed erogando il laboratorio con la maggiore adesione ricevuta.
URL:https://cascinafalchera.it/evento/costruiamo-una-capanna-nel-bosco-3/
LOCATION:Cascina Falchera\, Strada Cuorgnè 109\, Torino
CATEGORIES:Education - Famiglie,Tutti gli eventi
ATTACH;FMTTYPE=image/jpeg:https://cascinafalchera.it/wp-content/uploads/2023/05/COSTRUIAMO-UNA-CAPANNA-NEL-BOSCO-scaled-e1685464550403.jpg
END:VEVENT
BEGIN:VEVENT
DTSTART;TZID=Europe/Rome:20230624T100000
DTEND;TZID=Europe/Rome:20230624T120000
DTSTAMP:20260421T003250
CREATED:20230529T092847Z
LAST-MODIFIED:20230608T104514Z
UID:357-1687600800-1687608000@cascinafalchera.it
SUMMARY:Costruiamo una capanna nel bosco
DESCRIPTION:Tana libera tutti \nEsperienza per riconnettersi con alberi\, terra e cielo alla ricerca di un’avventura in natura: la costruzione di un luogo speciale\, un rifugio\, un posto sicuro dove poter giocare e ricreare un posto speciale in cui inventare mille avventure. A seguito di un momento di condivisione iniziale bambini e bambine verranno coinvolti con i loro genitori\, nella sfida della costruzione della capanna partendo alla volta della raccolta del necessario: rami\, foglie\, pigne\, pietre\, terra\, tutto quello che sarà importante selezionare per la costruzione di una tana davvero speciale. \nLaboratorio didattico per famiglie \n(l’attivazione del laboratorio avverrà al raggiungimento minimo dei partecipanti) \nPer la partecipazione ai laboratori per famiglie è sempre necessaria la presenza di un adulto che accompagni i bambini. \nPrenotazione obbligatoria \n>>>> PRENOTA <<<<\nCosti  \nAdulto 10€\nBambina/Bambino 5 € \nIl pagamento potrà essere effettuato direttamente prima dell’evento presso “Il Chioschetto”. \nPagamenti accettati:  Contanti | Satispay | Carte
URL:https://cascinafalchera.it/evento/costruiamo-una-capanna-nel-bosco-2/
LOCATION:Cascina Falchera\, Strada Cuorgnè 109\, Torino
CATEGORIES:Education - Famiglie,Tutti gli eventi
ATTACH;FMTTYPE=image/jpeg:https://cascinafalchera.it/wp-content/uploads/2023/05/COSTRUIAMO-UNA-CAPANNA-NEL-BOSCO-scaled-e1685464550403.jpg
END:VEVENT
END:VCALENDAR