BEGIN:VCALENDAR
VERSION:2.0
PRODID:-//Cascina Falchera - ECPv6.15.12.2//NONSGML v1.0//EN
CALSCALE:GREGORIAN
METHOD:PUBLISH
X-WR-CALNAME:Cascina Falchera
X-ORIGINAL-URL:https://cascinafalchera.it
X-WR-CALDESC:Eventi per Cascina Falchera
REFRESH-INTERVAL;VALUE=DURATION:PT1H
X-Robots-Tag:noindex
X-PUBLISHED-TTL:PT1H
BEGIN:VTIMEZONE
TZID:Europe/Rome
BEGIN:DAYLIGHT
TZOFFSETFROM:+0100
TZOFFSETTO:+0200
TZNAME:CEST
DTSTART:20220327T010000
END:DAYLIGHT
BEGIN:STANDARD
TZOFFSETFROM:+0200
TZOFFSETTO:+0100
TZNAME:CET
DTSTART:20221030T010000
END:STANDARD
BEGIN:DAYLIGHT
TZOFFSETFROM:+0100
TZOFFSETTO:+0200
TZNAME:CEST
DTSTART:20230326T010000
END:DAYLIGHT
BEGIN:STANDARD
TZOFFSETFROM:+0200
TZOFFSETTO:+0100
TZNAME:CET
DTSTART:20231029T010000
END:STANDARD
BEGIN:DAYLIGHT
TZOFFSETFROM:+0100
TZOFFSETTO:+0200
TZNAME:CEST
DTSTART:20240331T010000
END:DAYLIGHT
BEGIN:STANDARD
TZOFFSETFROM:+0200
TZOFFSETTO:+0100
TZNAME:CET
DTSTART:20241027T010000
END:STANDARD
BEGIN:DAYLIGHT
TZOFFSETFROM:+0100
TZOFFSETTO:+0200
TZNAME:CEST
DTSTART:20250330T010000
END:DAYLIGHT
BEGIN:STANDARD
TZOFFSETFROM:+0200
TZOFFSETTO:+0100
TZNAME:CET
DTSTART:20251026T010000
END:STANDARD
BEGIN:DAYLIGHT
TZOFFSETFROM:+0100
TZOFFSETTO:+0200
TZNAME:CEST
DTSTART:20260329T010000
END:DAYLIGHT
BEGIN:STANDARD
TZOFFSETFROM:+0200
TZOFFSETTO:+0100
TZNAME:CET
DTSTART:20261025T010000
END:STANDARD
END:VTIMEZONE
BEGIN:VEVENT
DTSTART;TZID=Europe/Rome:20250719T203000
DTEND;TZID=Europe/Rome:20250719T223000
DTSTAMP:20260422T235037
CREATED:20250529T113529Z
LAST-MODIFIED:20250529T113529Z
UID:3334-1752957000-1752964200@cascinafalchera.it
SUMMARY:Grigliata di una notte di mezza estate
DESCRIPTION:Grigliata di una notte di mezza estate\nUna cena immersiva e teatrale nel bosco. Mentre gustate una grigliata (anche vegetariana)\, gli attori serviranno ai tavoli recitando\, tra una portata e l’altra\, scene ispirate a “Sogno di una notte di mezza estate” di Shakespeare. Un’esperienza unica\, dove il confine tra sogno\, natura e spettacolo si dissolve. \nBiglietto: 30 € (spettacolo + cena + una consumazione) \nPrenotazione obbligatoria via WhatsApp: 320/39.25.864
URL:https://cascinafalchera.it/evento/grigliata-di-una-notte-di-mezza-estate/
LOCATION:Cascina Falchera\, Strada Cuorgnè 109\, Torino
CATEGORIES:Estate in cascina,Tutti gli eventi
ATTACH;FMTTYPE=image/png:https://cascinafalchera.it/wp-content/uploads/2025/05/Grigliata.png
END:VEVENT
BEGIN:VEVENT
DTSTART;TZID=Europe/Rome:20240724T090000
DTEND;TZID=Europe/Rome:20240724T100000
DTSTAMP:20260422T235037
CREATED:20240603T135628Z
LAST-MODIFIED:20240604T145116Z
UID:2446-1721811600-1721815200@cascinafalchera.it
SUMMARY:Yoga nel bosco
DESCRIPTION:Appuntamento di yoga nel bosco di Cascina Falchera insieme a Matteo Rocchi. \nIn caso di pioggia la lezione si terrà al chiuso. \nGli appuntamenti sono gratuiti ma è gradita la prenotazione. \nGli appuntamenti di Yoga nel bosco fanno parte del progetto MOVE 2 NATURE finanziato dalla Fondazione Compagnia di San Paolo e gestito da Noi di Valle insieme a Consorzio Kairos.
URL:https://cascinafalchera.it/evento/yoga-nel-bosco-12/
LOCATION:Cascina Falchera\, Strada Cuorgnè 109\, Torino
CATEGORIES:Education - Adulti,Estate in cascina,Tutti gli eventi
ATTACH;FMTTYPE=image/jpeg:https://cascinafalchera.it/wp-content/uploads/2024/06/WhatsApp-Image-2024-06-03-at-11.47.29.jpeg
END:VEVENT
BEGIN:VEVENT
DTSTART;TZID=Europe/Rome:20240630T100000
DTEND;TZID=Europe/Rome:20240630T163000
DTSTAMP:20260422T235037
CREATED:20240619T125614Z
LAST-MODIFIED:20240619T125614Z
UID:2512-1719741600-1719765000@cascinafalchera.it
SUMMARY:OPEN DAY - TAI CHI CHUAN\, DECODE\, MINDFULNESS E FOREST BATHING
DESCRIPTION:Eddy e Paola vi condurranno attraverso le pratiche di queste meravigliose discipline trovando punti di incontro che le accomunano e che le rende ottimi strumenti per riscoprire le proprie potenzialità. \nOrario: \ndalle 10:00 alle 11:30\ndalle 15:00 alle 16:30 \nÈ caldamente consigliata la prenotazione entro Sabato 29 Giugno 2024.\nGli incontri partono al raggiungimento del numero minimo di iscritti. \nPer prenotazioni contattare +39 3450589022 oppure cascinafalchera@consorziokairos.org
URL:https://cascinafalchera.it/evento/open-day-tai-chi-chuan-decode-mindfulness-e-forest-bathing/
LOCATION:Cascina Falchera\, Strada Cuorgnè 109\, Torino
CATEGORIES:Education - Adulti,Tutti gli eventi,workshop
ATTACH;FMTTYPE=image/jpeg:https://cascinafalchera.it/wp-content/uploads/2024/06/Rosso-Black-Friday-Sconto-Instagram-Post.jpg
END:VEVENT
BEGIN:VEVENT
DTSTART;TZID=Europe/Rome:20240622T210000
DTEND;TZID=Europe/Rome:20240622T230000
DTSTAMP:20260422T235037
CREATED:20240523T094847Z
LAST-MODIFIED:20240610T095447Z
UID:2306-1719090000-1719097200@cascinafalchera.it
SUMMARY:Avvenimenti - ascolto esperienziale sulla musica di Bach
DESCRIPTION:Concerto nel bosco \nLe musiche di J. S. Bach hanno uno straordinario potere evocativo e una capacità unica di connettere l’umano con il divino\, nel senso più laico del termine: rigorose geometrie e potenza architettonica si coniugano infatti\, in modo unico e geniale\, con una tendenza all’astrattezza e alla sublimazione delle passioni umane\, con esiti metafisici. \nIn collaborazione con Avvenimenti\, associazione che ambisce all’allargamento degli spazi di fruizione e alla comunicazione sinestetica delle arti\, propongo un ascolto esperienziale al pianoforte realizzato attraverso alcuni brani del compositore\, tratti per lo più dal Clavicembalo Ben Temperato e selezionati secondo una logica narrativa ed emozionale. \nDi e con Emanuele Salvatore.  \nLo spettacolo è gratuito – con donazione a cappello \nL’evento fa parte del palinsesto di Estate in Cascina\, scopri tutti gli altri appuntamenti >>>PROGRAMMA ESTATE IN CASCINA<<<
URL:https://cascinafalchera.it/evento/concerto-nel-bosco/
CATEGORIES:Concerto,Estate in cascina,Tutti gli eventi
ATTACH;FMTTYPE=image/jpeg:https://cascinafalchera.it/wp-content/uploads/2024/05/Ascolto-esperenziale.jpg
END:VEVENT
BEGIN:VEVENT
DTSTART;TZID=Europe/Rome:20240605T090000
DTEND;TZID=Europe/Rome:20240605T100000
DTSTAMP:20260422T235037
CREATED:20240530T153314Z
LAST-MODIFIED:20240604T151746Z
UID:2422-1717578000-1717581600@cascinafalchera.it
SUMMARY:Yoga nel bosco
DESCRIPTION:Appuntamento di yoga nel bosco di Cascina Falchera insieme a Matteo Rocchi. \nIn caso di pioggia la lezione si terrà al chiuso. \nGli appuntamenti sono gratuiti ma è gradita la prenotazione. \nGli appuntamenti di Yoga nel bosco fanno parte del progetto MOVE 2 NATURE finanziato dalla Fondazione Compagnia di San Paolo e gestito da Noi di Valle insieme a Consorzio Kairos.
URL:https://cascinafalchera.it/evento/yoga-nel-bosco/
LOCATION:Cascina Falchera\, Strada Cuorgnè 109\, Torino
CATEGORIES:Education - Adulti,Estate in cascina,Tutti gli eventi
ATTACH;FMTTYPE=image/jpeg:https://cascinafalchera.it/wp-content/uploads/2024/05/WhatsApp-Image-2024-05-30-at-16.27.18.jpeg
END:VEVENT
BEGIN:VEVENT
DTSTART;TZID=Europe/Rome:20230923T100000
DTEND;TZID=Europe/Rome:20230923T113000
DTSTAMP:20260422T235037
CREATED:20230529T094313Z
LAST-MODIFIED:20230807T092046Z
UID:385-1695463200-1695468600@cascinafalchera.it
SUMMARY:Yoga della presenza
DESCRIPTION:Caratterizzato da movimenti morbidi e gentili\, lo yoga della presenza invita a un ascolto delle sensazioni corporee neutro\, aperto e disponibile: un ascolto in cui le tensioni represse e i nuclei di reattività accumulati nel corpo\, trovano naturalmente distensione e riassorbimento. Eseguiti da seduti su una sedia\, in tuta o abiti comodi\, i movimenti morbidi dello yoga della presenza sono adatti a qualsiasi età e condizione fisica\, anche a chi non ha mai praticato yoga. La pratica sarà intervallata da letture in cui sarà possibile sperimentare una nuova modalità di ascolto di un testo letto ad alta voce. Un ascolto vibratorio che invece di fermarsi al livello della comprensione intellettuale\, risuona sulle frequenze più profonde del cuore. \nCon Eric Minetto \n  \nEric Minetto è nato a Torino nel 1971\, ed è laureato in Letteratura Nordamericana. Dal 2001 al 2013 ha insegnato storytelling e scrittura creativa alla Scuola Holden di Torino. Fondatore della scuola di crescita creativa Upaya\, ha conseguito il Master in\nYoga Studies – corpo e meditazione nelle tradizioni dell’Asia – presso l’Università Ca’ Foscari di Venezia e ha completato il percorso formativo per diventare insegnante di yoga con l’Anusara School of Hata Yoga. È autore di diversi libri. \nCosto 5€ \n>>> PRENOTA <<<
URL:https://cascinafalchera.it/evento/yoga-della-presenza-3/
LOCATION:Cascina Falchera\, Strada Cuorgnè 109\, Torino
CATEGORIES:Education - Adulti,Tutti gli eventi
ATTACH;FMTTYPE=image/jpeg:https://cascinafalchera.it/wp-content/uploads/2023/05/cascina-falchera-dettagli-marziaallietta-3379-e1685540236561.jpg
END:VEVENT
BEGIN:VEVENT
DTSTART;TZID=Europe/Rome:20230729T100000
DTEND;TZID=Europe/Rome:20230729T120000
DTSTAMP:20260422T235037
CREATED:20230529T095125Z
LAST-MODIFIED:20230629T131706Z
UID:403-1690624800-1690632000@cascinafalchera.it
SUMMARY:Alberi che raccontano
DESCRIPTION:Impariamo ad scoltare il bosco\nUn laboratorio dinamico\, di esplorazione del bosco attraverso un’esperienza guidata e mirata alla percezione degli alberi attraverso tutti i sensi. La riflessione è a partire dal fatto che gli alberi\, pur avendo le radici non sono elementi fermi ma in continuo movimento. Anche noi assomigliamo agli alberi\, come la linfa scorre nel tronco così il sangue scorre nelle nostre vene assicurando vita e crescita. Bambine\, bambini e genitori saranno coinvolti nel sentirsi un po’ alberi\, nel mettersi in ascolto\, avvicinandosi al bosco con rispetto\, rallentando il tempo e imparando ad ascoltare cosa succede in natura. \nLaboratorio didattico per famiglie fascia di età 3-8  \nPer la partecipazione ai laboratori per famiglie è sempre necessaria la presenza  di un adulto che accompagni i bambini. \n(l’attivazione del laboratorio avverrà al raggiungimento minimo dei partecipanti) \nPrenotazione obbligatoria \n>>> PRENOTA <<<\n(le prenotazioni dovranno avvenire entro giovedì 27 luglio) \nCosti  \nAdulto 10€\nBambina/Bambino 5 € \nIl pagamento potrà essere effettuato direttamente prima dell’evento presso “Il Chioschetto”. \nPagamenti accettati: Contanti | Satispay | Carte \n  \nN.B. Il laboratorio si svolgerà con un’adesione minima di 8 famiglie\, nel caso non si raggiungesse tale adesione verrà erogato uno solo dei laboratori previsti\, unendo i due gruppi ed erogando il laboratorio con la maggiore adesione ricevuta.
URL:https://cascinafalchera.it/evento/alberi-che-raccontano-2/
LOCATION:Cascina Falchera\, Strada Cuorgnè 109\, Torino
CATEGORIES:Education - Famiglie,Tutti gli eventi
ATTACH;FMTTYPE=image/jpeg:https://cascinafalchera.it/wp-content/uploads/2023/05/Esploratori.jpeg
END:VEVENT
BEGIN:VEVENT
DTSTART;TZID=Europe/Rome:20230729T100000
DTEND;TZID=Europe/Rome:20230729T113000
DTSTAMP:20260422T235037
CREATED:20230529T094954Z
LAST-MODIFIED:20230604T160443Z
UID:399-1690624800-1690630200@cascinafalchera.it
SUMMARY:Yoga della presenza
DESCRIPTION:Caratterizzato da movimenti morbidi e gentili\, lo yoga della presenza invita a un ascolto delle sensazioni corporee neutro\, aperto e disponibile: un ascolto in cui le tensioni represse e i nuclei di reattività accumulati nel corpo\, trovano naturalmente distensione e riassorbimento. Eseguiti da seduti su una sedia\, in tuta o abiti comodi\, i movimenti morbidi dello yoga della presenza sono adatti a qualsiasi età e condizione fisica\, anche a chi non ha mai praticato yoga. La pratica sarà intervallata da letture in cui sarà possibile sperimentare una nuova modalità di ascolto di un testo letto ad alta voce. Un ascolto vibratorio che invece di fermarsi al livello della comprensione intellettuale\, risuona sulle frequenze più profonde del cuore. \nCon Eric Minetto \n  \nEric Minetto è nato a Torino nel 1971\, ed è laureato in Letteratura Nordamericana. Dal 2001 al 2013 ha insegnato storytelling e scrittura creativa alla Scuola Holden di Torino. Fondatore della scuola di crescita creativa Upaya\, ha conseguito il Master in\nYoga Studies – corpo e meditazione nelle tradizioni dell’Asia – presso l’Università Ca’ Foscari di Venezia e ha completato il percorso formativo per diventare insegnante di yoga con l’Anusara School of Hata Yoga. È autore di diversi libri. \nCosto 5€ \nIl pagamento potrà essere effettuato direttamente prima dell’evento presso “Il Chioschetto”. \nPagamenti accettati: Contanti | Satispay | Carte \n>>> PRENOTA <<<
URL:https://cascinafalchera.it/evento/yoga-della-presenza-4/
LOCATION:Cascina Falchera\, Strada Cuorgnè 109\, Torino
CATEGORIES:Education - Adulti,Tutti gli eventi
ATTACH;FMTTYPE=image/jpeg:https://cascinafalchera.it/wp-content/uploads/2023/05/cascina-falchera-dettagli-marziaallietta-3379-e1685540236561.jpg
END:VEVENT
BEGIN:VEVENT
DTSTART;TZID=Europe/Rome:20230722T100000
DTEND;TZID=Europe/Rome:20230722T120000
DTSTAMP:20260422T235037
CREATED:20230529T094718Z
LAST-MODIFIED:20230629T131803Z
UID:393-1690020000-1690027200@cascinafalchera.it
SUMMARY:Costruiamo una capanna nel bosco
DESCRIPTION:Tana libera tutti \nEsperienza per riconnettersi con alberi\, terra e cielo alla ricerca di un’avventura in natura: la costruzione di un luogo speciale\, un rifugio\, un posto sicuro dove poter giocare e ricreare un posto speciale in cui inventare mille avventure. A seguito di un momento di condivisione iniziale bambini e bambine verranno coinvolti con i loro genitori\, nella sfida della costruzione della capanna partendo alla volta della raccolta del necessario: rami\, foglie\, pigne\, pietre\, terra\, tutto quello che sarà importante selezionare per la costruzione di una tana davvero speciale. \nLaboratorio didattico per famiglie \n(l’attivazione del laboratorio avverrà al raggiungimento minimo dei partecipanti) \nPer la partecipazione ai laboratori per famiglie è sempre necessaria la presenza  di un adulto che accompagni i bambini. \nPrenotazione obbligatoria \n\n>>> PRENOTA <<<< \n\n(le prenotazioni dovranno avvenire entro giovedì 20 luglio) \nCosti  \nAdulto 10€\nBambina/Bambino 5 € \nIl pagamento potrà essere effettuato direttamente prima dell’evento presso “Il Chioschetto”. \nPagamenti accettati: Contanti | Satispay | Carte \n  \nN.B. Il laboratorio si svolgerà con un’adesione minima di 8 famiglie\, nel caso non si raggiungesse tale adesione verrà erogato uno solo dei laboratori previsti\, unendo i due gruppi ed erogando il laboratorio con la maggiore adesione ricevuta.
URL:https://cascinafalchera.it/evento/costruiamo-una-capanna-nel-bosco-3/
LOCATION:Cascina Falchera\, Strada Cuorgnè 109\, Torino
CATEGORIES:Education - Famiglie,Tutti gli eventi
ATTACH;FMTTYPE=image/jpeg:https://cascinafalchera.it/wp-content/uploads/2023/05/COSTRUIAMO-UNA-CAPANNA-NEL-BOSCO-scaled-e1685464550403.jpg
END:VEVENT
BEGIN:VEVENT
DTSTART;TZID=Europe/Rome:20230708T100000
DTEND;TZID=Europe/Rome:20230708T113000
DTSTAMP:20260422T235037
CREATED:20230529T093602Z
LAST-MODIFIED:20230604T160418Z
UID:373-1688810400-1688815800@cascinafalchera.it
SUMMARY:Yoga della presenza
DESCRIPTION:Caratterizzato da movimenti morbidi e gentili\, lo yoga della presenza invita a un ascolto delle sensazioni corporee neutro\, aperto e disponibile: un ascolto in cui le tensioni represse e i nuclei di reattività accumulati nel corpo\, trovano naturalmente distensione e riassorbimento. Eseguiti da seduti su una sedia\, in tuta o abiti comodi\, i movimenti morbidi dello yoga della presenza sono adatti a qualsiasi età e condizione fisica\, anche a chi non ha mai praticato yoga. La pratica sarà intervallata da letture in cui sarà possibile sperimentare una nuova modalità di ascolto di un testo letto ad alta voce. Un ascolto vibratorio che invece di fermarsi al livello della comprensione intellettuale\, risuona sulle frequenze più profonde del cuore. \nCon Eric Minetto \n  \nEric Minetto è nato a Torino nel 1971\, ed è laureato in Letteratura Nordamericana. Dal 2001 al 2013 ha insegnato storytelling e scrittura creativa alla Scuola Holden di Torino. Fondatore della scuola di crescita creativa Upaya\, ha conseguito il Master in\nYoga Studies – corpo e meditazione nelle tradizioni dell’Asia – presso l’Università Ca’ Foscari di Venezia e ha completato il percorso formativo per diventare insegnante di yoga con l’Anusara School of Hata Yoga. È autore di diversi libri. \nCosto 5€ \nIl pagamento potrà essere effettuato direttamente prima dell’evento presso “Il Chioschetto”. \nPagamenti accettati: Contanti | Satispay | Carte \n>>> PRENOTA <<<
URL:https://cascinafalchera.it/evento/yoga-della-presenza-2/
LOCATION:Cascina Falchera\, Strada Cuorgnè 109\, Torino
CATEGORIES:Education - Adulti,Tutti gli eventi
ATTACH;FMTTYPE=image/jpeg:https://cascinafalchera.it/wp-content/uploads/2023/05/cascina-falchera-dettagli-marziaallietta-3379-e1685540236561.jpg
END:VEVENT
BEGIN:VEVENT
DTSTART;TZID=Europe/Rome:20230701T100000
DTEND;TZID=Europe/Rome:20230701T120000
DTSTAMP:20260422T235037
CREATED:20230529T093307Z
LAST-MODIFIED:20230629T131959Z
UID:367-1688205600-1688212800@cascinafalchera.it
SUMMARY:Caccia al fagiolo nell’orto
DESCRIPTION:Una caccia al tesoro diversa dal solito \nIl laboratorio mette al centro dell’esperienza un’esplorazione nell’orto dove attraverso una caccia al tesoro i partecipanti e le partecipanti dovranno recuperare un tesoro speciale. Si tratterà di cercare dei fagioli magici\, tutti diversi ma sopratutto tutti provenienti da luoghi differenti del mondo. Ogni fagiolo ha fatto un lungo viaggio attraversando mari e continenenti prima di finire sulle nostre tavole. Hanno colori\, forme e storie diverse da scoprire insieme. Missione speciale: recuperarli tutti e seminarli! \nLaboratorio didattico per famiglie \n(l’attivazione del laboratorio avverrà al raggiungimento minimo dei partecipanti) \nPer la partecipazione ai laboratori per famiglie è sempre necessaria la presenza di un adulto che accompagni i bambini. \nPrenotazione obbligatoria \n>>>> PRENOTA <<<< \nCosti  \nAdulto 10€\nBambina/Bambino 5 € \nIl pagamento potrà essere effettuato direttamente prima dell’evento presso “Il Chioschetto”. \nPagamenti accettati: Contanti | Satispay | Carte \n  \nN.B. Il laboratorio si svolgerà con un’adesione minima di 8 famiglie\, nel caso non si raggiungesse tale adesione verrà erogato uno solo dei laboratori previsti\, unendo i due gruppi ed erogando il laboratorio con la maggiore adesione ricevuta.
URL:https://cascinafalchera.it/evento/caccia-al-fagiolo-nellorto-2/
CATEGORIES:Education - Famiglie
ATTACH;FMTTYPE=image/jpeg:https://cascinafalchera.it/wp-content/uploads/2023/05/CACCIA-AL-FAGIOLO-NELLORTO-1.jpeg
END:VEVENT
BEGIN:VEVENT
DTSTART;TZID=Europe/Rome:20230624T100000
DTEND;TZID=Europe/Rome:20230624T120000
DTSTAMP:20260422T235037
CREATED:20230529T092847Z
LAST-MODIFIED:20230608T104514Z
UID:357-1687600800-1687608000@cascinafalchera.it
SUMMARY:Costruiamo una capanna nel bosco
DESCRIPTION:Tana libera tutti \nEsperienza per riconnettersi con alberi\, terra e cielo alla ricerca di un’avventura in natura: la costruzione di un luogo speciale\, un rifugio\, un posto sicuro dove poter giocare e ricreare un posto speciale in cui inventare mille avventure. A seguito di un momento di condivisione iniziale bambini e bambine verranno coinvolti con i loro genitori\, nella sfida della costruzione della capanna partendo alla volta della raccolta del necessario: rami\, foglie\, pigne\, pietre\, terra\, tutto quello che sarà importante selezionare per la costruzione di una tana davvero speciale. \nLaboratorio didattico per famiglie \n(l’attivazione del laboratorio avverrà al raggiungimento minimo dei partecipanti) \nPer la partecipazione ai laboratori per famiglie è sempre necessaria la presenza di un adulto che accompagni i bambini. \nPrenotazione obbligatoria \n>>>> PRENOTA <<<<\nCosti  \nAdulto 10€\nBambina/Bambino 5 € \nIl pagamento potrà essere effettuato direttamente prima dell’evento presso “Il Chioschetto”. \nPagamenti accettati:  Contanti | Satispay | Carte
URL:https://cascinafalchera.it/evento/costruiamo-una-capanna-nel-bosco-2/
LOCATION:Cascina Falchera\, Strada Cuorgnè 109\, Torino
CATEGORIES:Education - Famiglie,Tutti gli eventi
ATTACH;FMTTYPE=image/jpeg:https://cascinafalchera.it/wp-content/uploads/2023/05/COSTRUIAMO-UNA-CAPANNA-NEL-BOSCO-scaled-e1685464550403.jpg
END:VEVENT
BEGIN:VEVENT
DTSTART;TZID=Europe/Rome:20230624T100000
DTEND;TZID=Europe/Rome:20230624T120000
DTSTAMP:20260422T235037
CREATED:20230529T092739Z
LAST-MODIFIED:20230621T092857Z
UID:355-1687600800-1687608000@cascinafalchera.it
SUMMARY:Volando si impara
DESCRIPTION:Sentirsi api in cascina\nEsperienza per avvicinarsi al mondo delle api e all’organizzazione della loro società approfondendo il mondo degli impollinatori e il loro prezioso ruolo per il mantenimento della biodiversità. Come vivono le api all’interno di un’arnia? Quanti fiori devono visitare per produrre un vasetto di miele? Perché ci sono le api a Cascina Falchera? La visita alle arnie permetterà di vedere come si organizzano questi insetti e come possiamo dialogare con loro nel pieno rispetto del loro quotidiano. \nLaboratorio didattico per famiglie fascia di età 3-8  \nPer la partecipazione ai laboratori per famiglie è sempre necessaria la presenza  di un adulto che accompagni i bambini. \n(l’attivazione del laboratorio avverrà al raggiungimento minimo dei partecipanti) \nPrenotazione obbligatoria \n>>> PRENOTA <<<\n(le prenotazioni dovranno avvenire entro giovedì 22 giugno) \nCosti  \nAdulto 10€\nBambina/Bambino 5 € \nIl pagamento potrà essere effettuato direttamente prima dell’evento presso “Il Chioschetto”. \nPagamenti accettati:  Contanti | Satispay | Carte
URL:https://cascinafalchera.it/evento/volando-si-impara/
LOCATION:Cascina Falchera\, Strada Cuorgnè 109\, Torino
CATEGORIES:Education - Famiglie,Tutti gli eventi
ATTACH;FMTTYPE=image/jpeg:https://cascinafalchera.it/wp-content/uploads/2023/05/cascina-falchera-home-1.jpg
END:VEVENT
BEGIN:VEVENT
DTSTART;TZID=Europe/Rome:20230624T100000
DTEND;TZID=Europe/Rome:20230624T113000
DTSTAMP:20260422T235037
CREATED:20230529T092645Z
LAST-MODIFIED:20230604T160252Z
UID:353-1687600800-1687606200@cascinafalchera.it
SUMMARY:Yoga della presenza
DESCRIPTION:Caratterizzato da movimenti morbidi e gentili\, lo yoga della presenza invita a un ascolto delle sensazioni corporee neutro\, aperto e disponibile: un ascolto in cui le tensioni represse e i nuclei di reattività accumulati nel corpo\, trovano naturalmente distensione e riassorbimento. Eseguiti da seduti su una sedia\, in tuta o abiti comodi\, i movimenti morbidi dello yoga della presenza sono adatti a qualsiasi età e condizione fisica\, anche a chi non ha mai praticato yoga. La pratica sarà intervallata da letture in cui sarà possibile sperimentare una nuova modalità di ascolto di un testo letto ad alta voce. Un ascolto vibratorio che invece di fermarsi al livello della comprensione intellettuale\, risuona sulle frequenze più profonde del cuore. \nCon Eric Minetto \n  \nEric Minetto è nato a Torino nel 1971\, ed è laureato in Letteratura Nordamericana. Dal 2001 al 2013 ha insegnato storytelling e scrittura creativa alla Scuola Holden di Torino. Fondatore della scuola di crescita creativa Upaya\, ha conseguito il Master in\nYoga Studies – corpo e meditazione nelle tradizioni dell’Asia – presso l’Università Ca’ Foscari di Venezia e ha completato il percorso formativo per diventare insegnante di yoga con l’Anusara School of Hata Yoga. È autore di diversi libri. \nCosto 5€ \nIl pagamento potrà essere effettuato direttamente prima dell’evento presso “Il Chioschetto”. \nPagamenti accettati: Contanti | Satispay | Carte \n>>> PRENOTA <<<
URL:https://cascinafalchera.it/evento/yoga-della-presenza/
LOCATION:Cascina Falchera\, Strada Cuorgnè 109\, Torino
CATEGORIES:Education - Adulti,Tutti gli eventi
ATTACH;FMTTYPE=image/jpeg:https://cascinafalchera.it/wp-content/uploads/2023/05/cascina-falchera-dettagli-marziaallietta-3379-e1685540236561.jpg
END:VEVENT
BEGIN:VEVENT
DTSTART;TZID=Europe/Rome:20230617T100000
DTEND;TZID=Europe/Rome:20230617T120000
DTSTAMP:20260422T235037
CREATED:20230529T092225Z
LAST-MODIFIED:20230602T163110Z
UID:345-1686996000-1687003200@cascinafalchera.it
SUMMARY:Alberi che raccontano
DESCRIPTION:Impariamo ad scoltare il bosco\nUn laboratorio dinamico\, di esplorazione del bosco attraverso un’esperienza guidata e mirata alla percezione degli alberi attraverso tutti i sensi. La riflessione è a partire dal fatto che gli alberi\, pur avendo le radici non sono elementi fermi ma in continuo movimento. Anche noi assomigliamo agli alberi\, come la linfa scorre nel tronco così il sangue scorre nelle nostre vene assicurando vita e crescita. Bambine\, bambini e genitori saranno coinvolti nel sentirsi un po’ alberi\, nel mettersi in ascolto\, avvicinandosi al bosco con rispetto\, rallentando il tempo e imparando ad ascoltare cosa succede in natura. \nLaboratorio didattico per famiglie fascia di età 3-8  \nPer la partecipazione ai laboratori per famiglie è sempre necessaria la presenza di un adulto che accompagni i bambini. \n(l’attivazione del laboratorio avverrà al raggiungimento minimo dei partecipanti) \nPrenotazione obbligatoria \n>>> PRENOTA <<<\n(le prenotazioni dovranno avvenire entro giovedì 15 giugno) \nCosti  \nAdulto 10€\nBambina/Bambino 5 € \nIl pagamento potrà essere effettuato direttamente prima dell’evento presso “Il Chioschetto”. \nPagamenti accettati: Contanti | Satispay | Carte
URL:https://cascinafalchera.it/evento/alberi-che-raccontano/
LOCATION:Cascina Falchera\, Strada Cuorgnè 109\, Torino
CATEGORIES:Education - Famiglie,Tutti gli eventi
ATTACH;FMTTYPE=image/jpeg:https://cascinafalchera.it/wp-content/uploads/2023/05/Esploratori.jpeg
END:VEVENT
BEGIN:VEVENT
DTSTART;TZID=Europe/Rome:20230610T100000
DTEND;TZID=Europe/Rome:20230610T120000
DTSTAMP:20260422T235037
CREATED:20230529T090644Z
LAST-MODIFIED:20230602T120306Z
UID:331-1686391200-1686398400@cascinafalchera.it
SUMMARY:Costruiamo una capanna nel bosco
DESCRIPTION:Tana libera tutti \nEsperienza per riconnettersi con alberi\, terra e cielo alla ricerca di un’avventura in natura: la costruzione di un luogo speciale\, un rifugio\, un posto sicuro dove poter giocare e ricreare un posto speciale in cui inventare mille avventure. A seguito di un momento di condivisione iniziale bambini e bambine verranno coinvolti con i loro genitori\, nella sfida della costruzione della capanna partendo alla volta della raccolta del necessario: rami\, foglie\, pigne\, pietre\, terra\, tutto quello che sarà importante selezionare per la costruzione di una tana davvero speciale. \nLaboratorio didattico per famiglie \n(l’attivazione del laboratorio avverrà al raggiungimento minimo dei partecipanti) \nPer la partecipazione ai laboratori per famiglie è sempre necessaria la presenza di un adulto che accompagni i bambini. \nPrenotazione obbligatoria \n>>>> PRENOTA <<<< \nCosti  \nAdulto 10€\nBambina/Bambino 5 € \nIl pagamento potrà essere effettuato direttamente prima dell’evento presso “Il Chioschetto”. \nPagamenti accettati: Contanti | Satispay | Carte
URL:https://cascinafalchera.it/evento/costruiamo-una-capanna-nel-bosco/
LOCATION:Cascina Falchera\, Strada Cuorgnè 109\, Torino
CATEGORIES:Education - Famiglie,Tutti gli eventi
ATTACH;FMTTYPE=image/jpeg:https://cascinafalchera.it/wp-content/uploads/2023/05/COSTRUIAMO-UNA-CAPANNA-NEL-BOSCO-scaled-e1685464550403.jpg
END:VEVENT
BEGIN:VEVENT
DTSTART;TZID=Europe/Rome:20230603T100000
DTEND;TZID=Europe/Rome:20230603T120000
DTSTAMP:20260422T235037
CREATED:20230529T090159Z
LAST-MODIFIED:20230602T114314Z
UID:324-1685786400-1685793600@cascinafalchera.it
SUMMARY:Caccia al fagiolo nell’orto
DESCRIPTION:Una caccia al tesoro diversa dal solito\nIl laboratorio mette al centro dell’esperienza un’esplorazione nell’orto dove attraverso una caccia al tesoro i partecipanti e le partecipanti dovranno recuperare un tesoro speciale. Si tratterà di cercare dei fagioli magici\, tutti diversi ma sopratutto tutti provenienti da luoghi differenti del mondo. Ogni fagiolo ha fatto un lungo viaggio attraversando mari e continenenti prima di finire sulle nostre tavole. Hanno colori\, forme e storie diverse da scoprire insieme. Missione speciale: recuperarli tutti e seminarli! \nLaboratorio didattico per famiglie fascia di età 3-8  \nPer la partecipazione ai laboratori per famiglie è sempre necessaria la presenza  di un adulto che accompagni i bambini. \n(l’attivazione del laboratorio avverrà al raggiungimento minimo dei partecipanti) \nPrenotazione obbligatoria \n>>> PRENOTA <<<\n(le prenotazioni dovranno avvenire entro giovedì 1 giugno) \nCosti  \nAdulto 10€\nBambina/Bambino 5 € \nIl pagamento potrà essere effettuato direttamente prima dell’evento presso “Il Chioschetto”. \nPagamenti accettati:  Contanti | Satispay | Carte
URL:https://cascinafalchera.it/evento/caccia-al-fagiolo-nellorto/
LOCATION:Cascina Falchera\, Strada Cuorgnè 109\, Torino
CATEGORIES:Education - Famiglie,Tutti gli eventi
ATTACH;FMTTYPE=image/jpeg:https://cascinafalchera.it/wp-content/uploads/2023/05/CACCIA-AL-FAGIOLO-NELLORTO-1.jpeg
END:VEVENT
END:VCALENDAR