BEGIN:VCALENDAR
VERSION:2.0
PRODID:-//Cascina Falchera - ECPv6.15.12.2//NONSGML v1.0//EN
CALSCALE:GREGORIAN
METHOD:PUBLISH
X-WR-CALNAME:Cascina Falchera
X-ORIGINAL-URL:https://cascinafalchera.it
X-WR-CALDESC:Eventi per Cascina Falchera
REFRESH-INTERVAL;VALUE=DURATION:PT1H
X-Robots-Tag:noindex
X-PUBLISHED-TTL:PT1H
BEGIN:VTIMEZONE
TZID:Europe/Rome
BEGIN:DAYLIGHT
TZOFFSETFROM:+0100
TZOFFSETTO:+0200
TZNAME:CEST
DTSTART:20220327T010000
END:DAYLIGHT
BEGIN:STANDARD
TZOFFSETFROM:+0200
TZOFFSETTO:+0100
TZNAME:CET
DTSTART:20221030T010000
END:STANDARD
BEGIN:DAYLIGHT
TZOFFSETFROM:+0100
TZOFFSETTO:+0200
TZNAME:CEST
DTSTART:20230326T010000
END:DAYLIGHT
BEGIN:STANDARD
TZOFFSETFROM:+0200
TZOFFSETTO:+0100
TZNAME:CET
DTSTART:20231029T010000
END:STANDARD
BEGIN:DAYLIGHT
TZOFFSETFROM:+0100
TZOFFSETTO:+0200
TZNAME:CEST
DTSTART:20240331T010000
END:DAYLIGHT
BEGIN:STANDARD
TZOFFSETFROM:+0200
TZOFFSETTO:+0100
TZNAME:CET
DTSTART:20241027T010000
END:STANDARD
BEGIN:DAYLIGHT
TZOFFSETFROM:+0100
TZOFFSETTO:+0200
TZNAME:CEST
DTSTART:20250330T010000
END:DAYLIGHT
BEGIN:STANDARD
TZOFFSETFROM:+0200
TZOFFSETTO:+0100
TZNAME:CET
DTSTART:20251026T010000
END:STANDARD
END:VTIMEZONE
BEGIN:VEVENT
DTSTART;TZID=Europe/Rome:20240713T103000
DTEND;TZID=Europe/Rome:20240713T123000
DTSTAMP:20260420T075533
CREATED:20240530T142523Z
LAST-MODIFIED:20240530T142523Z
UID:2416-1720866600-1720873800@cascinafalchera.it
SUMMARY:APINA CONTADINA
DESCRIPTION:Api e biodiversità da conoscere e salvaguardare\nLe api sono preziose su tantissimi aspetti e non solo per il miele. Insetti impollinatori che ci permettono di avere sulle nostre tavole tanta frutta e verdura grazie al loro instancabile lavoro.  Il laboratorio permetterà di scoprire come avviene l’impollinazione\, visitare le arnie\, l’hotel degli insetti e conoscere attraverso il gioco perchè possiamo definirle delle piccole contadine. \nLaboratorio didattico per famiglie fascia di età 3-10  \nPer la partecipazione ai laboratori per famiglie è sempre necessaria la presenza  di un adulto che accompagni i bambini. \n(l’attivazione del laboratorio avverrà al raggiungimento minimo dei partecipanti) \nPrenotazione obbligatoria \n>>> PRENOTA <<<\n(le prenotazioni dovranno avvenire entro giovedì 11 luglio) \nCosti  \nAdulto 10€\nBambina/Bambino 5 € \nIl pagamento potrà essere effettuato direttamente prima dell’evento presso “Il Chioschetto”. \nPagamenti accettati: Contanti | Satispay |Carte
URL:https://cascinafalchera.it/evento/apina-contadina-2/
LOCATION:Cascina Falchera\, Strada Cuorgnè 109\, Torino
CATEGORIES:Education - Famiglie,Tutti gli eventi
ATTACH;FMTTYPE=image/jpeg:https://cascinafalchera.it/wp-content/uploads/2023/05/cascina-falchera-apre-alla-citta-foto-marzia-allietta-48-copia.jpg
END:VEVENT
BEGIN:VEVENT
DTSTART;TZID=Europe/Rome:20240615T103000
DTEND;TZID=Europe/Rome:20240615T123000
DTSTAMP:20260420T075533
CREATED:20240530T125852Z
LAST-MODIFIED:20240530T125852Z
UID:2407-1718447400-1718454600@cascinafalchera.it
SUMMARY:Apina Contadina
DESCRIPTION:Api e biodiversità da conoscere e salvaguardare\nLe api sono preziose su tantissimi aspetti e non solo per il miele. Insetti impollinatori che ci permettono di avere sulle nostre tavole tanta frutta e verdura grazie al loro instancabile lavoro.  Il laboratorio permetterà di scoprire come avviene l’impollinazione\, visitare le arnie\, l’hotel degli insetti e conoscere attraverso il gioco perchè possiamo definirle delle piccole contadine. \nLaboratorio didattico per famiglie fascia di età 3-10  \nPer la partecipazione ai laboratori per famiglie è sempre necessaria la presenza  di un adulto che accompagni i bambini. \n(l’attivazione del laboratorio avverrà al raggiungimento minimo dei partecipanti) \nPrenotazione obbligatoria \n>>> PRENOTA <<<\n(le prenotazioni dovranno avvenire entro giovedì 13 giugno) \nCosti  \nAdulto 10€\nBambina/Bambino 5 € \nIl pagamento potrà essere effettuato direttamente prima dell’evento presso “Il Chioschetto”. \nPagamenti accettati: Contanti | Satispay |Carte
URL:https://cascinafalchera.it/evento/apina-contadina/
LOCATION:Cascina Falchera\, Strada Cuorgnè 109\, Torino
CATEGORIES:Education - Famiglie,Tutti gli eventi
ATTACH;FMTTYPE=image/jpeg:https://cascinafalchera.it/wp-content/uploads/2023/05/cascina-falchera-apre-alla-citta-foto-marzia-allietta-48-copia.jpg
END:VEVENT
BEGIN:VEVENT
DTSTART;TZID=Europe/Rome:20240518T100000
DTEND;TZID=Europe/Rome:20240518T123000
DTSTAMP:20260420T075533
CREATED:20240516T153755Z
LAST-MODIFIED:20240516T153755Z
UID:2145-1716026400-1716035400@cascinafalchera.it
SUMMARY:Laboratorio: Immersione nella vita delle api
DESCRIPTION:Cascina e apicoltura si fondono in un’esperienza unica\, per scoprire l’affascinante mondo delle api attraverso di visita all’apiario.\n\nSarà possibile visitare le arnie colorate\, toccare con le mani i favi\, le api e fare insieme un’osservazione diretta dell’architettura all’interno dell’arnia\, del miele e polline.\n\n\n\nIl laboratorio prevede l’assaggio del miele\n\n\n Attività adatta ai neofiti\n Tuta e guanti da apicoltore forniti da Impollinatori Metropolitani.\n\n\n\nAttività a pagamento 25€ adulti | 15€ bambini a cura di Impollinatori Metropolitani\nÈ possibile pagare direttamente all’ingresso.\n\n\n\nÈ necessaria la prenotazione: https://bit.ly/3QNbTti
URL:https://cascinafalchera.it/evento/laboratorio-immersione-nella-vita-delle-api/
LOCATION:Cascina Falchera\, Strada Cuorgnè 109\, Torino
CATEGORIES:Education - Famiglie,Tutti gli eventi
ATTACH;FMTTYPE=image/jpeg:https://cascinafalchera.it/wp-content/uploads/2024/05/WhatsApp-Image-2024-05-15-at-16.28.26-1.jpeg
END:VEVENT
BEGIN:VEVENT
DTSTART;TZID=Europe/Rome:20231028T103000
DTEND;TZID=Europe/Rome:20231028T123000
DTSTAMP:20260420T075533
CREATED:20230925T093450Z
LAST-MODIFIED:20230925T093450Z
UID:950-1698489000-1698496200@cascinafalchera.it
SUMMARY:L’apina contadina
DESCRIPTION:Api e biodiversità da conoscere e salvaguardare\nIIl laboratorio coinvolgerà bambine\, bambini e genitori nel comprendere l’importanza degli insetti impollinatori per la nostra sopravvivenza scoprendo la loro centralità nella produzione del cibo. L’esperienza permetterà l’analisi di come avviene il processo di impollinazione e per i più grandi ci sarà qualche accenno di entomologia di base. \nIl gruppo verrà accompagnato in una esplorazione attiva dell’orto e attraverso giochi interattivi sarà possibile acquisire maggiore consapevolezza su come quello che mangiamo sia strettamente collegato al benessere e al rispetto delle api. \nLaboratorio didattico per famiglie fascia di età 3-8  \nPer la partecipazione ai laboratori per famiglie è sempre necessaria la presenza di un adulto che accompagni i bambini. \n(l’attivazione del laboratorio avverrà al raggiungimento minimo dei partecipanti) \nPrenotazione obbligatoria \n>> PRENOTA <<\n(le prenotazioni dovranno avvenire entro giovedì 26 ottobre) \nCosti \nAdulto 10€\nBambina/Bambino 5 € \nIl pagamento potrà essere effettuato direttamente prima dell’evento presso “Il Chioschetto”. \nPagamenti accettati: Contanti |Satispay | Carte \nN.B. Il laboratorio si svolgerà con un’adesione minima di 8 famiglie\, nel caso non si raggiungesse tale adesione verrà erogato uno solo dei laboratori previsti\, unendo i due gruppi ed erogando il laboratorio con la maggiore adesione ricevuta.
URL:https://cascinafalchera.it/evento/lapina-contadina-3/
LOCATION:Cascina Falchera\, Strada Cuorgnè 109\, Torino
CATEGORIES:Education - Famiglie,Tutti gli eventi
ATTACH;FMTTYPE=image/jpeg:https://cascinafalchera.it/wp-content/uploads/2023/05/cascina-falchera-home-1.jpg
END:VEVENT
BEGIN:VEVENT
DTSTART;TZID=Europe/Rome:20231014T103000
DTEND;TZID=Europe/Rome:20231014T123000
DTSTAMP:20260420T075533
CREATED:20230921T144636Z
LAST-MODIFIED:20230921T144636Z
UID:937-1697279400-1697286600@cascinafalchera.it
SUMMARY:Volando si impara
DESCRIPTION:Sentirsi api in cascina\nEsperienza per avvicinarsi al mondo delle api e all’organizzazione della loro società approfondendo il mondo degli impollinatori e il loro prezioso ruolo per il mantenimento della biodiversità. Come vivono le api all’interno di un’arnia? Quanti fiori devono visitare per produrre un vasetto di miele? Perché ci sono le api a Cascina Falchera? La visita alle arnie permetterà di vedere come si organizzano questi insetti e come possiamo dialogare con loro nel pieno rispetto del loro quotidiano. \nLaboratorio didattico per famiglie fascia di età 3-8  \nPer la partecipazione ai laboratori per famiglie è sempre necessaria la presenza  di un adulto che accompagni i bambini. \n(l’attivazione del laboratorio avverrà al raggiungimento minimo dei partecipanti) \nPrenotazione obbligatoria \n>> PRENOTA <<\n(le prenotazioni dovranno avvenire entro giovedì 12 ottobre) \nCosti \nAdulto 10€\nBambina/Bambino 5 € \nIl pagamento potrà essere effettuato direttamente prima dell’evento presso “Il Chioschetto”. \nPagamenti accettati: Contanti | Satispay | Carte \n  \nN.B. Il laboratorio si svolgerà con un’adesione minima di 8 famiglie\, nel caso non si raggiungesse tale adesione verrà erogato uno solo dei laboratori previsti\, unendo i due gruppi ed erogando il laboratorio con la maggiore adesione ricevuta.
URL:https://cascinafalchera.it/evento/volando-si-impara-4/
LOCATION:Cascina Falchera\, Strada Cuorgnè 109\, Torino
CATEGORIES:Education - Famiglie,Tutti gli eventi
ATTACH;FMTTYPE=image/jpeg:https://cascinafalchera.it/wp-content/uploads/2023/05/cascina-falchera-home-1.jpg
END:VEVENT
BEGIN:VEVENT
DTSTART;TZID=Europe/Rome:20230909T100000
DTEND;TZID=Europe/Rome:20230909T120000
DTSTAMP:20260420T075533
CREATED:20230809T141205Z
LAST-MODIFIED:20230809T153353Z
UID:856-1694253600-1694260800@cascinafalchera.it
SUMMARY:L’apina contadina
DESCRIPTION:Api e biodiversità da conoscere e salvaguardare\nIIl laboratorio coinvolgerà bambine\, bambini e genitori nel comprendere l’importanza degli insetti impollinatori per la nostra sopravvivenza scoprendo la loro centralità nella produzione del cibo. L’esperienza permetterà l’analisi di come avviene il processo di impollinazione e per i più grandi ci sarà qualche accenno di entomologia di base. \nIl gruppo verrà accompagnato in una esplorazione attiva dell’orto e attraverso giochi interattivi sarà possibile acquisire maggiore consapevolezza su come quello che mangiamo sia strettamente collegato al benessere e al rispetto delle api. \nLaboratorio didattico per famiglie fascia di età 3-8  \nPer la partecipazione ai laboratori per famiglie è sempre necessaria la presenza di un adulto che accompagni i bambini. \n(l’attivazione del laboratorio avverrà al raggiungimento minimo dei partecipanti) \nPrenotazione obbligatoria \n>> PRENOTA <<\n(le prenotazioni dovranno avvenire entro giovedì 7 settembre) \nCosti \nAdulto 10€\nBambina/Bambino 5 € \nIl pagamento potrà essere effettuato direttamente prima dell’evento presso “Il Chioschetto”. \nPagamenti accettati: Contanti |Satispay | Carte \nN.B. Il laboratorio si svolgerà con un’adesione minima di 8 famiglie\, nel caso non si raggiungesse tale adesione verrà erogato uno solo dei laboratori previsti\, unendo i due gruppi ed erogando il laboratorio con la maggiore adesione ricevuta.
URL:https://cascinafalchera.it/evento/lapina-contadina-2/
LOCATION:Cascina Falchera\, Strada Cuorgnè 109\, Torino
CATEGORIES:Education - Famiglie,Tutti gli eventi
ATTACH;FMTTYPE=image/jpeg:https://cascinafalchera.it/wp-content/uploads/2023/05/cascina-falchera-home-1.jpg
END:VEVENT
BEGIN:VEVENT
DTSTART;TZID=Europe/Rome:20230722T100000
DTEND;TZID=Europe/Rome:20230722T120000
DTSTAMP:20260420T075533
CREATED:20230529T094818Z
LAST-MODIFIED:20230629T131743Z
UID:395-1690020000-1690027200@cascinafalchera.it
SUMMARY:Volando si impara
DESCRIPTION:Sentirsi api in cascina\nEsperienza per avvicinarsi al mondo delle api e all’organizzazione della loro società approfondendo il mondo degli impollinatori e il loro prezioso ruolo per il mantenimento della biodiversità. Come vivono le api all’interno di un’arnia? Quanti fiori devono visitare per produrre un vasetto di miele? Perché ci sono le api a Cascina Falchera? La visita alle arnie permetterà di vedere come si organizzano questi insetti e come possiamo dialogare con loro nel pieno rispetto del loro quotidiano. \nLaboratorio didattico per famiglie fascia di età 3-8  \nPer la partecipazione ai laboratori per famiglie è sempre necessaria la presenza  di un adulto che accompagni i bambini. \n(l’attivazione del laboratorio avverrà al raggiungimento minimo dei partecipanti) \nPrenotazione obbligatoria \n>>> PRENOTA <<<\n(le prenotazioni dovranno avvenire entro giovedì 20 luglio) \nCosti  \nAdulto 10€\nBambina/Bambino 5 € \nIl pagamento potrà essere effettuato direttamente prima dell’evento presso “Il Chioschetto”. \nPagamenti accettati: Contanti | Satispay | Carte \n  \nN.B. Il laboratorio si svolgerà con un’adesione minima di 8 famiglie\, nel caso non si raggiungesse tale adesione verrà erogato uno solo dei laboratori previsti\, unendo i due gruppi ed erogando il laboratorio con la maggiore adesione ricevuta.
URL:https://cascinafalchera.it/evento/volando-si-impara-2/
LOCATION:Cascina Falchera\, Strada Cuorgnè 109\, Torino
CATEGORIES:Education - Famiglie,Tutti gli eventi
ATTACH;FMTTYPE=image/jpeg:https://cascinafalchera.it/wp-content/uploads/2023/05/cascina-falchera-home-1.jpg
END:VEVENT
BEGIN:VEVENT
DTSTART;TZID=Europe/Rome:20230708T100000
DTEND;TZID=Europe/Rome:20230708T120000
DTSTAMP:20260420T075533
CREATED:20230529T093648Z
LAST-MODIFIED:20230629T131927Z
UID:375-1688810400-1688817600@cascinafalchera.it
SUMMARY:L’apina contadina
DESCRIPTION:Api e biodiversità da conoscere e salvaguardare\nIIl laboratorio coinvolgerà bambine\, bambini e genitori nel comprendere l’importanza degli insetti impollinatori per la nostra sopravvivenza scoprendo la loro centralità nella produzione del cibo. L’esperienza permetterà l’analisi di come avviene il processo di impollinazione e per i più grandi ci sarà qualche accenno di entomologia di base. \nIl gruppo verrà accompagnato in una esplorazione attiva dell’orto e attraverso giochi interattivi sarà possibile acquisire maggiore consapevolezza su come quello che mangiamo sia strettamente collegato al benessere e al rispetto delle api. \nLaboratorio didattico per famiglie fascia di età 3-8  \nPer la partecipazione ai laboratori per famiglie è sempre necessaria la presenza di un adulto che accompagni i bambini. \n(l’attivazione del laboratorio avverrà al raggiungimento minimo dei partecipanti) \nPrenotazione obbligatoria \n>>> PRENOTA <<<\n(le prenotazioni dovranno avvenire entro giovedì 6 luglio) \nCosti  \nAdulto 10€\nBambina/Bambino 5 € \nIl pagamento potrà essere effettuato direttamente prima dell’evento presso “Il Chioschetto”. \nPagamenti accettati: Contanti |Satispay | Carte \nN.B. Il laboratorio si svolgerà con un’adesione minima di 8 famiglie\, nel caso non si raggiungesse tale adesione verrà erogato uno solo dei laboratori previsti\, unendo i due gruppi ed erogando il laboratorio con la maggiore adesione ricevuta.
URL:https://cascinafalchera.it/evento/lapina-contadina/
LOCATION:Cascina Falchera\, Strada Cuorgnè 109\, Torino
CATEGORIES:Education - Famiglie,Tutti gli eventi
ATTACH;FMTTYPE=image/jpeg:https://cascinafalchera.it/wp-content/uploads/2023/05/cascina-falchera-home-1.jpg
END:VEVENT
BEGIN:VEVENT
DTSTART;TZID=Europe/Rome:20230624T100000
DTEND;TZID=Europe/Rome:20230624T120000
DTSTAMP:20260420T075533
CREATED:20230529T092739Z
LAST-MODIFIED:20230621T092857Z
UID:355-1687600800-1687608000@cascinafalchera.it
SUMMARY:Volando si impara
DESCRIPTION:Sentirsi api in cascina\nEsperienza per avvicinarsi al mondo delle api e all’organizzazione della loro società approfondendo il mondo degli impollinatori e il loro prezioso ruolo per il mantenimento della biodiversità. Come vivono le api all’interno di un’arnia? Quanti fiori devono visitare per produrre un vasetto di miele? Perché ci sono le api a Cascina Falchera? La visita alle arnie permetterà di vedere come si organizzano questi insetti e come possiamo dialogare con loro nel pieno rispetto del loro quotidiano. \nLaboratorio didattico per famiglie fascia di età 3-8  \nPer la partecipazione ai laboratori per famiglie è sempre necessaria la presenza  di un adulto che accompagni i bambini. \n(l’attivazione del laboratorio avverrà al raggiungimento minimo dei partecipanti) \nPrenotazione obbligatoria \n>>> PRENOTA <<<\n(le prenotazioni dovranno avvenire entro giovedì 22 giugno) \nCosti  \nAdulto 10€\nBambina/Bambino 5 € \nIl pagamento potrà essere effettuato direttamente prima dell’evento presso “Il Chioschetto”. \nPagamenti accettati:  Contanti | Satispay | Carte
URL:https://cascinafalchera.it/evento/volando-si-impara/
LOCATION:Cascina Falchera\, Strada Cuorgnè 109\, Torino
CATEGORIES:Education - Famiglie,Tutti gli eventi
ATTACH;FMTTYPE=image/jpeg:https://cascinafalchera.it/wp-content/uploads/2023/05/cascina-falchera-home-1.jpg
END:VEVENT
END:VCALENDAR