BEGIN:VCALENDAR
VERSION:2.0
PRODID:-//Cascina Falchera - ECPv6.15.12.2//NONSGML v1.0//EN
CALSCALE:GREGORIAN
METHOD:PUBLISH
X-ORIGINAL-URL:https://cascinafalchera.it
X-WR-CALDESC:Eventi per Cascina Falchera
REFRESH-INTERVAL;VALUE=DURATION:PT1H
X-Robots-Tag:noindex
X-PUBLISHED-TTL:PT1H
BEGIN:VTIMEZONE
TZID:Europe/Rome
BEGIN:DAYLIGHT
TZOFFSETFROM:+0100
TZOFFSETTO:+0200
TZNAME:CEST
DTSTART:20220327T010000
END:DAYLIGHT
BEGIN:STANDARD
TZOFFSETFROM:+0200
TZOFFSETTO:+0100
TZNAME:CET
DTSTART:20221030T010000
END:STANDARD
BEGIN:DAYLIGHT
TZOFFSETFROM:+0100
TZOFFSETTO:+0200
TZNAME:CEST
DTSTART:20230326T010000
END:DAYLIGHT
BEGIN:STANDARD
TZOFFSETFROM:+0200
TZOFFSETTO:+0100
TZNAME:CET
DTSTART:20231029T010000
END:STANDARD
BEGIN:DAYLIGHT
TZOFFSETFROM:+0100
TZOFFSETTO:+0200
TZNAME:CEST
DTSTART:20240331T010000
END:DAYLIGHT
BEGIN:STANDARD
TZOFFSETFROM:+0200
TZOFFSETTO:+0100
TZNAME:CET
DTSTART:20241027T010000
END:STANDARD
END:VTIMEZONE
BEGIN:VEVENT
DTSTART;TZID=Europe/Rome:20231021T183000
DTEND;TZID=Europe/Rome:20231021T233000
DTSTAMP:20260420T140220
CREATED:20231005T104740Z
LAST-MODIFIED:20231005T104740Z
UID:988-1697913000-1697931000@cascinafalchera.it
SUMMARY:Stella DJ
DESCRIPTION:Aperitivo con musica
URL:https://cascinafalchera.it/evento/stella-dj/
LOCATION:Chioschetto – Cascina Falchera\, Strada Cuorgnè 109\, Torino
CATEGORIES:Chioschetto,Tutti gli eventi
ATTACH;FMTTYPE=image/jpeg:https://cascinafalchera.it/wp-content/uploads/2023/05/Chioschetto_Aperitivo-e1685428994910.jpeg
END:VEVENT
BEGIN:VEVENT
DTSTART;TZID=Europe/Rome:20231020T183000
DTEND;TZID=Europe/Rome:20231020T223000
DTSTAMP:20260420T140220
CREATED:20230925T092912Z
LAST-MODIFIED:20230925T092912Z
UID:946-1697826600-1697841000@cascinafalchera.it
SUMMARY:Aperitivo musicale
DESCRIPTION:Aperitivo con musica di accompagnamento
URL:https://cascinafalchera.it/evento/aperitivo-musicale-7/
LOCATION:Chioschetto – Cascina Falchera\, Strada Cuorgnè 109\, Torino
CATEGORIES:Chioschetto,Tutti gli eventi
ATTACH;FMTTYPE=image/jpeg:https://cascinafalchera.it/wp-content/uploads/2023/05/Chioschetto_Aperitivo-e1685428994910.jpeg
END:VEVENT
BEGIN:VEVENT
DTSTART;TZID=Europe/Rome:20231014T183000
DTEND;TZID=Europe/Rome:20231015T000000
DTSTAMP:20260420T140220
CREATED:20230921T121938Z
LAST-MODIFIED:20231010T101155Z
UID:932-1697308200-1697328000@cascinafalchera.it
SUMMARY:Aperitivo musicale
DESCRIPTION:Aperitivo con musica di accompagnamento.
URL:https://cascinafalchera.it/evento/sfacenzo-dj-4/
LOCATION:Chioschetto – Cascina Falchera\, Strada Cuorgnè 109\, Torino
CATEGORIES:Chioschetto,Tutti gli eventi
ATTACH;FMTTYPE=image/jpeg:https://cascinafalchera.it/wp-content/uploads/2023/05/Chioschetto_Aperitivo-e1685428994910.jpeg
END:VEVENT
BEGIN:VEVENT
DTSTART;TZID=Europe/Rome:20231013T190000
DTEND;TZID=Europe/Rome:20231013T230000
DTSTAMP:20260420T140220
CREATED:20230927T094024Z
LAST-MODIFIED:20231011T142107Z
UID:981-1697223600-1697238000@cascinafalchera.it
SUMMARY:Ricercatori alla Spina - serata di divulgazione multidisciplinare
DESCRIPTION:RICERCATORI ALLA SPINA\nMoltissimi giovani appassionati e appassionate di ricerca si ritrovano a portare avanti lavori “paralleli” nel mondo della ristorazione. Perché non unire le due esperienze di vita servendo ai clienti la propria passione? Gli scienziati e le scienziate diventeranno per una sera speciali camerieri che porteranno a tavola racconti brevi e curiosità scientifiche che li appassionano. \nIl format viene sviluppato dall’impresa sociale Psiquadro da un’idea di Claudio Forte\, oggi professore associato presso il Dipartimento di Scienze Veterinarie di UniTo\, con alle spalle un decennio di servizio in sala.\nGli avventori della serata avranno a disposizione due menù\, uno classico con tutta l’offerta del chioschetto di Cascina Falchera\, l’altro scientifico che presenterà i diversi piatti scientifici con un titolo e una breve accattivante descrizione.\nSpazieremo insieme dalle stelle alle stalle esplorando tutto quello che c’è nel mezzo. Farmacologia\, psicologia\, informatica\, filosofia e diritto sono solo alcuni dei campi che potrete ordinare per saziare la vostra fame di conoscenza. Potrete incontrare e dialogare con ricercatori e ricercatrici che\, con entusiasmo\, si sono resi disponibili per la serata.\n\nDa un’idea di Claudio Forte\, Prodotto da Psiquadro\, In collaborazione con CentroScienza Onlus e Cascina Falchera.\nPromosso dal Dipartimento di Scienze Veterinarie e Dipartimento di Scienze Agrarie\, Forestali e Alimentari dell’Università di Torino.\n\n\nPRENOTAZIONE TAVOLI CONSIGLIATA. \nCHIAMARE AL 3450801938
URL:https://cascinafalchera.it/evento/ricercatori-alla-spina-serata-di-divulgazione-multidisciplinare/
LOCATION:Chioschetto – Cascina Falchera\, Strada Cuorgnè 109\, Torino
CATEGORIES:Chioschetto,Tutti gli eventi
ATTACH;FMTTYPE=image/jpeg:https://cascinafalchera.it/wp-content/uploads/2023/09/ricercatori-alla-spina.jpg
END:VEVENT
BEGIN:VEVENT
DTSTART;TZID=Europe/Rome:20231006T183000
DTEND;TZID=Europe/Rome:20231006T223000
DTSTAMP:20260420T140220
CREATED:20230807T153418Z
LAST-MODIFIED:20230807T153418Z
UID:842-1696617000-1696631400@cascinafalchera.it
SUMMARY:Aperitivo musicale
DESCRIPTION:Aperitivo con musica di accompagnamento
URL:https://cascinafalchera.it/evento/aperitivo-musicale-6/
LOCATION:Chioschetto – Cascina Falchera\, Strada Cuorgnè 109\, Torino
CATEGORIES:Chioschetto,Tutti gli eventi
ATTACH;FMTTYPE=image/jpeg:https://cascinafalchera.it/wp-content/uploads/2023/05/Chioschetto_Aperitivo-e1685428994910.jpeg
END:VEVENT
BEGIN:VEVENT
DTSTART;TZID=Europe/Rome:20230930T183000
DTEND;TZID=Europe/Rome:20231001T000000
DTSTAMP:20260420T140220
CREATED:20230807T153009Z
LAST-MODIFIED:20230807T153009Z
UID:840-1696098600-1696118400@cascinafalchera.it
SUMMARY:Aperitivo dell'Accoglienza
DESCRIPTION:Aperitivo con musica in occasione della Festa dell’Accoglienza di Casa Affido
URL:https://cascinafalchera.it/evento/aperitivo-dellaccoglienza/
LOCATION:Chioschetto – Cascina Falchera\, Strada Cuorgnè 109\, Torino
CATEGORIES:Chioschetto,Tutti gli eventi
ATTACH;FMTTYPE=image/jpeg:https://cascinafalchera.it/wp-content/uploads/2023/05/cascina-falchera-apre-alla-citta-foto-marzia-allietta-57-copia.jpg
END:VEVENT
BEGIN:VEVENT
DTSTART;TZID=Europe/Rome:20230929T183000
DTEND;TZID=Europe/Rome:20230929T223000
DTSTAMP:20260420T140220
CREATED:20230807T152249Z
LAST-MODIFIED:20230927T092351Z
UID:837-1696012200-1696026600@cascinafalchera.it
SUMMARY:Aperitivo musicale
DESCRIPTION:Aperitivo con musica di accompagnamento
URL:https://cascinafalchera.it/evento/per-filo-e-per-sogno-aperitivo-con-musica-post-evento-finale/
LOCATION:Chioschetto – Cascina Falchera\, Strada Cuorgnè 109\, Torino
CATEGORIES:Chioschetto,Tutti gli eventi
ATTACH;FMTTYPE=image/jpeg:https://cascinafalchera.it/wp-content/uploads/2023/05/Chioschetto_Aperitivo-e1685428994910.jpeg
END:VEVENT
BEGIN:VEVENT
DTSTART;TZID=Europe/Rome:20230923T183000
DTEND;TZID=Europe/Rome:20230924T000000
DTSTAMP:20260420T140220
CREATED:20230807T145247Z
LAST-MODIFIED:20230807T145247Z
UID:835-1695493800-1695513600@cascinafalchera.it
SUMMARY:Sfacenzo DJ
DESCRIPTION:Dj set + aperitivo
URL:https://cascinafalchera.it/evento/sfacenzo-dj-3/
LOCATION:Chioschetto – Cascina Falchera\, Strada Cuorgnè 109\, Torino
CATEGORIES:Chioschetto,Tutti gli eventi
ATTACH;FMTTYPE=image/jpeg:https://cascinafalchera.it/wp-content/uploads/2023/05/Chioschetto_Aperitivo-e1685428994910.jpeg
END:VEVENT
BEGIN:VEVENT
DTSTART;TZID=Europe/Rome:20230922T183000
DTEND;TZID=Europe/Rome:20230922T223000
DTSTAMP:20260420T140220
CREATED:20230807T144648Z
LAST-MODIFIED:20230807T144648Z
UID:832-1695407400-1695421800@cascinafalchera.it
SUMMARY:Aperitivo musicale
DESCRIPTION:Aperitivo con musica di accompagnamento
URL:https://cascinafalchera.it/evento/aperitivo-musicale-5/
LOCATION:Chioschetto – Cascina Falchera\, Strada Cuorgnè 109\, Torino
CATEGORIES:Chioschetto,Tutti gli eventi
ATTACH;FMTTYPE=image/jpeg:https://cascinafalchera.it/wp-content/uploads/2023/05/Chioschetto_Aperitivo-e1685428994910.jpeg
END:VEVENT
BEGIN:VEVENT
DTSTART;TZID=Europe/Rome:20230916T183000
DTEND;TZID=Europe/Rome:20230917T000000
DTSTAMP:20260420T140220
CREATED:20230807T143258Z
LAST-MODIFIED:20230807T143258Z
UID:829-1694889000-1694908800@cascinafalchera.it
SUMMARY:Aperitivo musicale
DESCRIPTION:Aperitivo con musica di accompagnamento
URL:https://cascinafalchera.it/evento/aperitivo-musicale-4/
LOCATION:Chioschetto – Cascina Falchera\, Strada Cuorgnè 109\, Torino
CATEGORIES:Chioschetto,Tutti gli eventi
ATTACH;FMTTYPE=image/jpeg:https://cascinafalchera.it/wp-content/uploads/2023/05/Chioschetto_Aperitivo-e1685428994910.jpeg
END:VEVENT
BEGIN:VEVENT
DTSTART;TZID=Europe/Rome:20230909T183000
DTEND;TZID=Europe/Rome:20230910T000000
DTSTAMP:20260420T140220
CREATED:20230807T141532Z
LAST-MODIFIED:20230807T141532Z
UID:827-1694284200-1694304000@cascinafalchera.it
SUMMARY:Aperitivo musicale
DESCRIPTION:Aperitivo con musica di accompagnamento
URL:https://cascinafalchera.it/evento/aperitivo-musicale-3/
LOCATION:Chioschetto – Cascina Falchera\, Strada Cuorgnè 109\, Torino
CATEGORIES:Chioschetto,Tutti gli eventi
ATTACH;FMTTYPE=image/jpeg:https://cascinafalchera.it/wp-content/uploads/2023/05/Chioschetto_Aperitivo-e1685428994910.jpeg
END:VEVENT
BEGIN:VEVENT
DTSTART;TZID=Europe/Rome:20230908T183000
DTEND;TZID=Europe/Rome:20230908T223000
DTSTAMP:20260420T140220
CREATED:20230807T134807Z
LAST-MODIFIED:20230807T134807Z
UID:825-1694197800-1694212200@cascinafalchera.it
SUMMARY:Aperitivo musicale
DESCRIPTION:Aperitivo con musica di accompagnamento
URL:https://cascinafalchera.it/evento/aperitivo-musicale-2/
LOCATION:Chioschetto – Cascina Falchera\, Strada Cuorgnè 109\, Torino
CATEGORIES:Chioschetto,Tutti gli eventi
ATTACH;FMTTYPE=image/jpeg:https://cascinafalchera.it/wp-content/uploads/2023/05/Chioschetto_Aperitivo-e1685428994910.jpeg
END:VEVENT
BEGIN:VEVENT
DTSTART;TZID=Europe/Rome:20230902T183000
DTEND;TZID=Europe/Rome:20230903T000000
DTSTAMP:20260420T140220
CREATED:20230807T134430Z
LAST-MODIFIED:20230807T144351Z
UID:823-1693679400-1693699200@cascinafalchera.it
SUMMARY:Sfacenzo DJ
DESCRIPTION:Dj set + aperitivo
URL:https://cascinafalchera.it/evento/sfacenzo-dj-2/
LOCATION:Chioschetto – Cascina Falchera\, Strada Cuorgnè 109\, Torino
CATEGORIES:Chioschetto,Tutti gli eventi
ATTACH;FMTTYPE=image/jpeg:https://cascinafalchera.it/wp-content/uploads/2023/05/Chioschetto_Aperitivo-e1685428994910.jpeg
END:VEVENT
BEGIN:VEVENT
DTSTART;TZID=Europe/Rome:20230901T183000
DTEND;TZID=Europe/Rome:20230901T223000
DTSTAMP:20260420T140220
CREATED:20230807T133320Z
LAST-MODIFIED:20230807T133320Z
UID:820-1693593000-1693607400@cascinafalchera.it
SUMMARY:Aperitivo musicale
DESCRIPTION:Aperitivo con musica di accompagnamento
URL:https://cascinafalchera.it/evento/aperitivo-musicale/
LOCATION:Chioschetto – Cascina Falchera\, Strada Cuorgnè 109\, Torino
CATEGORIES:Chioschetto,Tutti gli eventi
ATTACH;FMTTYPE=image/jpeg:https://cascinafalchera.it/wp-content/uploads/2023/05/Chioschetto_Aperitivo-e1685428994910.jpeg
END:VEVENT
BEGIN:VEVENT
DTSTART;TZID=Europe/Rome:20230728T180000
DTEND;TZID=Europe/Rome:20230728T210000
DTSTAMP:20260420T140220
CREATED:20230529T094912Z
LAST-MODIFIED:20230603T164855Z
UID:397-1690567200-1690578000@cascinafalchera.it
SUMMARY:DJ Flavio Castagno + aperitivo
DESCRIPTION:Dj set + aperitivo
URL:https://cascinafalchera.it/evento/sfacenzo-dj/
LOCATION:Chioschetto – Cascina Falchera\, Strada Cuorgnè 109\, Torino
CATEGORIES:Chioschetto,Tutti gli eventi
ATTACH;FMTTYPE=image/jpeg:https://cascinafalchera.it/wp-content/uploads/2023/05/Chioschetto_Aperitivo-e1685428994910.jpeg
END:VEVENT
BEGIN:VEVENT
DTSTART;TZID=Europe/Rome:20230721T180000
DTEND;TZID=Europe/Rome:20230721T210000
DTSTAMP:20260420T140220
CREATED:20230529T094626Z
LAST-MODIFIED:20230609T054046Z
UID:391-1689962400-1689973200@cascinafalchera.it
SUMMARY:Sfacenzo DJ
DESCRIPTION:Dj set + aperitivo
URL:https://cascinafalchera.it/evento/damonji-dj/
LOCATION:Chioschetto – Cascina Falchera\, Strada Cuorgnè 109\, Torino
CATEGORIES:Chioschetto,Tutti gli eventi
ATTACH;FMTTYPE=image/jpeg:https://cascinafalchera.it/wp-content/uploads/2023/05/Chioschetto_Aperitivo-e1685428994910.jpeg
END:VEVENT
BEGIN:VEVENT
DTSTART;TZID=Europe/Rome:20230630T180000
DTEND;TZID=Europe/Rome:20230630T210000
DTSTAMP:20260420T140220
CREATED:20230529T092929Z
LAST-MODIFIED:20230629T095253Z
UID:359-1688148000-1688158800@cascinafalchera.it
SUMMARY:DJ Sfacenzo + aperitivo
DESCRIPTION:Djset + aperitivo
URL:https://cascinafalchera.it/evento/musica-al-chioschetto-2/
LOCATION:Cascina Falchera\, Strada Cuorgnè 109\, Torino
CATEGORIES:Chioschetto,Tutti gli eventi
ATTACH;FMTTYPE=image/jpeg:https://cascinafalchera.it/wp-content/uploads/2023/05/Chioschetto_Aperitivo-e1685428994910.jpeg
END:VEVENT
BEGIN:VEVENT
DTSTART;TZID=Europe/Rome:20230623T180000
DTEND;TZID=Europe/Rome:20230623T210000
DTSTAMP:20260420T140220
CREATED:20230529T092427Z
LAST-MODIFIED:20230603T164240Z
UID:349-1687543200-1687554000@cascinafalchera.it
SUMMARY:DJ Sfacenzo + aperitivo
DESCRIPTION:Dj set+ aperitivo
URL:https://cascinafalchera.it/evento/miriam-ulivi-e-daniela-taglione-voce-e-fisarmonica/
CATEGORIES:Chioschetto,Concerto,Tutti gli eventi
ATTACH;FMTTYPE=image/jpeg:https://cascinafalchera.it/wp-content/uploads/2023/05/Chioschetto_Aperitivo-e1685428994910.jpeg
END:VEVENT
BEGIN:VEVENT
DTSTART;TZID=Europe/Rome:20230609T180000
DTEND;TZID=Europe/Rome:20230609T210000
DTSTAMP:20260420T140220
CREATED:20230529T090354Z
LAST-MODIFIED:20230603T163912Z
UID:326-1686333600-1686344400@cascinafalchera.it
SUMMARY:Concertino di Julie
DESCRIPTION:Musica dal vivo + aperitivo \n 
URL:https://cascinafalchera.it/evento/concertino-di-julie/
LOCATION:Chioschetto – Cascina Falchera\, Strada Cuorgnè 109\, Torino
CATEGORIES:Chioschetto,Concerto,Tutti gli eventi
ATTACH;FMTTYPE=image/jpeg:https://cascinafalchera.it/wp-content/uploads/2023/05/WhatsApp-Image-2023-06-03-at-14.43.29.jpeg
END:VEVENT
END:VCALENDAR