BEGIN:VCALENDAR
VERSION:2.0
PRODID:-//Cascina Falchera - ECPv6.15.12.2//NONSGML v1.0//EN
CALSCALE:GREGORIAN
METHOD:PUBLISH
X-WR-CALNAME:Cascina Falchera
X-ORIGINAL-URL:https://cascinafalchera.it
X-WR-CALDESC:Eventi per Cascina Falchera
REFRESH-INTERVAL;VALUE=DURATION:PT1H
X-Robots-Tag:noindex
X-PUBLISHED-TTL:PT1H
BEGIN:VTIMEZONE
TZID:Europe/Rome
BEGIN:DAYLIGHT
TZOFFSETFROM:+0100
TZOFFSETTO:+0200
TZNAME:CEST
DTSTART:20240331T010000
END:DAYLIGHT
BEGIN:STANDARD
TZOFFSETFROM:+0200
TZOFFSETTO:+0100
TZNAME:CET
DTSTART:20241027T010000
END:STANDARD
BEGIN:DAYLIGHT
TZOFFSETFROM:+0100
TZOFFSETTO:+0200
TZNAME:CEST
DTSTART:20250330T010000
END:DAYLIGHT
BEGIN:STANDARD
TZOFFSETFROM:+0200
TZOFFSETTO:+0100
TZNAME:CET
DTSTART:20251026T010000
END:STANDARD
BEGIN:DAYLIGHT
TZOFFSETFROM:+0100
TZOFFSETTO:+0200
TZNAME:CEST
DTSTART:20260329T010000
END:DAYLIGHT
BEGIN:STANDARD
TZOFFSETFROM:+0200
TZOFFSETTO:+0100
TZNAME:CET
DTSTART:20261025T010000
END:STANDARD
END:VTIMEZONE
BEGIN:VEVENT
DTSTART;TZID=Europe/Rome:20250118T150000
DTEND;TZID=Europe/Rome:20250118T163000
DTSTAMP:20260421T114211
CREATED:20250113T165015Z
LAST-MODIFIED:20250113T165015Z
UID:3041-1737212400-1737217800@cascinafalchera.it
SUMMARY:UNA CAPANNA NEL BOSCO
DESCRIPTION:Una giornata speciale per bambini e bambine\, immersi nella magia del bosco. Un’avventura dove la natura diventa un luogo di scoperta\, crescita e creatività\, alla ricerca di cosa significa davvero “casa”. \nCosa faremo\nInizio della giornata: Dopo l’accoglienza\, partiremo insieme per esplorare il bosco\, lasciandoci ispirare dalla natura.\nRifletteremo sul concetto di casa: Cos’è una casa? Chi la abita? Come la vorremmo se fosse tutta nostra? Condivideremo idee e sogni per poi passare alla progettazione\, creando piccoli modellini di capanne. \nCostruzione della capanna: Nel pomeriggio\, sarà il momento di mettere le mani in pasta! Raccoglieremo materiali naturali e collaboreremo per costruire una vera capanna\, rifugio sicuro e speciale.\nCondivisione finale: Chiuderemo la giornata raccontandoci come abbiamo lavorato insieme\, superato le difficoltà e dato vita alle nostre idee.\nPerché partecipare? \n\nScoprire le proprie capacità manuali e creative\n Imparare a collaborare e risolvere problemi insieme\n Riflettere su temi importanti come la casa e il rifugio\, per noi e per gli animali\nVivere una giornata immersi nella natura\, tra avventura e immaginazione\n\nUn’esperienza unica per crescere\, esplorare e costruire\, lasciandosi ispirare dal bosco e dalla sua magia. \nScopri tutto il programma degli appuntamenti di Ibridi scaricando gratuitamente l’app.
URL:https://cascinafalchera.it/evento/una-capanna-nel-bosco/
LOCATION:Cascina Falchera\, Strada Cuorgnè 109\, Torino
CATEGORIES:Education - Famiglie
ATTACH;FMTTYPE=image/png:https://cascinafalchera.it/wp-content/uploads/2025/01/Post-IBRIDI.png
END:VEVENT
BEGIN:VEVENT
DTSTART;TZID=Europe/Rome:20250129T200000
DTEND;TZID=Europe/Rome:20250129T230000
DTSTAMP:20260421T114211
CREATED:20241205T115754Z
LAST-MODIFIED:20250115T104613Z
UID:3011-1738180800-1738191600@cascinafalchera.it
SUMMARY:CENA A BUFFET PROGETTO GERMONTE
DESCRIPTION:L’evento è organizzato nell’ambito del progetto Germonte 6 “VALORIZZAZIONE DELLA BIODIVERSITÀ ZOOTECNICA DEL PIEMONTE ATTRAVERSO LA DIVULGAZIONE”.\n\nIl progetto ha l’obiettivo di  valorizzare le razze avicunicole ed ovi-caprine locali  e il territorio in cui sono conservate attraverso la divulgazione dei valori legati all’agrobiodiversità; in particolare il progetto si ripropone di portare il consumatore alla riscoperta delle tradizioni\, della cultura e dei sapori tipici delle aree di allevamento delle risorse locali;\n\nIl 29 Gennaio 2024 dalle ore 20:00 a Cascina Falchera sarà organizzato un momento di divulgazione caratterizzato da una gustosa cena con prodotti di razza alla scoperta della biodiversità zootecnica del Piemonte.\n\n\n\n\nPrenotazione obbligatoria \n>>> PRENOTA <<<\n(le prenotazioni dovranno avvenire entro 24 Gennaio 2025) \nCosti  \n20€ a persona \nIl pagamento potrà essere effettuato direttamente prima dell’evento presso “Il Chioschetto”. \nPagamenti accettati: Contanti | Satispay |Carte \nMenù\nInsalata di Verdure marinate e frutta secca;\nPasta fresca al ragù di coniglio;\nSalame cotto con purè di patate e ciapinabò;\nGallina o coniglio in umido con funghi;\nTiramisù allo zabaione;\nAcqua\, Caffè e 1 Bottiglia di vino ogni 4 persone.
URL:https://cascinafalchera.it/evento/cena-a-buffet-progetto-germonte-2/
LOCATION:Cascina Falchera\, Strada Cuorgnè 109\, Torino
CATEGORIES:Tutti gli eventi
ATTACH;FMTTYPE=image/jpeg:https://cascinafalchera.it/wp-content/uploads/2024/12/04_Locandina-A3_Germonte-6_Falchera-ricercatori_02_page-0001.jpg
END:VEVENT
END:VCALENDAR