BEGIN:VCALENDAR
VERSION:2.0
PRODID:-//Cascina Falchera - ECPv6.15.12.2//NONSGML v1.0//EN
CALSCALE:GREGORIAN
METHOD:PUBLISH
X-ORIGINAL-URL:https://cascinafalchera.it
X-WR-CALDESC:Eventi per Cascina Falchera
REFRESH-INTERVAL;VALUE=DURATION:PT1H
X-Robots-Tag:noindex
X-PUBLISHED-TTL:PT1H
BEGIN:VTIMEZONE
TZID:Europe/Rome
BEGIN:DAYLIGHT
TZOFFSETFROM:+0100
TZOFFSETTO:+0200
TZNAME:CEST
DTSTART:20230326T010000
END:DAYLIGHT
BEGIN:STANDARD
TZOFFSETFROM:+0200
TZOFFSETTO:+0100
TZNAME:CET
DTSTART:20231029T010000
END:STANDARD
BEGIN:DAYLIGHT
TZOFFSETFROM:+0100
TZOFFSETTO:+0200
TZNAME:CEST
DTSTART:20240331T010000
END:DAYLIGHT
BEGIN:STANDARD
TZOFFSETFROM:+0200
TZOFFSETTO:+0100
TZNAME:CET
DTSTART:20241027T010000
END:STANDARD
BEGIN:DAYLIGHT
TZOFFSETFROM:+0100
TZOFFSETTO:+0200
TZNAME:CEST
DTSTART:20250330T010000
END:DAYLIGHT
BEGIN:STANDARD
TZOFFSETFROM:+0200
TZOFFSETTO:+0100
TZNAME:CET
DTSTART:20251026T010000
END:STANDARD
END:VTIMEZONE
BEGIN:VEVENT
DTSTART;TZID=Europe/Rome:20240106T150000
DTEND;TZID=Europe/Rome:20240106T170000
DTSTAMP:20260421T161432
CREATED:20231207T094112Z
LAST-MODIFIED:20240126T162825Z
UID:1313-1704553200-1704560400@cascinafalchera.it
SUMMARY:Incontri gratuiti di canto e intrattenimento musicale per anziani
DESCRIPTION:PRENOTAZIONI E ISCRIZIONI\nIl 6 gennaio\, durante la festa di apertura\, si prenderanno le adesioni. \nGli incontri sono gratuiti ma sarà obbligatoria la prenotazione e iscrizione chiamando il numero 335 5483679 oppure via mail: info@cascinafalchera.it
URL:https://cascinafalchera.it/evento/incontri-gratuiti-di-canto-e-intrattenimento-musicale-per-anziani/
LOCATION:Cascina Falchera\, Strada Cuorgnè 109\, Torino
CATEGORIES:Education - Adulti,Tutti gli eventi,workshop
ATTACH;FMTTYPE=image/jpeg:https://cascinafalchera.it/wp-content/uploads/2023/12/Cascina-Falchera-6-gennaio.jpg
END:VEVENT
BEGIN:VEVENT
DTSTART;TZID=Europe/Rome:20240112T180000
DTEND;TZID=Europe/Rome:20240112T200000
DTSTAMP:20260421T161432
CREATED:20231207T093840Z
LAST-MODIFIED:20240102T144700Z
UID:1308-1705082400-1705089600@cascinafalchera.it
SUMMARY:Presentazione libro con autori | Storie di ragazze che non volevano essere belle
DESCRIPTION:  \n  \n  \n  \n  \n 
URL:https://cascinafalchera.it/evento/presentazione-libro-con-autori-storie-di-ragazze-che-non-volevano-essere-belle/
LOCATION:Cascina Falchera\, Strada Cuorgnè 109\, Torino
CATEGORIES:Presentazione,Tutti gli eventi
ATTACH;FMTTYPE=image/jpeg:https://cascinafalchera.it/wp-content/uploads/2023/12/Cascina-Falchera-12-gennaio-2.jpg
END:VEVENT
BEGIN:VEVENT
DTSTART;TZID=Europe/Rome:20240119T150000
DTEND;TZID=Europe/Rome:20240119T163000
DTSTAMP:20260421T161432
CREATED:20240126T163329Z
LAST-MODIFIED:20240206T112255Z
UID:1456-1705676400-1705681800@cascinafalchera.it
SUMMARY:Incontri gratuiti di canto e ascolto musicale per anziani
DESCRIPTION:Ogni venerdì gli incontri settimanali gratuiti di canto e ascolto musicale\, dedicati ai nostri cari nonni e genitori. Ideato per gli anziani dallo spirito giovane ma aperto a tutti gli adulti che vogliono trascorrere un’ora e mezza in compagnia\, gli incontri sono tenuti dalla maestra di canto Giovanna Gattuso.
URL:https://cascinafalchera.it/evento/corso-musica-1/
LOCATION:Cascina Falchera\, Strada Cuorgnè 109\, Torino
CATEGORIES:Education - Adulti,Tutti gli eventi,workshop
ATTACH;FMTTYPE=image/jpeg:https://cascinafalchera.it/wp-content/uploads/2024/01/Cascina-Falchera-Incontri-musicali.jpg
END:VEVENT
BEGIN:VEVENT
DTSTART;VALUE=DATE:20240126
DTEND;VALUE=DATE:20240128
DTSTAMP:20260421T161432
CREATED:20231214T234528Z
LAST-MODIFIED:20240110T170426Z
UID:1422-1706227200-1706399999@cascinafalchera.it
SUMMARY:ROGGIA | Workshop
DESCRIPTION:A partire da Marzo 2024 Cascina Falchera ospiterà Roggia\, uno spazio dove artisti\, designers e creativi\, collaborando con la comunità locale\, potranno sperimentare nuovi linguaggi comunicativi e immaginare insieme il futuro di questo meraviglioso spazio rurale alle porte della città. \nStiamo assemblando un team interdisciplinare di 15 giovani creativi che si occuperà di sviluppare dei prototipi artistici e aiutarci ad organizzare un evento inaugurale per Roggia. \nQuesto invito è diretto a te se sei:  \n\nUno studente di design\, belle arti\, architettura o semplicemente un creativo appassionato di queste tematiche.\nHai tra i 16 e i 26 anni?\n\nUnisciti al team di Roggia per due giorni di workshops a Cascina Falchera. Le attività saranno facilitate da Sara Nardi e Matteo Ferrari dall’azienda Volcano\, basata a Copenhagen e specializzata in place-making e rigenerazione urbana\, in collaborazione con il Consorzio Kairos. \nLe attività sono rese possibili grazie a DESIRE – Designing the Irresistible Circular Society\, un progetto europeo sostenuto dal New European Bauhaus\, finanziato dalla Commissione Europea. \nScopri
URL:https://cascinafalchera.it/evento/roggia-workshop/
CATEGORIES:workshop
ATTACH;FMTTYPE=image/jpeg:https://cascinafalchera.it/wp-content/uploads/2023/12/Desire-Roggia-1080x1350-ita-2.jpg
END:VEVENT
BEGIN:VEVENT
DTSTART;TZID=Europe/Rome:20240126T150000
DTEND;TZID=Europe/Rome:20240126T163000
DTSTAMP:20260421T161432
CREATED:20240126T163547Z
LAST-MODIFIED:20240126T163547Z
UID:1460-1706281200-1706286600@cascinafalchera.it
SUMMARY:Incontri gratuiti di canto e ascolto musicale per anziani
DESCRIPTION:Ogni venerdì gli incontri settimanali gratuiti di canto e ascolto musicale\, dedicati ai nostri cari nonni e genitori. Ideato per gli anziani dallo spirito giovane ma aperto a tutti gli adulti che vogliono trascorrere un’ora e mezza in compagnia\, gli incontri sono tenuti dalla maestra di canto Giovanna Gattuso.
URL:https://cascinafalchera.it/evento/corso-musica-2/
CATEGORIES:Education - Adulti,Tutti gli eventi,workshop
ATTACH;FMTTYPE=image/jpeg:https://cascinafalchera.it/wp-content/uploads/2024/01/Cascina-Falchera-Incontri-musicali.jpg
END:VEVENT
BEGIN:VEVENT
DTSTART;TZID=Europe/Rome:20240127T143000
DTEND;TZID=Europe/Rome:20240127T173000
DTSTAMP:20260421T161432
CREATED:20240116T105955Z
LAST-MODIFIED:20240116T110519Z
UID:1445-1706365800-1706376600@cascinafalchera.it
SUMMARY:Metti un gioco...in Cascina!
DESCRIPTION:Cascina Falchera sarà teatro di una divertente giornata di gioco tra famiglie.\n\n\nLa cascina verrà allestita con escape game fisici e videogiochi di diversi generi con i quali le famiglie dovranno misurarsi affrontando le prove previste nelle diverse postazioni di gioco\n\n\nGenitori e figli dovranno giocare insieme e collaborare per cercare di risolvere gli enigmi o competere per ottenere il punteggio più alto e vincere la gara! Il pomeriggio sarà soprattutto un momento in cui genitori e figli potranno stare insieme e scoprire un nuovo modo di conoscersi e di parlarsi attraverso ciò che accade durante il gioco.\n\nSabato 27 gennaio 2024 | dalle ore 14.30 alle ore 17.30\n\n\n\nPer iscrizioni compila il modulo cliccando su ISCRIVITI\n\n\nL’attività è organizzata e gestita dagli EduGamers di Crescere Insieme e dagli educatori di Associazione Eufemia\, in coprogettazione con il Centro Relazioni e Famiglie della Città di Torino.
URL:https://cascinafalchera.it/evento/metti-un-gioco-in-cascina/
LOCATION:Cascina Falchera\, Strada Cuorgnè 109\, Torino
CATEGORIES:Education - Famiglie,Tutti gli eventi
ATTACH;FMTTYPE=image/jpeg:https://cascinafalchera.it/wp-content/uploads/2024/01/Giocoincascina.jpg
END:VEVENT
END:VCALENDAR