BEGIN:VCALENDAR
VERSION:2.0
PRODID:-//Cascina Falchera - ECPv6.15.12.2//NONSGML v1.0//EN
CALSCALE:GREGORIAN
METHOD:PUBLISH
X-ORIGINAL-URL:https://cascinafalchera.it
X-WR-CALDESC:Eventi per Cascina Falchera
REFRESH-INTERVAL;VALUE=DURATION:PT1H
X-Robots-Tag:noindex
X-PUBLISHED-TTL:PT1H
BEGIN:VTIMEZONE
TZID:Europe/Rome
BEGIN:DAYLIGHT
TZOFFSETFROM:+0100
TZOFFSETTO:+0200
TZNAME:CEST
DTSTART:20220327T010000
END:DAYLIGHT
BEGIN:STANDARD
TZOFFSETFROM:+0200
TZOFFSETTO:+0100
TZNAME:CET
DTSTART:20221030T010000
END:STANDARD
BEGIN:DAYLIGHT
TZOFFSETFROM:+0100
TZOFFSETTO:+0200
TZNAME:CEST
DTSTART:20230326T010000
END:DAYLIGHT
BEGIN:STANDARD
TZOFFSETFROM:+0200
TZOFFSETTO:+0100
TZNAME:CET
DTSTART:20231029T010000
END:STANDARD
BEGIN:DAYLIGHT
TZOFFSETFROM:+0100
TZOFFSETTO:+0200
TZNAME:CEST
DTSTART:20240331T010000
END:DAYLIGHT
BEGIN:STANDARD
TZOFFSETFROM:+0200
TZOFFSETTO:+0100
TZNAME:CET
DTSTART:20241027T010000
END:STANDARD
END:VTIMEZONE
BEGIN:VEVENT
DTSTART;TZID=Europe/Rome:20231111T100000
DTEND;TZID=Europe/Rome:20231111T220000
DTSTAMP:20260421T190611
CREATED:20231114T101719Z
LAST-MODIFIED:20231114T101719Z
UID:1208-1699696800-1699740000@cascinafalchera.it
SUMMARY:Festa d'Autunno in Cascina
DESCRIPTION:La Festa d’Autunno – San Martino in Cascina nasce con l’obiettivo di condividere i frutti dell’impegno della cooperativa Limen e dei partner del Consorzio Kairos nell’agricoltura sostenibile\, promuovendo una maggiore consapevolezza sul tema dell’ambiente. Come un tempo i contadini festeggiavano la fine del raccolto nel giorno di San Martino\, Cascina Falchera celebra il suo primo capodanno agricolo. \nL’evento prevede un menù a Km0\, un mercatino offerto dai soggetti partner di Cascina e
URL:https://cascinafalchera.it/evento/festa-dautunno-in-cascina/
LOCATION:Cascina Falchera\, Strada Cuorgnè 109\, Torino
CATEGORIES:Education - Famiglie,Tutti gli eventi
ATTACH;FMTTYPE=image/jpeg:https://cascinafalchera.it/wp-content/uploads/2023/10/Prima-Festa-dautunno-e1698222408315.jpg
END:VEVENT
BEGIN:VEVENT
DTSTART;TZID=Europe/Rome:20231115T100000
DTEND;TZID=Europe/Rome:20231115T130000
DTSTAMP:20260421T190611
CREATED:20231114T101428Z
LAST-MODIFIED:20231114T102359Z
UID:1206-1700042400-1700053200@cascinafalchera.it
SUMMARY:Dal green deal europeo verso quartieri più sostenibili a Torino
DESCRIPTION:DAL GREEN DEAL EUROPEO VERSO QUARTIERI PIÙ SOSTENIBILI A TORINO\nUn manifesto e un progetto pilota del New European Bauhaus a Falchera \nMercoledì 15 Novembre\, ore 10.00 – 13.00\nCascina Falchera | Strada Cuorgnè 109\, Torino \nverranno presentati a cittadine e cittadini il Manifesto del New European Bauhaus della Città di Torino e il progetto DESIRE The Irresistible Circular Society. \n  \nSCOPRI DI PIÙ
URL:https://cascinafalchera.it/evento/dal-green-deal-europeo-verso-quartieri-piu-sostenibili-a-torino/
LOCATION:Cascina Falchera\, Strada Cuorgnè 109\, Torino
CATEGORIES:Tutti gli eventi
ATTACH;FMTTYPE=image/jpeg:https://cascinafalchera.it/wp-content/uploads/2023/11/PHOTO-2023-11-14-10-32-54.jpg
END:VEVENT
END:VCALENDAR