BEGIN:VCALENDAR
VERSION:2.0
PRODID:-//Cascina Falchera - ECPv6.15.12.2//NONSGML v1.0//EN
CALSCALE:GREGORIAN
METHOD:PUBLISH
X-WR-CALNAME:Cascina Falchera
X-ORIGINAL-URL:https://cascinafalchera.it
X-WR-CALDESC:Eventi per Cascina Falchera
REFRESH-INTERVAL;VALUE=DURATION:PT1H
X-Robots-Tag:noindex
X-PUBLISHED-TTL:PT1H
BEGIN:VTIMEZONE
TZID:Europe/Rome
BEGIN:DAYLIGHT
TZOFFSETFROM:+0100
TZOFFSETTO:+0200
TZNAME:CEST
DTSTART:20220327T010000
END:DAYLIGHT
BEGIN:STANDARD
TZOFFSETFROM:+0200
TZOFFSETTO:+0100
TZNAME:CET
DTSTART:20221030T010000
END:STANDARD
BEGIN:DAYLIGHT
TZOFFSETFROM:+0100
TZOFFSETTO:+0200
TZNAME:CEST
DTSTART:20230326T010000
END:DAYLIGHT
BEGIN:STANDARD
TZOFFSETFROM:+0200
TZOFFSETTO:+0100
TZNAME:CET
DTSTART:20231029T010000
END:STANDARD
BEGIN:DAYLIGHT
TZOFFSETFROM:+0100
TZOFFSETTO:+0200
TZNAME:CEST
DTSTART:20240331T010000
END:DAYLIGHT
BEGIN:STANDARD
TZOFFSETFROM:+0200
TZOFFSETTO:+0100
TZNAME:CET
DTSTART:20241027T010000
END:STANDARD
END:VTIMEZONE
BEGIN:VEVENT
DTSTART;TZID=Europe/Rome:20230603T100000
DTEND;TZID=Europe/Rome:20230603T120000
DTSTAMP:20260421T120539
CREATED:20230529T085654Z
LAST-MODIFIED:20230602T114129Z
UID:321-1685786400-1685793600@cascinafalchera.it
SUMMARY:Animali in Cascina
DESCRIPTION:In ascolto degli animali della fattoria\nIl percorso ha come tema centrale la conoscenza degli animali ospitati in cascina e gli ambienti in cui vivono. \nUna passeggiata tra i recinti ci consentirà di conoscere gli animali in fattoria a partire dall’osservazione del loro aspetto e del loro comportamento. Dal manto\, al piumaggio\, agli zoccoli\, alla dentatura e alle loro specificità\, asini\, mucche\, capre e galline si conosceranno meglio per creare con loro una relazione. \nUna parte del laboratorio sarà destinata a conoscere l’alimentazione diversificata che richiedono gli animali toccando e annusando i mangimi e contribuendo alla distribuzione del cibo\, dando loro da mangiare\, entrando nelle stalle e nel pollaio. L’esperienza mette al centro la relazione che si costruisce con gli animali attraverso un dialogo di ascolto e rispetto. \nLaboratorio didattico per famiglie fascia di età 3-8  \nPer la partecipazione ai laboratori per famiglie è sempre necessaria la presenza  di un adulto che accompagni i bambini. \n(l’attivazione del laboratorio avverrà al raggiungimento minimo dei partecipanti) \nPrenotazione obbligatoria \n>>> PRENOTA <<<\n(le prenotazioni dovranno avvenire entro giovedì 1 giugno) \nCosti  \nAdulto 10€\nBambina/Bambino 5 € \nIl pagamento potrà essere effettuato direttamente prima dell’evento presso “Il Chioschetto”. \nPagamenti accettati: Contanti | Satispay |Carte \n 
URL:https://cascinafalchera.it/evento/animali-in-cascina/
LOCATION:Cascina Falchera\, Strada Cuorgnè 109\, Torino
CATEGORIES:Education - Famiglie,Tutti gli eventi
ATTACH;FMTTYPE=image/jpeg:https://cascinafalchera.it/wp-content/uploads/2023/05/education-cascina-falchera-animali-marzia-allietta-4169-scaled-e1685438033142.jpg
END:VEVENT
BEGIN:VEVENT
DTSTART;TZID=Europe/Rome:20230602T180000
DTEND;TZID=Europe/Rome:20230602T210000
DTSTAMP:20260421T120539
CREATED:20230529T084720Z
LAST-MODIFIED:20230530T151017Z
UID:318-1685728800-1685739600@cascinafalchera.it
SUMMARY:DJ Luciano + Aperitivo
DESCRIPTION:Dj set + aperitivo
URL:https://cascinafalchera.it/evento/musica-al-chioschetto/
LOCATION:Chioschetto – Cascina Falchera\, Strada Cuorgnè 109\, Torino
CATEGORIES:Chioschetto,Tutti gli eventi
ATTACH;FMTTYPE=image/jpeg:https://cascinafalchera.it/wp-content/uploads/2023/05/Chioschetto_Aperitivo-e1685428994910.jpeg
END:VEVENT
END:VCALENDAR