BEGIN:VCALENDAR
VERSION:2.0
PRODID:-//Cascina Falchera - ECPv6.15.12.2//NONSGML v1.0//EN
CALSCALE:GREGORIAN
METHOD:PUBLISH
X-ORIGINAL-URL:https://cascinafalchera.it
X-WR-CALDESC:Eventi per Cascina Falchera
REFRESH-INTERVAL;VALUE=DURATION:PT1H
X-Robots-Tag:noindex
X-PUBLISHED-TTL:PT1H
BEGIN:VTIMEZONE
TZID:Europe/Rome
BEGIN:DAYLIGHT
TZOFFSETFROM:+0100
TZOFFSETTO:+0200
TZNAME:CEST
DTSTART:20240331T010000
END:DAYLIGHT
BEGIN:STANDARD
TZOFFSETFROM:+0200
TZOFFSETTO:+0100
TZNAME:CET
DTSTART:20241027T010000
END:STANDARD
BEGIN:DAYLIGHT
TZOFFSETFROM:+0100
TZOFFSETTO:+0200
TZNAME:CEST
DTSTART:20250330T010000
END:DAYLIGHT
BEGIN:STANDARD
TZOFFSETFROM:+0200
TZOFFSETTO:+0100
TZNAME:CET
DTSTART:20251026T010000
END:STANDARD
BEGIN:DAYLIGHT
TZOFFSETFROM:+0100
TZOFFSETTO:+0200
TZNAME:CEST
DTSTART:20260329T010000
END:DAYLIGHT
BEGIN:STANDARD
TZOFFSETFROM:+0200
TZOFFSETTO:+0100
TZNAME:CET
DTSTART:20261025T010000
END:STANDARD
END:VTIMEZONE
BEGIN:VEVENT
DTSTART;TZID=Europe/Rome:20250613T203000
DTEND;TZID=Europe/Rome:20250613T223000
DTSTAMP:20260422T141801
CREATED:20250529T151057Z
LAST-MODIFIED:20250529T151057Z
UID:3346-1749846600-1749853800@cascinafalchera.it
SUMMARY:Maccheroni Piccanti – Circo Madera
DESCRIPTION:Maccheroni Piccanti – Circo Madera\nDi e con Roberto Sblattero\nUno show travolgente che mescola comicità\, teatro di strada e virtuosismi circensi. Con la sua celebre ruota tedesca\, Roberto Sblattero conquista il pubblico con numeri acrobatici\, ironia e improvvisazione. Uno spettacolo che ha superato le 1000 repliche e che diverte tutte le età. \nBiglietto: 13 € \nPer tutti gli spettacoli serali è prevista una consumazione obbligatoria\, a scelta tra taglieri\, birre artigianali\, vino\, cocktail e bevande analcoliche.\nPrenotazione obbligatoria via WhatsApp: 320/39.25.864\nTutti gli eventi si svolgono presso Cascina Falchera – Torino\nPosti limitati – prenota in anticipo!\nGli spettacoli si svolgono all’aperto. In caso di pioggia\, verranno realizzati al coperto.
URL:https://cascinafalchera.it/evento/maccheroni-piccanti-circo-madera/
LOCATION:Cascina Falchera\, Strada Cuorgnè 109\, Torino
CATEGORIES:Estate in cascina,Spettacolo,Tutti gli eventi
ATTACH;FMTTYPE=image/png:https://cascinafalchera.it/wp-content/uploads/2025/05/Maccheroni-piccanti-2.png
END:VEVENT
BEGIN:VEVENT
DTSTART;TZID=Europe/Rome:20250620T203000
DTEND;TZID=Europe/Rome:20250620T220000
DTSTAMP:20260422T141801
CREATED:20250529T113259Z
LAST-MODIFIED:20250529T113259Z
UID:3331-1750451400-1750456800@cascinafalchera.it
SUMMARY:Questa Terra è la Tua Terra – Concerto di beneficenza
DESCRIPTION:Questa Terra è la Tua Terra – Concerto di beneficenza\nUna serata di musica\, parole e impegno civile\, in collaborazione con il Progetto Amalna\, per sostenere le famiglie di Gaza. Durante la serata verranno esposte e vendute opere realizzate da giovani artisti palestinesi. \nBiglietto: 10 € \nPer tutti gli spettacoli serali è prevista una consumazione obbligatoria\, a scelta tra taglieri\, birre artigianali\, vino\, cocktail e bevande analcoliche.\nPrenotazione obbligatoria via WhatsApp: 320/39.25.864\nTutti gli eventi si svolgono presso Cascina Falchera – Torino\nPosti limitati – prenota in anticipo!\nGli spettacoli si svolgono all’aperto. In caso di pioggia\, verranno realizzati al coperto.
URL:https://cascinafalchera.it/evento/questa-terra-e-la-tua-terra-concerto-di-beneficenza/
LOCATION:Cascina Falchera\, Strada Cuorgnè 109\, Torino
CATEGORIES:Concerto,Estate in cascina,Spettacolo,Tutti gli eventi
ATTACH;FMTTYPE=image/png:https://cascinafalchera.it/wp-content/uploads/2025/05/Concerto.png
END:VEVENT
BEGIN:VEVENT
DTSTART;TZID=Europe/Rome:20250628T150000
DTEND;TZID=Europe/Rome:20250628T170000
DTSTAMP:20260422T141801
CREATED:20250529T150629Z
LAST-MODIFIED:20250529T150629Z
UID:3340-1751122800-1751130000@cascinafalchera.it
SUMMARY:Chi ha rotto il ritmo dell’Imperatore? A cura di RtaMovie
DESCRIPTION:Chi ha rotto il ritmo dell’Imperatore?\nA cura di RtaMovie\nUn sovrano arrogante viene trasformato in un animale e\, per tornare umano\, dovrà imparare l’umiltà e il valore dell’amicizia. Una commedia avventurosa e brillante per tutta la famiglia\, con messaggi positivi\, ritmo incalzante e tante risate. \nBiglietto: 13 € (merenda inclusa) \nPrenotazione obbligatoria via WhatsApp: 320/39.25.864
URL:https://cascinafalchera.it/evento/chi-ha-rotto-il-ritmo-dellimperatore-a-cura-di-rtamovie/
LOCATION:Cascina Falchera\, Strada Cuorgnè 109\, Torino
CATEGORIES:Estate in cascina,Spettacolo,Tutti gli eventi
ATTACH;FMTTYPE=image/png:https://cascinafalchera.it/wp-content/uploads/2025/05/imperatore.png
END:VEVENT
BEGIN:VEVENT
DTSTART;TZID=Europe/Rome:20250705T150000
DTEND;TZID=Europe/Rome:20250705T170000
DTSTAMP:20260422T141801
CREATED:20250529T151311Z
LAST-MODIFIED:20250529T151311Z
UID:3349-1751727600-1751734800@cascinafalchera.it
SUMMARY:Toc Toc – Il nuovo vicino
DESCRIPTION:Toc Toc – Il nuovo vicino\nUn ragazzo solitario incontra un nuovo vicino allegro e rumoroso. Tra fraintendimenti e scontri\, nasce una comicità fisica e poetica\, in uno spettacolo senza parole dal ritmo travolgente\, irresistibile per i bambini… e anche per gli adulti. \nBiglietto: 13 € (merenda inclusa) \n 
URL:https://cascinafalchera.it/evento/toc-toc-il-nuovo-vicino/
LOCATION:Cascina Falchera\, Strada Cuorgnè 109\, Torino
CATEGORIES:Estate in cascina,Spettacolo,Tutti gli eventi
ATTACH;FMTTYPE=image/png:https://cascinafalchera.it/wp-content/uploads/2025/05/Toc-toc.png
END:VEVENT
BEGIN:VEVENT
DTSTART;TZID=Europe/Rome:20250710T203000
DTEND;TZID=Europe/Rome:20250710T223000
DTSTAMP:20260422T141801
CREATED:20250529T112411Z
LAST-MODIFIED:20250529T112814Z
UID:3323-1752179400-1752186600@cascinafalchera.it
SUMMARY:Comedy Show – con Serena Bongiovanni e Giorgia Goldrini
DESCRIPTION:Comedy Show – con Serena Bongiovanni e Giorgia Goldrini\nDopo il successo di febbraio\, Serena torna… e questa volta non è sola! Tra battute\, provocazioni e imprevisti\, le due comiche si sfidano a colpi di risate con un format improvvisato e interattivo. Il pubblico diventa parte attiva dello spettacolo. \nBiglietto: 15 € \nPrenotazione obbligatoria: 320 3925864
URL:https://cascinafalchera.it/evento/comedy-show-con-serena-bongiovanni-e-giorgia-goldrini/
LOCATION:Cascina Falchera\, Strada Cuorgnè 109\, Torino
CATEGORIES:Estate in cascina,Spettacolo,Tutti gli eventi
ATTACH;FMTTYPE=image/png:https://cascinafalchera.it/wp-content/uploads/2025/05/Comedy-show-1.png
END:VEVENT
BEGIN:VEVENT
DTSTART;TZID=Europe/Rome:20250724T203000
DTEND;TZID=Europe/Rome:20250724T223000
DTSTAMP:20260422T141801
CREATED:20250529T150251Z
LAST-MODIFIED:20250529T150251Z
UID:3337-1753389000-1753396200@cascinafalchera.it
SUMMARY:Gusci – Fuori dalla vergogna – di e con Alberto Spagone
DESCRIPTION:Gusci – Fuori dalla vergogna – di e con Alberto Spagone\nUno spettacolo personale\, intimo e ironico. Alberto racconta con sincerità e umorismo disarmante il disagio contemporaneo\, tra paure\, fragilità e conquiste quotidiane. Un monologo profondo e leggero allo stesso tempo.\n\nBiglietto: 13 € \nPer tutti gli spettacoli serali è prevista una consumazione obbligatoria\, a scelta tra taglieri\, birre artigianali\, vino\, cocktail e bevande analcoliche.\nPrenotazione obbligatoria via WhatsApp: 320/39.25.864\nTutti gli eventi si svolgono presso Cascina Falchera – Torino\nPosti limitati – prenota in anticipo!\nGli spettacoli si svolgono all’aperto. In caso di pioggia\, verranno realizzati al coperto.
URL:https://cascinafalchera.it/evento/gusci-fuori-dalla-vergogna-di-e-con-alberto-spagone/
LOCATION:Cascina Falchera\, Strada Cuorgnè 109\, Torino
CATEGORIES:Estate in cascina,Spettacolo,Tutti gli eventi
ATTACH;FMTTYPE=image/png:https://cascinafalchera.it/wp-content/uploads/2025/05/Gusci.png
END:VEVENT
BEGIN:VEVENT
DTSTART;TZID=Europe/Rome:20251003T204500
DTEND;TZID=Europe/Rome:20251005T170000
DTSTAMP:20260422T141801
CREATED:20251001T080519Z
LAST-MODIFIED:20251001T080519Z
UID:3441-1759524300-1759683600@cascinafalchera.it
SUMMARY:Pagliacci
DESCRIPTION:Opera in un prologo e due atti di Ruggero Leoncavallo \n\n3 e 4 Ottobre ore 20.45\n5 Ottobre ore 17.00\n\nI Pagliacci di Ruggero Leoncavallo\, come e dove non l’avete mai vista e sentita. Con un cast di artisti internazionali. \nAllestiremo il più famoso titolo di Leoncavallo in un vero e proprio circo!\nLa magia della lirica sotto lo chapiteau del Circo Madera\, nel cuore di Cascina Falchera. \ninfo: liricatamagno.to@gmail.com – 389 0606202 \nacquisto biglietti : https://www.ciaotickets.com/it/biglietti/pagliacci-torino\nINTERO € 7 | RIDOTTO € 5 (studenti di conservatori\, scuole di teatro e circo\, persone con disabilità\, per un accompagnatore l’ingresso è gratuito) \nUno spettacolo con: \nCanio – Walter Fraccaro\nNedda – Marta Leung\nTonio – Jung Jaehong\nSilvio – Paolo Ingrasciotta\nBeppe – Murat Can Guvem\nArtisti del Circo – Silvia Laniado\, Roberto Sblattero\, Donatella Zaccagnino\nRegia Alberto Barbi/ Giuseppe Raimondo\nM* concertatore Giovanni Manerba \n  \nProgetto vincitore dell’avviso pubblico “Circoscrizioni che spettacolo dal vivo 2025”
URL:https://cascinafalchera.it/evento/pagliacci/
LOCATION:Cascina Falchera\, Strada Cuorgnè 109\, Torino
CATEGORIES:Spettacolo,Tutti gli eventi
ATTACH;FMTTYPE=image/jpeg:https://cascinafalchera.it/wp-content/uploads/2025/10/PAGLIACCI.jpg
END:VEVENT
END:VCALENDAR