BEGIN:VCALENDAR
VERSION:2.0
PRODID:-//Cascina Falchera - ECPv6.15.12.2//NONSGML v1.0//EN
CALSCALE:GREGORIAN
METHOD:PUBLISH
X-ORIGINAL-URL:https://cascinafalchera.it
X-WR-CALDESC:Eventi per Cascina Falchera
REFRESH-INTERVAL;VALUE=DURATION:PT1H
X-Robots-Tag:noindex
X-PUBLISHED-TTL:PT1H
BEGIN:VTIMEZONE
TZID:Europe/Rome
BEGIN:DAYLIGHT
TZOFFSETFROM:+0100
TZOFFSETTO:+0200
TZNAME:CEST
DTSTART:20230326T010000
END:DAYLIGHT
BEGIN:STANDARD
TZOFFSETFROM:+0200
TZOFFSETTO:+0100
TZNAME:CET
DTSTART:20231029T010000
END:STANDARD
BEGIN:DAYLIGHT
TZOFFSETFROM:+0100
TZOFFSETTO:+0200
TZNAME:CEST
DTSTART:20240331T010000
END:DAYLIGHT
BEGIN:STANDARD
TZOFFSETFROM:+0200
TZOFFSETTO:+0100
TZNAME:CET
DTSTART:20241027T010000
END:STANDARD
BEGIN:DAYLIGHT
TZOFFSETFROM:+0100
TZOFFSETTO:+0200
TZNAME:CEST
DTSTART:20250330T010000
END:DAYLIGHT
BEGIN:STANDARD
TZOFFSETFROM:+0200
TZOFFSETTO:+0100
TZNAME:CET
DTSTART:20251026T010000
END:STANDARD
END:VTIMEZONE
BEGIN:VEVENT
DTSTART;VALUE=DATE:20240506
DTEND;VALUE=DATE:20240507
DTSTAMP:20260421T123318
CREATED:20240422T220636Z
LAST-MODIFIED:20240422T221244Z
UID:2044-1714953600-1715039999@cascinafalchera.it
SUMMARY:Corso di Pilates
DESCRIPTION:Corso di Pilates a Cascina Falchera per tutte le età\n tutti i Lunedì e Mercoledì in 3 fasce orarie\ndalle 13:00 alle 14:00 – dalle 17:30 alle 18:30 – dalle 18:30 alle 19:30 \nTrova armonia\, forza e leggerezza con il Pilates attraverso l’ascolto del corpo e la respirazione la mente si rilassa e fluisce seguendo le sequenze del Pilates. \nCosti per 1 lezione a settimana:                                                                                Costi per 2 lezioni a settimana:\n€40\,00 per 1 MESE                                                                                          €60\,00 per 1 MESE\n€70\,00 Per 2 MESI                                                                                           €100\,00 Per 3 MESI\n€90\,00 Per 3 MESI                                                                                           €150\,00 Per 3 MESI \nIl corso verrà svolto presso gli spazi di Cascina Falchera ed è richiesto il certificato medico e tappetino personale. \nPer informazioni è possibile contattare la Docente Lucia Morisco ai seguenti contatti:\n3493174880 oppure morilucetta@gmail.com
URL:https://cascinafalchera.it/evento/corso-di-pilates/
LOCATION:Cascina Falchera\, Strada Cuorgnè 109\, Torino
CATEGORIES:Education - Adulti
ATTACH;FMTTYPE=image/png:https://cascinafalchera.it/wp-content/uploads/2024/04/yoga-nel-bosco-1.png
END:VEVENT
END:VCALENDAR