BEGIN:VCALENDAR
VERSION:2.0
PRODID:-//Cascina Falchera - ECPv6.15.12.2//NONSGML v1.0//EN
CALSCALE:GREGORIAN
METHOD:PUBLISH
X-WR-CALNAME:Cascina Falchera
X-ORIGINAL-URL:https://cascinafalchera.it
X-WR-CALDESC:Eventi per Cascina Falchera
REFRESH-INTERVAL;VALUE=DURATION:PT1H
X-Robots-Tag:noindex
X-PUBLISHED-TTL:PT1H
BEGIN:VTIMEZONE
TZID:Europe/Rome
BEGIN:DAYLIGHT
TZOFFSETFROM:+0100
TZOFFSETTO:+0200
TZNAME:CEST
DTSTART:20220327T010000
END:DAYLIGHT
BEGIN:STANDARD
TZOFFSETFROM:+0200
TZOFFSETTO:+0100
TZNAME:CET
DTSTART:20221030T010000
END:STANDARD
BEGIN:DAYLIGHT
TZOFFSETFROM:+0100
TZOFFSETTO:+0200
TZNAME:CEST
DTSTART:20230326T010000
END:DAYLIGHT
BEGIN:STANDARD
TZOFFSETFROM:+0200
TZOFFSETTO:+0100
TZNAME:CET
DTSTART:20231029T010000
END:STANDARD
BEGIN:DAYLIGHT
TZOFFSETFROM:+0100
TZOFFSETTO:+0200
TZNAME:CEST
DTSTART:20240331T010000
END:DAYLIGHT
BEGIN:STANDARD
TZOFFSETFROM:+0200
TZOFFSETTO:+0100
TZNAME:CET
DTSTART:20241027T010000
END:STANDARD
END:VTIMEZONE
BEGIN:VEVENT
DTSTART;TZID=Europe/Rome:20230923T100000
DTEND;TZID=Europe/Rome:20230923T113000
DTSTAMP:20260421T234416
CREATED:20230529T094313Z
LAST-MODIFIED:20230807T092046Z
UID:385-1695463200-1695468600@cascinafalchera.it
SUMMARY:Yoga della presenza
DESCRIPTION:Caratterizzato da movimenti morbidi e gentili\, lo yoga della presenza invita a un ascolto delle sensazioni corporee neutro\, aperto e disponibile: un ascolto in cui le tensioni represse e i nuclei di reattività accumulati nel corpo\, trovano naturalmente distensione e riassorbimento. Eseguiti da seduti su una sedia\, in tuta o abiti comodi\, i movimenti morbidi dello yoga della presenza sono adatti a qualsiasi età e condizione fisica\, anche a chi non ha mai praticato yoga. La pratica sarà intervallata da letture in cui sarà possibile sperimentare una nuova modalità di ascolto di un testo letto ad alta voce. Un ascolto vibratorio che invece di fermarsi al livello della comprensione intellettuale\, risuona sulle frequenze più profonde del cuore. \nCon Eric Minetto \n  \nEric Minetto è nato a Torino nel 1971\, ed è laureato in Letteratura Nordamericana. Dal 2001 al 2013 ha insegnato storytelling e scrittura creativa alla Scuola Holden di Torino. Fondatore della scuola di crescita creativa Upaya\, ha conseguito il Master in\nYoga Studies – corpo e meditazione nelle tradizioni dell’Asia – presso l’Università Ca’ Foscari di Venezia e ha completato il percorso formativo per diventare insegnante di yoga con l’Anusara School of Hata Yoga. È autore di diversi libri. \nCosto 5€ \n>>> PRENOTA <<<
URL:https://cascinafalchera.it/evento/yoga-della-presenza-3/
LOCATION:Cascina Falchera\, Strada Cuorgnè 109\, Torino
CATEGORIES:Education - Adulti,Tutti gli eventi
ATTACH;FMTTYPE=image/jpeg:https://cascinafalchera.it/wp-content/uploads/2023/05/cascina-falchera-dettagli-marziaallietta-3379-e1685540236561.jpg
END:VEVENT
END:VCALENDAR