BEGIN:VCALENDAR
VERSION:2.0
PRODID:-//Cascina Falchera - ECPv6.15.12.2//NONSGML v1.0//EN
CALSCALE:GREGORIAN
METHOD:PUBLISH
X-ORIGINAL-URL:https://cascinafalchera.it
X-WR-CALDESC:Eventi per Cascina Falchera
REFRESH-INTERVAL;VALUE=DURATION:PT1H
X-Robots-Tag:noindex
X-PUBLISHED-TTL:PT1H
BEGIN:VTIMEZONE
TZID:Europe/Rome
BEGIN:DAYLIGHT
TZOFFSETFROM:+0100
TZOFFSETTO:+0200
TZNAME:CEST
DTSTART:20230326T010000
END:DAYLIGHT
BEGIN:STANDARD
TZOFFSETFROM:+0200
TZOFFSETTO:+0100
TZNAME:CET
DTSTART:20231029T010000
END:STANDARD
BEGIN:DAYLIGHT
TZOFFSETFROM:+0100
TZOFFSETTO:+0200
TZNAME:CEST
DTSTART:20240331T010000
END:DAYLIGHT
BEGIN:STANDARD
TZOFFSETFROM:+0200
TZOFFSETTO:+0100
TZNAME:CET
DTSTART:20241027T010000
END:STANDARD
BEGIN:DAYLIGHT
TZOFFSETFROM:+0100
TZOFFSETTO:+0200
TZNAME:CEST
DTSTART:20250330T010000
END:DAYLIGHT
BEGIN:STANDARD
TZOFFSETFROM:+0200
TZOFFSETTO:+0100
TZNAME:CET
DTSTART:20251026T010000
END:STANDARD
END:VTIMEZONE
BEGIN:VEVENT
DTSTART;TZID=Europe/Rome:20240301T150000
DTEND;TZID=Europe/Rome:20240301T163000
DTSTAMP:20260421T132631
CREATED:20240206T110658Z
LAST-MODIFIED:20240206T110721Z
UID:1512-1709305200-1709310600@cascinafalchera.it
SUMMARY:Incontri gratuiti di canto e ascolto musicale per anziani
DESCRIPTION:Ogni venerdì gli incontri settimanali gratuiti di canto e ascolto musicale\, dedicati ai nostri cari nonni e genitori. Ideato per gli anziani dallo spirito giovane ma aperto a tutti gli adulti che vogliono trascorrere un’ora e mezza in compagnia\, gli incontri sono tenuti dalla maestra di canto Giovanna Gattuso.
URL:https://cascinafalchera.it/evento/incontri-gratuiti-di-canto-e-ascolto-musicale-per-anziani-4/
LOCATION:Cascina Falchera\, Strada Cuorgnè 109\, Torino
CATEGORIES:Education - Adulti,Tutti gli eventi
ATTACH;FMTTYPE=image/jpeg:https://cascinafalchera.it/wp-content/uploads/2024/01/Cascina-Falchera-Incontri-musicali.jpg
END:VEVENT
BEGIN:VEVENT
DTSTART;TZID=Europe/Rome:20240306T183000
DTEND;TZID=Europe/Rome:20240306T203000
DTSTAMP:20260421T132631
CREATED:20240226T170035Z
LAST-MODIFIED:20240226T170334Z
UID:1574-1709749800-1709757000@cascinafalchera.it
SUMMARY:Corso di Apicoltura
DESCRIPTION:L’Associazione Impollinatori Metropolitani in collaborazione con Cascina Falchera propone corso di apicoltura teorico e pratico che avvicinerà i e le partecipanti al mondo delle api. \nTra gli argomenti e le materie trattate ci saranno: Anatomia generale\, Conduzione degli Alveari e buone pratiche nella conduzione delle api; Patologie delle api – Diagnosi e rimedi\, Botanica e Tecniche di Produzione. Inoltre\, verranno fatti alcuni approfondimenti sul mondo degli insetti impollinatori\, sulle ecologia urbana e sulla biodiversità. \nDal 6 marzo al 10 aprile 2024\, ogni mercoledì dalle 18.30 alle 20.30 (𝐩𝐚𝐫𝐭𝐞 𝐭𝐞𝐨𝐫𝐢𝐜𝐚) presso Bagni Pubblici di via Agliè\, via Agliè 9 \nDal 6 aprile 2024\, tutti i sabati di aprile dalle 14.30 alle 16.30 (𝐩𝐚𝐫𝐭𝐞 𝐩𝐫𝐚𝐭𝐢𝐜𝐚) presso Cascina Falchera\, Strada Cuorgnè 109 \nPer informazioni\, costi e iscrizioni \nTel. 011 5533938 | Scrivere una mail a bagnipubblici@coopliberitutti.it
URL:https://cascinafalchera.it/evento/corsoapicoltura/
CATEGORIES:Education - Adulti
ATTACH;FMTTYPE=image/jpeg:https://cascinafalchera.it/wp-content/uploads/2024/02/Impollinatori_corso.jpg
END:VEVENT
BEGIN:VEVENT
DTSTART;TZID=Europe/Rome:20240308T150000
DTEND;TZID=Europe/Rome:20240308T163000
DTSTAMP:20260421T132631
CREATED:20240206T110824Z
LAST-MODIFIED:20240206T110824Z
UID:1514-1709910000-1709915400@cascinafalchera.it
SUMMARY:Incontri gratuiti di canto e ascolto musicale per anziani
DESCRIPTION:Ogni venerdì gli incontri settimanali gratuiti di canto e ascolto musicale\, dedicati ai nostri cari nonni e genitori. Ideato per gli anziani dallo spirito giovane ma aperto a tutti gli adulti che vogliono trascorrere un’ora e mezza in compagnia\, gli incontri sono tenuti dalla maestra di canto Giovanna Gattuso.
URL:https://cascinafalchera.it/evento/incontri-gratuiti-di-canto-e-ascolto-musicale-per-anziani-5/
LOCATION:Cascina Falchera\, Strada Cuorgnè 109\, Torino
CATEGORIES:Education - Adulti,Tutti gli eventi
ATTACH;FMTTYPE=image/jpeg:https://cascinafalchera.it/wp-content/uploads/2024/01/Cascina-Falchera-Incontri-musicali.jpg
END:VEVENT
BEGIN:VEVENT
DTSTART;TZID=Europe/Rome:20240309T150000
DTEND;TZID=Europe/Rome:20240309T180000
DTSTAMP:20260421T132631
CREATED:20240205T124658Z
LAST-MODIFIED:20240211T111317Z
UID:1490-1709996400-1710007200@cascinafalchera.it
SUMMARY:Corso di enologia per principianti: dalla vigna al vino
DESCRIPTION:Corso destinato ad adulti e a operatori di fattoria di degustazione vini e potatura vigna. In questo corso saranno proposti approfondimenti sui temi di vite\, vigna\, vinificazione e assaggio vini e viticoltura biologica. \nPotrete cimentarvi in esperienze pratiche e sensoriali  replicabili. \nIl corso che si compone di due incontri (24 Febbraio e 9 Marzo)  comprende degustazione vini nella prima giornata e la merende a fine potatura il secondo giorno. \nDocenti: Valentina Peracino della FD Formichina e Giulia Chiarle di Vitivinicola Prever \n>> ISCRIVITI <<\nCosto: Contributo per i due incontri 60\,00 €\, è possibile iscriversi anche ad uno dei due appuntamenti. \nIl corso rilascia l’attestato di frequenza valido come aggiornamento per operatore di fattoria didattica \nPer maggiori informazioni:+39 347 742 9322
URL:https://cascinafalchera.it/evento/corso-enologia-per-principianti/
LOCATION:Cascina Falchera\, Strada Cuorgnè 109\, Torino
CATEGORIES:Education - Adulti,Tutti gli eventi
ATTACH;FMTTYPE=image/jpeg:https://cascinafalchera.it/wp-content/uploads/2024/02/WhatsApp-Image-2024-02-09-at-11.23.31.jpeg
END:VEVENT
BEGIN:VEVENT
DTSTART;TZID=Europe/Rome:20240315T150000
DTEND;TZID=Europe/Rome:20240315T163000
DTSTAMP:20260421T132631
CREATED:20240206T111046Z
LAST-MODIFIED:20240206T111300Z
UID:1516-1710514800-1710520200@cascinafalchera.it
SUMMARY:Incontri gratuiti di canto e ascolto musicale per anziani
DESCRIPTION:Ogni venerdì gli incontri settimanali gratuiti di canto e ascolto musicale\, dedicati ai nostri cari nonni e genitori. Ideato per gli anziani dallo spirito giovane ma aperto a tutti gli adulti che vogliono trascorrere un’ora e mezza in compagnia\, gli incontri sono tenuti dalla maestra di canto Giovanna Gattuso.
URL:https://cascinafalchera.it/evento/incontri-gratuiti-di-canto-e-ascolto-musicale-per-anziani-6/
CATEGORIES:Education - Adulti,Tutti gli eventi
ATTACH;FMTTYPE=image/jpeg:https://cascinafalchera.it/wp-content/uploads/2024/01/Cascina-Falchera-Incontri-musicali.jpg
END:VEVENT
BEGIN:VEVENT
DTSTART;TZID=Europe/Rome:20240322T150000
DTEND;TZID=Europe/Rome:20240322T163000
DTSTAMP:20260421T132631
CREATED:20240206T111528Z
LAST-MODIFIED:20240206T111528Z
UID:1522-1711119600-1711125000@cascinafalchera.it
SUMMARY:Incontri gratuiti di canto e ascolto musicale per anziani
DESCRIPTION:Ogni venerdì gli incontri settimanali gratuiti di canto e ascolto musicale\, dedicati ai nostri cari nonni e genitori. Ideato per gli anziani dallo spirito giovane ma aperto a tutti gli adulti che vogliono trascorrere un’ora e mezza in compagnia\, gli incontri sono tenuti dalla maestra di canto Giovanna Gattuso.
URL:https://cascinafalchera.it/evento/incontri-gratuiti-di-canto-e-ascolto-musicale-per-anziani-7/
CATEGORIES:Education - Adulti,Tutti gli eventi
ATTACH;FMTTYPE=image/jpeg:https://cascinafalchera.it/wp-content/uploads/2024/01/Cascina-Falchera-Incontri-musicali.jpg
END:VEVENT
BEGIN:VEVENT
DTSTART;TZID=Europe/Rome:20240323T103000
DTEND;TZID=Europe/Rome:20240323T130000
DTSTAMP:20260421T132631
CREATED:20240301T141955Z
LAST-MODIFIED:20240829T133435Z
UID:1656-1711189800-1711198800@cascinafalchera.it
SUMMARY:Workshop Mangiare Sostenibile
DESCRIPTION:Il workshop\, attraverso un approccio laboratoriale\, guiderà i partecipanti alla scoperta di stili di alimentazione giusti per l’ambiente\, la salute\, la dignità dei lavoratori\, sottolineando la responsabilità delle scelte di ognuno sul benessere del pianeta\, delle specie vegetali e animali\, delle società umane e stimolando ad intraprendere scelte alimentari sostenibili\, come l’autoproduzione negli orti urbani comunitari. \nWorkshop a cura del Dipartimento di Scienze Agrarie\, Forestali e Alimentari (DISAFA) dell’Università di Torino in collaborazione con la Città di Torino e UPTOFARM s.r.l. \nAlla fine del workshop Adulti e Bambini realizzeranno insieme seed bombs (palline di terra e semi) \n \nIl workshop è gratuito ed è realizzato in modo da permettere agli ADULTI di approcciare la divulgazione su sostenibilità alimentare e materie prime e contemporaneamente ai BAMBINI di intrattenersi con giochi e attività sul cibo sano e sostenibile. \nPer partecipare al workshop non è obbligatorio iscriversi\, ma raccomandiamo di iscriversi qui.
URL:https://cascinafalchera.it/evento/workshop-mangiare-sano-non-formal-demand-boosting/
LOCATION:Cascina Falchera\, Strada Cuorgnè 109\, Torino
CATEGORIES:Education - Adulti
ATTACH;FMTTYPE=image/jpeg:https://cascinafalchera.it/wp-content/uploads/2024/03/292358755_443655380913904_2028542957496212538_n.jpeg
END:VEVENT
BEGIN:VEVENT
DTSTART;TZID=Europe/Rome:20240329T150000
DTEND;TZID=Europe/Rome:20240329T163000
DTSTAMP:20260421T132631
CREATED:20240206T112315Z
LAST-MODIFIED:20240206T112428Z
UID:1524-1711724400-1711729800@cascinafalchera.it
SUMMARY:Incontri gratuiti di canto e ascolto musicale per anziani
DESCRIPTION:Ogni venerdì gli incontri settimanali gratuiti di canto e ascolto musicale\, dedicati ai nostri cari nonni e genitori. Ideato per gli anziani dallo spirito giovane ma aperto a tutti gli adulti che vogliono trascorrere un’ora e mezza in compagnia\, gli incontri sono tenuti dalla maestra di canto Giovanna Gattuso.
URL:https://cascinafalchera.it/evento/incontri-gratuiti-di-canto-e-ascolto-musicale-per-anziani-8/
LOCATION:Cascina Falchera\, Strada Cuorgnè 109\, Torino
CATEGORIES:Education - Adulti,Tutti gli eventi
ATTACH;FMTTYPE=image/jpeg:https://cascinafalchera.it/wp-content/uploads/2024/01/Cascina-Falchera-Incontri-musicali.jpg
END:VEVENT
END:VCALENDAR