BEGIN:VCALENDAR
VERSION:2.0
PRODID:-//Cascina Falchera - ECPv6.15.12.2//NONSGML v1.0//EN
CALSCALE:GREGORIAN
METHOD:PUBLISH
X-WR-CALNAME:Cascina Falchera
X-ORIGINAL-URL:https://cascinafalchera.it
X-WR-CALDESC:Eventi per Cascina Falchera
REFRESH-INTERVAL;VALUE=DURATION:PT1H
X-Robots-Tag:noindex
X-PUBLISHED-TTL:PT1H
BEGIN:VTIMEZONE
TZID:Europe/Rome
BEGIN:DAYLIGHT
TZOFFSETFROM:+0100
TZOFFSETTO:+0200
TZNAME:CEST
DTSTART:20230326T010000
END:DAYLIGHT
BEGIN:STANDARD
TZOFFSETFROM:+0200
TZOFFSETTO:+0100
TZNAME:CET
DTSTART:20231029T010000
END:STANDARD
BEGIN:DAYLIGHT
TZOFFSETFROM:+0100
TZOFFSETTO:+0200
TZNAME:CEST
DTSTART:20240331T010000
END:DAYLIGHT
BEGIN:STANDARD
TZOFFSETFROM:+0200
TZOFFSETTO:+0100
TZNAME:CET
DTSTART:20241027T010000
END:STANDARD
BEGIN:DAYLIGHT
TZOFFSETFROM:+0100
TZOFFSETTO:+0200
TZNAME:CEST
DTSTART:20250330T010000
END:DAYLIGHT
BEGIN:STANDARD
TZOFFSETFROM:+0200
TZOFFSETTO:+0100
TZNAME:CET
DTSTART:20251026T010000
END:STANDARD
END:VTIMEZONE
BEGIN:VEVENT
DTSTART;TZID=Europe/Rome:20240202T150000
DTEND;TZID=Europe/Rome:20240202T163000
DTSTAMP:20260421T145249
CREATED:20240126T163707Z
LAST-MODIFIED:20240126T163707Z
UID:1462-1706886000-1706891400@cascinafalchera.it
SUMMARY:Incontri gratuiti di canto e ascolto musicale per anziani
DESCRIPTION:Ogni venerdì gli incontri settimanali gratuiti di canto e ascolto musicale\, dedicati ai nostri cari nonni e genitori. Ideato per gli anziani dallo spirito giovane ma aperto a tutti gli adulti che vogliono trascorrere un’ora e mezza in compagnia\, gli incontri sono tenuti dalla maestra di canto Giovanna Gattuso.
URL:https://cascinafalchera.it/evento/corso-musica-3/
CATEGORIES:Education - Adulti,Tutti gli eventi,workshop
ATTACH;FMTTYPE=image/jpeg:https://cascinafalchera.it/wp-content/uploads/2024/01/Cascina-Falchera-Incontri-musicali.jpg
END:VEVENT
BEGIN:VEVENT
DTSTART;TZID=Europe/Rome:20240209T150000
DTEND;TZID=Europe/Rome:20240209T163000
DTSTAMP:20260421T145249
CREATED:20240206T105907Z
LAST-MODIFIED:20240206T111226Z
UID:1506-1707490800-1707496200@cascinafalchera.it
SUMMARY:Incontri gratuiti di canto e ascolto musicale per anziani
DESCRIPTION:Ogni venerdì gli incontri settimanali gratuiti di canto e ascolto musicale\, dedicati ai nostri cari nonni e genitori. Ideato per gli anziani dallo spirito giovane ma aperto a tutti gli adulti che vogliono trascorrere un’ora e mezza in compagnia\, gli incontri sono tenuti dalla maestra di canto Giovanna Gattuso.
URL:https://cascinafalchera.it/evento/incontri-gratuiti-di-canto-e-ascolto-musicale-per-anziani/
LOCATION:Cascina Falchera\, Strada Cuorgnè 109\, Torino
CATEGORIES:Education - Adulti,Tutti gli eventi
ATTACH;FMTTYPE=image/jpeg:https://cascinafalchera.it/wp-content/uploads/2024/01/Cascina-Falchera-Incontri-musicali.jpg
END:VEVENT
BEGIN:VEVENT
DTSTART;TZID=Europe/Rome:20240216T150000
DTEND;TZID=Europe/Rome:20240216T163000
DTSTAMP:20260421T145249
CREATED:20240206T110105Z
LAST-MODIFIED:20240206T110105Z
UID:1508-1708095600-1708101000@cascinafalchera.it
SUMMARY:Incontri gratuiti di canto e ascolto musicale per anziani
DESCRIPTION:Ogni venerdì gli incontri settimanali gratuiti di canto e ascolto musicale\, dedicati ai nostri cari nonni e genitori. Ideato per gli anziani dallo spirito giovane ma aperto a tutti gli adulti che vogliono trascorrere un’ora e mezza in compagnia\, gli incontri sono tenuti dalla maestra di canto Giovanna Gattuso.
URL:https://cascinafalchera.it/evento/incontri-gratuiti-di-canto-e-ascolto-musicale-per-anziani-2/
LOCATION:Cascina Falchera\, Strada Cuorgnè 109\, Torino
CATEGORIES:Education - Adulti,Tutti gli eventi
ATTACH;FMTTYPE=image/jpeg:https://cascinafalchera.it/wp-content/uploads/2024/01/Cascina-Falchera-Incontri-musicali.jpg
END:VEVENT
BEGIN:VEVENT
DTSTART;TZID=Europe/Rome:20240223T150000
DTEND;TZID=Europe/Rome:20240223T163000
DTSTAMP:20260421T145249
CREATED:20240206T110243Z
LAST-MODIFIED:20240206T110243Z
UID:1510-1708700400-1708705800@cascinafalchera.it
SUMMARY:Incontri gratuiti di canto e ascolto musicale per anziani
DESCRIPTION:Ogni venerdì gli incontri settimanali gratuiti di canto e ascolto musicale\, dedicati ai nostri cari nonni e genitori. Ideato per gli anziani dallo spirito giovane ma aperto a tutti gli adulti che vogliono trascorrere un’ora e mezza in compagnia\, gli incontri sono tenuti dalla maestra di canto Giovanna Gattuso.
URL:https://cascinafalchera.it/evento/incontri-gratuiti-di-canto-e-ascolto-musicale-per-anziani-3/
LOCATION:Cascina Falchera\, Strada Cuorgnè 109\, Torino
CATEGORIES:Education - Adulti,Tutti gli eventi
ATTACH;FMTTYPE=image/jpeg:https://cascinafalchera.it/wp-content/uploads/2024/01/Cascina-Falchera-Incontri-musicali.jpg
END:VEVENT
BEGIN:VEVENT
DTSTART;TZID=Europe/Rome:20240224T150000
DTEND;TZID=Europe/Rome:20240224T180000
DTSTAMP:20260421T145249
CREATED:20240205T124503Z
LAST-MODIFIED:20240211T175000Z
UID:1485-1708786800-1708797600@cascinafalchera.it
SUMMARY:Corso di enologia per principianti: dalla vigna al vino
DESCRIPTION:Corso destinato ad adulti e a operatori di fattoria di degustazione vini e potatura vigna. In questo corso saranno proposti approfondimenti sui temi di vite\, vigna\, vinificazione e assaggio vini e viticoltura biologica. \nPotrete cimentarvi in esperienze pratiche e sensoriali  replicabili. \nIl corso che si compone di due incontri (24 Febbraio e 9 Marzo)  comprende degustazione vini nella prima giornata e la merende a fine potatura il secondo giorno. \nDocenti: Valentina Peracino della FD Formichina e Giulia Chiarle di Vitivinicola Prever \n>> ISCRIVITI <<\nCosto: Contributo per i due incontri 60\,00 €\, è possibile iscriversi anche ad uno dei due appuntamenti. \nIl corso rilascia l’attestato di frequenza valido come aggiornamento per operatore di fattoria didattica \nPer maggiori informazioni:+39 347 742 9322
URL:https://cascinafalchera.it/evento/corso-degustazione-vino/
CATEGORIES:Education - Adulti,Tutti gli eventi
ATTACH;FMTTYPE=image/jpeg:https://cascinafalchera.it/wp-content/uploads/2024/02/WhatsApp-Image-2024-02-09-at-11.23.31.jpeg
END:VEVENT
END:VCALENDAR