BEGIN:VCALENDAR
VERSION:2.0
PRODID:-//Cascina Falchera - ECPv6.15.12.2//NONSGML v1.0//EN
CALSCALE:GREGORIAN
METHOD:PUBLISH
X-WR-CALNAME:Cascina Falchera
X-ORIGINAL-URL:https://cascinafalchera.it
X-WR-CALDESC:Eventi per Cascina Falchera
REFRESH-INTERVAL;VALUE=DURATION:PT1H
X-Robots-Tag:noindex
X-PUBLISHED-TTL:PT1H
BEGIN:VTIMEZONE
TZID:Europe/Rome
BEGIN:DAYLIGHT
TZOFFSETFROM:+0100
TZOFFSETTO:+0200
TZNAME:CEST
DTSTART:20230326T010000
END:DAYLIGHT
BEGIN:STANDARD
TZOFFSETFROM:+0200
TZOFFSETTO:+0100
TZNAME:CET
DTSTART:20231029T010000
END:STANDARD
BEGIN:DAYLIGHT
TZOFFSETFROM:+0100
TZOFFSETTO:+0200
TZNAME:CEST
DTSTART:20240331T010000
END:DAYLIGHT
BEGIN:STANDARD
TZOFFSETFROM:+0200
TZOFFSETTO:+0100
TZNAME:CET
DTSTART:20241027T010000
END:STANDARD
BEGIN:DAYLIGHT
TZOFFSETFROM:+0100
TZOFFSETTO:+0200
TZNAME:CEST
DTSTART:20250330T010000
END:DAYLIGHT
BEGIN:STANDARD
TZOFFSETFROM:+0200
TZOFFSETTO:+0100
TZNAME:CET
DTSTART:20251026T010000
END:STANDARD
END:VTIMEZONE
BEGIN:VEVENT
DTSTART;TZID=Europe/Rome:20240906T210000
DTEND;TZID=Europe/Rome:20240906T230000
DTSTAMP:20260421T134833
CREATED:20240523T093425Z
LAST-MODIFIED:20240610T095012Z
UID:2292-1725656400-1725663600@cascinafalchera.it
SUMMARY:Contámináti - Sogno d'una notte di mezza estate
DESCRIPTION:Spettacolo teatrale \nWilliam Shakespeare scrive Sogno di una notte di mezza estate intorno al 1595. La commedia\, dopo l’esordio\, non fu mai rappresentata nella versione integrale fino alla metà del XIX secolo; Sogno di una notte di mezza estate intreccia in un sogno 4 storie d’amore\, quella di Teseo che deve sposare Ippolita\, quella di Lisandro ed Ermia\, di Demetrio ed Elena\, e la coppia reale composta da Titania\, regina delle fate e Oberon\, re degli elfi\, che attraverso il folletto Puck e i suoi incantesimi stravolge amori e coppie.  \nCast: Chiara Biancardi\, Antonio Ciuverca\, Alessandro Coggiola\, Alessandro Dichirico\, Cristina Di Gesú\, Alice Driusso\, Marianna Federici\, Enrico Mondino\, Isabel Pilone\, Pierluigi Vanchieri. Regia di Alberto Barbi. \n  \nLo spettacolo è a pagamento al costo di 10€  [inclusa consumazione _birra o analcolico ] \nL’evento fa parte del palinsesto di Estate in Cascina\, scopri tutti gli altri appuntamenti >>>PROGRAMMA ESTATE IN CASCINA<<<
URL:https://cascinafalchera.it/evento/contaminati-sogno-duna-notte-di-mezza-estate/
LOCATION:Cascina Falchera\, Strada Cuorgnè 109\, Torino
CATEGORIES:Estate in cascina,Spettacolo,Tutti gli eventi
ATTACH;FMTTYPE=image/jpeg:https://cascinafalchera.it/wp-content/uploads/2024/05/Sogno-di-una-notte-di-mezza-estate.jpg
END:VEVENT
END:VCALENDAR