BEGIN:VCALENDAR
VERSION:2.0
PRODID:-//Cascina Falchera - ECPv6.15.12.2//NONSGML v1.0//EN
CALSCALE:GREGORIAN
METHOD:PUBLISH
X-ORIGINAL-URL:https://cascinafalchera.it
X-WR-CALDESC:Eventi per Cascina Falchera
REFRESH-INTERVAL;VALUE=DURATION:PT1H
X-Robots-Tag:noindex
X-PUBLISHED-TTL:PT1H
BEGIN:VTIMEZONE
TZID:Europe/Rome
BEGIN:DAYLIGHT
TZOFFSETFROM:+0100
TZOFFSETTO:+0200
TZNAME:CEST
DTSTART:20230326T010000
END:DAYLIGHT
BEGIN:STANDARD
TZOFFSETFROM:+0200
TZOFFSETTO:+0100
TZNAME:CET
DTSTART:20231029T010000
END:STANDARD
BEGIN:DAYLIGHT
TZOFFSETFROM:+0100
TZOFFSETTO:+0200
TZNAME:CEST
DTSTART:20240331T010000
END:DAYLIGHT
BEGIN:STANDARD
TZOFFSETFROM:+0200
TZOFFSETTO:+0100
TZNAME:CET
DTSTART:20241027T010000
END:STANDARD
BEGIN:DAYLIGHT
TZOFFSETFROM:+0100
TZOFFSETTO:+0200
TZNAME:CEST
DTSTART:20250330T010000
END:DAYLIGHT
BEGIN:STANDARD
TZOFFSETFROM:+0200
TZOFFSETTO:+0100
TZNAME:CET
DTSTART:20251026T010000
END:STANDARD
END:VTIMEZONE
BEGIN:VEVENT
DTSTART;TZID=Europe/Rome:20240511T210000
DTEND;TZID=Europe/Rome:20240511T233000
DTSTAMP:20260421T120308
CREATED:20240410T190805Z
LAST-MODIFIED:20240410T190920Z
UID:1986-1715461200-1715470200@cascinafalchera.it
SUMMARY:Emmanuelle | Dov'è Liana - Heroes Festival
DESCRIPTION:Emmanuelle | Dov’è Liana\nin concerto @Cascina Falchera \nSabato 11 Maggio 2024 | ore 21.00 \n\nDagli spazi di Cascina Falchera parte la quarta edizione del Heroes Festival\, prodotta da Music Innovation Hub al fianco del Festival dello Sviluppo Sostenibile di ASviS\, e presente nel programma del Salone OFF. Dopo la serata iniziale di Venerdì 10 Maggio dove il palco ospiterà il concerto torinese dei Tiromancino\, nella giornata di sabato 11 Maggio le protagoniste saranno Emmanuelle e Dov’è Liana. \n>>> Biglietti <<<\n  \nHeroes Festival è un evento di musica\, innovazione e sostenibilità sociale che unisce protagonisti di alto livello nel settore musicale e change makers che lavorano per gli obiettivi globali dell’Agenda ONU 2030\, in un luogo dove scambiare visioni del mondo e costruire nuove relazioni\, coinvolgendo la comunità locale per generare un impatto visibile\, misurabile e scalabile. Tutte le info su heroesfestival.it
URL:https://cascinafalchera.it/evento/emmanuelle-dove-liana-heroes-festival/
LOCATION:Cascina Falchera\, Strada Cuorgnè 109\, Torino
CATEGORIES:Concerto,Tutti gli eventi
ATTACH;FMTTYPE=image/webp:https://cascinafalchera.it/wp-content/uploads/2024/04/emmanuelle_DoveLiana.webp
END:VEVENT
END:VCALENDAR