BEGIN:VCALENDAR
VERSION:2.0
PRODID:-//Cascina Falchera - ECPv6.15.12.2//NONSGML v1.0//EN
CALSCALE:GREGORIAN
METHOD:PUBLISH
X-WR-CALNAME:Cascina Falchera
X-ORIGINAL-URL:https://cascinafalchera.it
X-WR-CALDESC:Eventi per Cascina Falchera
REFRESH-INTERVAL;VALUE=DURATION:PT1H
X-Robots-Tag:noindex
X-PUBLISHED-TTL:PT1H
BEGIN:VTIMEZONE
TZID:Europe/Rome
BEGIN:DAYLIGHT
TZOFFSETFROM:+0100
TZOFFSETTO:+0200
TZNAME:CEST
DTSTART:20230326T010000
END:DAYLIGHT
BEGIN:STANDARD
TZOFFSETFROM:+0200
TZOFFSETTO:+0100
TZNAME:CET
DTSTART:20231029T010000
END:STANDARD
BEGIN:DAYLIGHT
TZOFFSETFROM:+0100
TZOFFSETTO:+0200
TZNAME:CEST
DTSTART:20240331T010000
END:DAYLIGHT
BEGIN:STANDARD
TZOFFSETFROM:+0200
TZOFFSETTO:+0100
TZNAME:CET
DTSTART:20241027T010000
END:STANDARD
BEGIN:DAYLIGHT
TZOFFSETFROM:+0100
TZOFFSETTO:+0200
TZNAME:CEST
DTSTART:20250330T010000
END:DAYLIGHT
BEGIN:STANDARD
TZOFFSETFROM:+0200
TZOFFSETTO:+0100
TZNAME:CET
DTSTART:20251026T010000
END:STANDARD
END:VTIMEZONE
BEGIN:VEVENT
DTSTART;TZID=Europe/Rome:20240504T180000
DTEND;TZID=Europe/Rome:20240504T220000
DTSTAMP:20260421T114147
CREATED:20240514T155635Z
LAST-MODIFIED:20240514T155635Z
UID:2090-1714845600-1714860000@cascinafalchera.it
SUMMARY:Cascina in corto 2
DESCRIPTION:Dopo il grande successo della prima edizione tenutasi lo scorso febbraio\, la Cascina Falchera è entusiasta di annunciare il ritorno della rassegna di cortometraggi “Cascina in Corto”. Preparatevi per un’altra indimenticabile serata di emozioni cinematografiche che vi cattureranno e vi terranno incollati allo schermo. \n\nSabato 4 maggio a partire dalle ore 18.00 cena più aperitivo: è necessaria la prenotazione. \nI corti in programma: \n“Astice” di Federico Frenzi\n“Sul mancato amore” di Davide Finocchiaro\n“Pupillo” di Gabriele Redaelli\n“Waltz of the Flower” di Aurora Verducci\n“Le Sirene” di Francesco Quadri\n“Il fabbricante di scintille” di Valerio Marcozzi\n“Afasia” di Fabrizio Cassandro\n“The cord of requirement” di Federico Trento\n“Vento” di Pietro Carosio\n“Chiusi alla luce” di Nicola Piovesan
URL:https://cascinafalchera.it/evento/cascina-in-corto-2/
CATEGORIES:Spettacolo,Tutti gli eventi
ATTACH;FMTTYPE=image/png:https://cascinafalchera.it/wp-content/uploads/2024/05/Corti2.png
END:VEVENT
END:VCALENDAR