BEGIN:VCALENDAR
VERSION:2.0
PRODID:-//Cascina Falchera - ECPv6.15.12.2//NONSGML v1.0//EN
CALSCALE:GREGORIAN
METHOD:PUBLISH
X-ORIGINAL-URL:https://cascinafalchera.it
X-WR-CALDESC:Eventi per Cascina Falchera
REFRESH-INTERVAL;VALUE=DURATION:PT1H
X-Robots-Tag:noindex
X-PUBLISHED-TTL:PT1H
BEGIN:VTIMEZONE
TZID:Europe/Rome
BEGIN:DAYLIGHT
TZOFFSETFROM:+0100
TZOFFSETTO:+0200
TZNAME:CEST
DTSTART:20230326T010000
END:DAYLIGHT
BEGIN:STANDARD
TZOFFSETFROM:+0200
TZOFFSETTO:+0100
TZNAME:CET
DTSTART:20231029T010000
END:STANDARD
BEGIN:DAYLIGHT
TZOFFSETFROM:+0100
TZOFFSETTO:+0200
TZNAME:CEST
DTSTART:20240331T010000
END:DAYLIGHT
BEGIN:STANDARD
TZOFFSETFROM:+0200
TZOFFSETTO:+0100
TZNAME:CET
DTSTART:20241027T010000
END:STANDARD
BEGIN:DAYLIGHT
TZOFFSETFROM:+0100
TZOFFSETTO:+0200
TZNAME:CEST
DTSTART:20250330T010000
END:DAYLIGHT
BEGIN:STANDARD
TZOFFSETFROM:+0200
TZOFFSETTO:+0100
TZNAME:CET
DTSTART:20251026T010000
END:STANDARD
END:VTIMEZONE
BEGIN:VEVENT
DTSTART;TZID=Europe/Rome:20240210T103000
DTEND;TZID=Europe/Rome:20240210T123000
DTSTAMP:20260421T161418
CREATED:20240130T145611Z
LAST-MODIFIED:20240206T085733Z
UID:1468-1707561000-1707568200@cascinafalchera.it
SUMMARY:Le mille e una maschera
DESCRIPTION:Creeremo delle originali maschere di Carnevale….andremo alla ricerca dei materiali\, utilizzando i setacci. Ci trasformeremo in esploratori passeggiando nel bosco\, indossando le maschere costruite. Daremo libero sfogo alla fantasia\, scoprendo quanto il bosco può offrirci\, un sabato pieno di avventura\, dove potremo esprimere tutta la nostra fantasia e creatività. \nLaboratorio didattico per famiglie \nPer la partecipazione ai laboratori per famiglie è sempre necessaria la presenza di un adulto che accompagni i bambini. \n(l’attivazione del laboratorio avverrà al raggiungimento minimo dei partecipanti) \nPrenotazione obbligatoria \n>> PRENOTA <<\n(le prenotazioni dovranno avvenire entro giovedì 8 febbraio) \nCosti \nAdulto 10€\nBambina/Bambino 5 € \nIl pagamento potrà essere effettuato direttamente prima dell’evento presso “Il Chioschetto”. \nPagamenti accettati: Contanti | Satispay | Carte
URL:https://cascinafalchera.it/evento/le-mille-e-una-maschera/
LOCATION:Cascina Falchera\, Strada Cuorgnè 109\, Torino
CATEGORIES:Education - Famiglie,Tutti gli eventi
ATTACH;FMTTYPE=image/jpeg:https://cascinafalchera.it/wp-content/uploads/2024/01/maschere.jpeg
END:VEVENT
END:VCALENDAR