BEGIN:VCALENDAR
VERSION:2.0
PRODID:-//Cascina Falchera - ECPv6.15.12.2//NONSGML v1.0//EN
CALSCALE:GREGORIAN
METHOD:PUBLISH
X-WR-CALNAME:Cascina Falchera
X-ORIGINAL-URL:https://cascinafalchera.it
X-WR-CALDESC:Eventi per Cascina Falchera
REFRESH-INTERVAL;VALUE=DURATION:PT1H
X-Robots-Tag:noindex
X-PUBLISHED-TTL:PT1H
BEGIN:VTIMEZONE
TZID:Europe/Rome
BEGIN:DAYLIGHT
TZOFFSETFROM:+0100
TZOFFSETTO:+0200
TZNAME:CEST
DTSTART:20220327T010000
END:DAYLIGHT
BEGIN:STANDARD
TZOFFSETFROM:+0200
TZOFFSETTO:+0100
TZNAME:CET
DTSTART:20221030T010000
END:STANDARD
BEGIN:DAYLIGHT
TZOFFSETFROM:+0100
TZOFFSETTO:+0200
TZNAME:CEST
DTSTART:20230326T010000
END:DAYLIGHT
BEGIN:STANDARD
TZOFFSETFROM:+0200
TZOFFSETTO:+0100
TZNAME:CET
DTSTART:20231029T010000
END:STANDARD
BEGIN:DAYLIGHT
TZOFFSETFROM:+0100
TZOFFSETTO:+0200
TZNAME:CEST
DTSTART:20240331T010000
END:DAYLIGHT
BEGIN:STANDARD
TZOFFSETFROM:+0200
TZOFFSETTO:+0100
TZNAME:CET
DTSTART:20241027T010000
END:STANDARD
END:VTIMEZONE
BEGIN:VEVENT
DTSTART;VALUE=DATE:20231202
DTEND;VALUE=DATE:20231210
DTSTAMP:20260421T190320
CREATED:20231128T084558Z
LAST-MODIFIED:20231204T143558Z
UID:1275-1701475200-1702166399@cascinafalchera.it
SUMMARY:Ecosistema Agroforestale Urbano
DESCRIPTION:Dalla prossima settimana inizieranno i lavori di preparazione del terreno e messa a dimora di diverse piante arboree all’interno degli spazi di Cascina Falchera\, attività prevista per il progetto di riforestazione urbana promosso da Compagnia di San Paolo e in collaborazione con Orti Generali. \nLa messa a dimora si svolgerà sabato 2 e sabato 9 dicembre\, giornate in cui siete invitati tutte e tutti a partecipare ai lavori\, il pranzo ve lo offriamo noi! \nSarà un’attività molto semplice: la predisposizione delle piante e la preparazione del terreno saranno già fatte per cui basterà spostare il terreno con dei guanti che vi daremo e mettere la piantina. \nEcosistema Agroforestale Urbano è un progetto che intende migliorare lo stato naturale\, ecosistemico e paesaggistico delle aree agricole periurbane collocate nella fascia sud e nella fascia nord del territorio torinese. Oltre 12 ettari di terreno – ai due poli opposti della città: Falchera e Mirafiori – saranno trasformati attraverso un modello innovativo di gestione agricola partecipata\, volto alla tutela e al miglioramento dell’ambiente\, dello spazio naturale\, del paesaggio\, del suolo\, delle risorse naturali e della diversità genetica. \nIl ripristino di ecosistemi fortemente compromessi dallo sfruttamento agricolo del passato\, incrocia il più ampio processo di adattamento della città agli effetti del cambiamento climatico\, valorizzando gli interventi tramite processi di partecipazione attiva dei cittadini e l’erogazione di servizi di carattere sociale\, ambientale\, educativo e sperimentale. \nL’appuntamento è in Cascina il 2 e il 9 dicembre con due turni\, il primo alle 9.30\, oppure il pomeriggio alle 14.\nNoi ti offriamo il pranzo! \nPer partecipare è necessario compilare questo modulo https://bit.ly/3un5zQU
URL:https://cascinafalchera.it/evento/ecosistema-agroforestale-urbano/
LOCATION:Cascina Falchera\, Strada Cuorgnè 109\, Torino
CATEGORIES:Tutti gli eventi
ATTACH;FMTTYPE=image/jpeg:https://cascinafalchera.it/wp-content/uploads/2023/11/AgroforestaleUrbano-e1701162804713.jpg
END:VEVENT
END:VCALENDAR