BEGIN:VCALENDAR
VERSION:2.0
PRODID:-//Cascina Falchera - ECPv6.15.12.2//NONSGML v1.0//EN
CALSCALE:GREGORIAN
METHOD:PUBLISH
X-ORIGINAL-URL:https://cascinafalchera.it
X-WR-CALDESC:Eventi per Cascina Falchera
REFRESH-INTERVAL;VALUE=DURATION:PT1H
X-Robots-Tag:noindex
X-PUBLISHED-TTL:PT1H
BEGIN:VTIMEZONE
TZID:Europe/Rome
BEGIN:DAYLIGHT
TZOFFSETFROM:+0100
TZOFFSETTO:+0200
TZNAME:CEST
DTSTART:20220327T010000
END:DAYLIGHT
BEGIN:STANDARD
TZOFFSETFROM:+0200
TZOFFSETTO:+0100
TZNAME:CET
DTSTART:20221030T010000
END:STANDARD
BEGIN:DAYLIGHT
TZOFFSETFROM:+0100
TZOFFSETTO:+0200
TZNAME:CEST
DTSTART:20230326T010000
END:DAYLIGHT
BEGIN:STANDARD
TZOFFSETFROM:+0200
TZOFFSETTO:+0100
TZNAME:CET
DTSTART:20231029T010000
END:STANDARD
BEGIN:DAYLIGHT
TZOFFSETFROM:+0100
TZOFFSETTO:+0200
TZNAME:CEST
DTSTART:20240331T010000
END:DAYLIGHT
BEGIN:STANDARD
TZOFFSETFROM:+0200
TZOFFSETTO:+0100
TZNAME:CET
DTSTART:20241027T010000
END:STANDARD
END:VTIMEZONE
BEGIN:VEVENT
DTSTART;TZID=Europe/Rome:20231007T103000
DTEND;TZID=Europe/Rome:20231007T123000
DTSTAMP:20260421T215536
CREATED:20230921T120340Z
LAST-MODIFIED:20230921T120340Z
UID:927-1696674600-1696681800@cascinafalchera.it
SUMMARY:Alberi che raccontano
DESCRIPTION:Impariamo ad ascoltare il bosco\nUn laboratorio dinamico\, di esplorazione del bosco attraverso un’esperienza guidata e mirata alla percezione degli alberi attraverso tutti i sensi. La riflessione è a partire dal fatto che gli alberi\, pur avendo le radici non sono elementi fermi ma in continuo movimento. Anche noi assomigliamo agli alberi\, come la linfa scorre nel tronco così il sangue scorre nelle nostre vene assicurando vita e crescita. Bambine\, bambini e genitori saranno coinvolti nel sentirsi un po’ alberi\, nel mettersi in ascolto\, avvicinandosi al bosco con rispetto\, rallentando il tempo e imparando ad ascoltare cosa succede in natura. \nLaboratorio didattico per famiglie fascia di età 3-8  \nPer la partecipazione ai laboratori per famiglie è sempre necessaria la presenza di un adulto che accompagni i bambini. \n(l’attivazione del laboratorio avverrà al raggiungimento minimo dei partecipanti) \nPrenotazione obbligatoria \n>> PRENOTA <<\n(le prenotazioni dovranno avvenire entro giovedì 5 ottobre) \nCosti \nAdulto 10€\nBambina/Bambino 5 € \nIl pagamento potrà essere effettuato direttamente prima dell’evento presso “Il Chioschetto”. \nPagamenti accettati: Contanti | Satispay | Carte
URL:https://cascinafalchera.it/evento/alberi-che-raccontano-4/
LOCATION:Cascina Falchera\, Strada Cuorgnè 109\, Torino
CATEGORIES:Education - Famiglie,Tutti gli eventi
ATTACH;FMTTYPE=image/jpeg:https://cascinafalchera.it/wp-content/uploads/2023/05/Esploratori.jpeg
END:VEVENT
BEGIN:VEVENT
DTSTART;TZID=Europe/Rome:20231007T103000
DTEND;TZID=Europe/Rome:20231007T123000
DTSTAMP:20260421T215536
CREATED:20230921T120705Z
LAST-MODIFIED:20230921T120735Z
UID:929-1696674600-1696681800@cascinafalchera.it
SUMMARY:Piccole grandi esplorazioni
DESCRIPTION:Piccoli scienziati nell’orto\nEsperienza che coinvolge bambine\, bambini e genitori in un’ esplorazione nei panni di scienziati e scienziate con le mani in pasta. Attraverso lenti d’ingrandimento\, microscopi tradizionali e digitali si potrà osservare e analizzare la vegetazione presente nell’orto didattico. La missione sarà scoprire cosa c’è dentro le foglie\, di cosa sono fatti i sassi\, se i fili d’erba sono tutti uguali e soprattutto cosa si nasconde tra i fiori e la terra. Partendo da una visita libera si raccoglieranno materiali naturali per confrontarsi su ipotesi e domande aperte rispetto a quanto scoperto\, per poi passare all’utilizzo dei microscopi per andare a vedere da molto vicino cosa si nasconde in natura. \nLaboratorio didattico per famiglie fascia di età 3-8  \nPer la partecipazione ai laboratori per famiglie è sempre necessaria la presenza  di un adulto che accompagni i bambini. \n(l’attivazione del laboratorio avverrà al raggiungimento minimo dei partecipanti) \nPrenotazione obbligatoria \n>> PRENOTA <<\n(le prenotazioni dovranno avvenire entro giovedì 5 ottobre) \nCosti \nAdulto 10€\nBambina/Bambino 5 € \nIl pagamento potrà essere effettuato direttamente prima dell’evento presso “Il Chioschetto”. \nPagamenti accettati: Contanti | Satispay | Carte \n  \nN.B. Il laboratorio si svolgerà con un’adesione minima di 8 famiglie\, nel caso non si raggiungesse tale adesione verrà erogato uno solo dei laboratori previsti\, unendo i due gruppi ed erogando il laboratorio con la maggiore adesione ricevuta.
URL:https://cascinafalchera.it/evento/piccole-grandi-esplorazioni-4/
LOCATION:Cascina Falchera\, Strada Cuorgnè 109\, Torino
CATEGORIES:Education - Famiglie,Tutti gli eventi
ATTACH;FMTTYPE=image/jpeg:https://cascinafalchera.it/wp-content/uploads/2023/05/PICCOLE-GRANDI-ESPLORAZIONI-e1685465087471.jpg
END:VEVENT
BEGIN:VEVENT
DTSTART;TZID=Europe/Rome:20231007T193000
DTEND;TZID=Europe/Rome:20231007T220000
DTSTAMP:20260421T215536
CREATED:20230925T101351Z
LAST-MODIFIED:20230927T123909Z
UID:957-1696707000-1696716000@cascinafalchera.it
SUMMARY:Il concerto di Miriam Ulivi e Daniela Taglioni
DESCRIPTION:LA DONNA CANTATA DALLE DONNE\nMiriam Ulivi (voce) e Daniela Taglioni (fisarmonica) interpretano brani portati al successo dalle grandi cantanti che hanno accompagnato\, nel loro piccolo\, il rinnovamento culturale delle italiane.\nUn omaggio ad alcune delle donne del panorama musicale italiano che – ciascuna a suo modo – hanno rappresentato e accompagnato la trasformazione dei modelli femminili nell’immaginario collettivo del Paese. \nLa fisarmonica\, uno degli strumenti principali del folk italiano\, esegue un repertorio tratto dalla musica pop\, ovvero i “nuovi classici” della tradizione italiana\, comprendendo autori come Paolo Conte e Franco Battiato. La videoscenografia è dedicata alla rappresentazione della donna negli home movies: storie e sguardi femminili sul mondo\, grazie ai film di famiglia dell’Archivio Superottimisti. Il montaggio è a cura di Giulia Carbonero. \n  \nCosto del concerto 5€ \nIl pagamento potrà essere effettuato direttamente prima dell’evento presso “Il Chioschetto”. \nPagamenti accettati: Contanti | Satispay | Carte \n  \n>>PRENOTA<<
URL:https://cascinafalchera.it/evento/il-concerto-di-miriam-ulivi-e-daniela-taglioni/
LOCATION:Chioschetto – Cascina Falchera\, Strada Cuorgnè 109\, Torino
CATEGORIES:Chioschetto,Concerto,Tutti gli eventi
ATTACH;FMTTYPE=image/jpeg:https://cascinafalchera.it/wp-content/uploads/2023/09/Ulivi-Taglioni.jpg
END:VEVENT
END:VCALENDAR