BEGIN:VCALENDAR
VERSION:2.0
PRODID:-//Cascina Falchera - ECPv6.15.12.2//NONSGML v1.0//EN
CALSCALE:GREGORIAN
METHOD:PUBLISH
X-WR-CALNAME:Cascina Falchera
X-ORIGINAL-URL:https://cascinafalchera.it
X-WR-CALDESC:Eventi per Cascina Falchera
REFRESH-INTERVAL;VALUE=DURATION:PT1H
X-Robots-Tag:noindex
X-PUBLISHED-TTL:PT1H
BEGIN:VTIMEZONE
TZID:Europe/Rome
BEGIN:DAYLIGHT
TZOFFSETFROM:+0100
TZOFFSETTO:+0200
TZNAME:CEST
DTSTART:20220327T010000
END:DAYLIGHT
BEGIN:STANDARD
TZOFFSETFROM:+0200
TZOFFSETTO:+0100
TZNAME:CET
DTSTART:20221030T010000
END:STANDARD
BEGIN:DAYLIGHT
TZOFFSETFROM:+0100
TZOFFSETTO:+0200
TZNAME:CEST
DTSTART:20230326T010000
END:DAYLIGHT
BEGIN:STANDARD
TZOFFSETFROM:+0200
TZOFFSETTO:+0100
TZNAME:CET
DTSTART:20231029T010000
END:STANDARD
BEGIN:DAYLIGHT
TZOFFSETFROM:+0100
TZOFFSETTO:+0200
TZNAME:CEST
DTSTART:20240331T010000
END:DAYLIGHT
BEGIN:STANDARD
TZOFFSETFROM:+0200
TZOFFSETTO:+0100
TZNAME:CET
DTSTART:20241027T010000
END:STANDARD
END:VTIMEZONE
BEGIN:VEVENT
DTSTART;TZID=Europe/Rome:20230930T100000
DTEND;TZID=Europe/Rome:20230930T170000
DTSTAMP:20260421T215537
CREATED:20230830T091445Z
LAST-MODIFIED:20230830T091445Z
UID:891-1696068000-1696093200@cascinafalchera.it
SUMMARY:WATER SAVING CAMP | Diventa anche tu una gocciolina di Cascina Falchera
DESCRIPTION:Quale può essere il contributo di ciascunə di noi per salvaguardare le riserve idriche? Siamo davvero una goccia nel mare? E se più gocce si mettessero insieme\, quale potrebbe essere il loro potere di cambiare lo scenario attuale? \nSe hai tra i 15 e i 29 anni\, ti invitiamo a essere una di quelle gocce per il quartiere Falchera. \nSarai coinvoltə in azioni sul campo\, passeggiate di esplorazione urbana\, produzione di paesaggi sonori e progetti narrativi per creare una piccola comunità di attivatori di energie trasformative sul territorio. \nL’acqua è la prima risorsa naturale intorno a cui si sono sviluppate le città\, dal punto di vista geografico ed economico. Nonostante i continui cambiamenti del reticolato urbano\, resta il primo bene comune per le comunità. \nNelle sue prossimità si conserva una gran parte del patrimonio di biodiversità urbana\, che oggi è vitale salvaguardare e rinforzare. \nUna serie di workshop indaga attraverso quali azioni l’acqua può diventare uno strumento contro il cambiamento climatico\, un’infrastruttura sociale e una storia da raccontare. \nL’iscrizione* è gratuita tramite questo link \n>>>ISCRIVITI<<<\n30 Settembre | h 10 – 17 \n\nRaccontare le città e gli spazi: storie bellissime raccontate bene.\nLa Natura come protagonista: casi di trasformazioni urbane bellissime.\nL’acqua di Falchera_suono\, corpo\, paesaggio. Laboratorio di ideazione\, editing e montaggio di una traccia sonora con suoni ambientali\, a cura di Tecnologia Filosofica (Francesca Cinalli\, Paolo De Santis)\n\n*È gradita la partecipazione a tutto il ciclo di workshop (17 giugno\, 1 luglio\, 6\, 9 e 30 settembre)\, ma è possibile prendere parte anche ai singoli appuntamenti. \n  \nWATER SAVING CAMP\nDiventa anche tu una gocciolina di Cascina Falchera\na cura di NÈE storytelling 100% naturale (Elisa Campra\, Nicoletta Daldanise\, Elena Miglietti)\nall’interno di DESIRE The Irresistible Circular Society progetto faro del New European Bauhaus\, finanziato dall’Unione Europea nell’ambito del programma Horizon
URL:https://cascinafalchera.it/evento/water-saving-camp-diventa-anche-tu-una-gocciolina-di-cascina-falchera-3/
LOCATION:Cascina Falchera\, Strada Cuorgnè 109\, Torino
CATEGORIES:Education - Adulti
ATTACH;FMTTYPE=image/png:https://cascinafalchera.it/wp-content/uploads/2023/06/IMG_0012-2.png
END:VEVENT
BEGIN:VEVENT
DTSTART;TZID=Europe/Rome:20230930T183000
DTEND;TZID=Europe/Rome:20231001T000000
DTSTAMP:20260421T215537
CREATED:20230807T153009Z
LAST-MODIFIED:20230807T153009Z
UID:840-1696098600-1696118400@cascinafalchera.it
SUMMARY:Aperitivo dell'Accoglienza
DESCRIPTION:Aperitivo con musica in occasione della Festa dell’Accoglienza di Casa Affido
URL:https://cascinafalchera.it/evento/aperitivo-dellaccoglienza/
LOCATION:Chioschetto – Cascina Falchera\, Strada Cuorgnè 109\, Torino
CATEGORIES:Chioschetto,Tutti gli eventi
ATTACH;FMTTYPE=image/jpeg:https://cascinafalchera.it/wp-content/uploads/2023/05/cascina-falchera-apre-alla-citta-foto-marzia-allietta-57-copia.jpg
END:VEVENT
END:VCALENDAR